BEGIN:VCALENDAR
VERSION:2.0
PRODID:-//THE AMERICAN BULLY KENNEL CLUB - ECPv6.15.18//NONSGML v1.0//EN
CALSCALE:GREGORIAN
METHOD:PUBLISH
X-ORIGINAL-URL:https://abkcdogs.net
X-WR-CALDESC:Events for THE AMERICAN BULLY KENNEL CLUB
REFRESH-INTERVAL;VALUE=DURATION:PT1H
X-Robots-Tag:noindex
X-PUBLISHED-TTL:PT1H
BEGIN:VTIMEZONE
TZID:America/New_York
BEGIN:DAYLIGHT
TZOFFSETFROM:-0500
TZOFFSETTO:-0400
TZNAME:EDT
DTSTART:20240310T070000
END:DAYLIGHT
BEGIN:STANDARD
TZOFFSETFROM:-0400
TZOFFSETTO:-0500
TZNAME:EST
DTSTART:20241103T060000
END:STANDARD
BEGIN:DAYLIGHT
TZOFFSETFROM:-0500
TZOFFSETTO:-0400
TZNAME:EDT
DTSTART:20250309T070000
END:DAYLIGHT
BEGIN:STANDARD
TZOFFSETFROM:-0400
TZOFFSETTO:-0500
TZNAME:EST
DTSTART:20251102T060000
END:STANDARD
BEGIN:DAYLIGHT
TZOFFSETFROM:-0500
TZOFFSETTO:-0400
TZNAME:EDT
DTSTART:20260308T070000
END:DAYLIGHT
BEGIN:STANDARD
TZOFFSETFROM:-0400
TZOFFSETTO:-0500
TZNAME:EST
DTSTART:20261101T060000
END:STANDARD
END:VTIMEZONE
BEGIN:VEVENT
DTSTART;VALUE=DATE:20250531
DTEND;VALUE=DATE:20250601
DTSTAMP:20260421T120632
CREATED:20250210T174601Z
LAST-MODIFIED:20250210T174602Z
UID:27652-1748649600-1748735999@abkcdogs.net
SUMMARY:Carolina Bully Convention 9
DESCRIPTION:Judges: TBA\, TBA\, TBA\, TBA \nAmerican Bully\nShortybull\nFrench Bulldog\nEnglish Bulldog\nOlde English Bulldogge\nJr Handler
URL:https://abkcdogs.net/events/carolina-bully-convention-9/
LOCATION:Winston Salem Fairgrounds\, Education Building - 2886 Shorefair Drive\, Winston-Salem\, NC\, 27105\, United States
END:VEVENT
BEGIN:VEVENT
DTSTART;VALUE=DATE:20250531
DTEND;VALUE=DATE:20250601
DTSTAMP:20260421T120632
CREATED:20250324T172803Z
LAST-MODIFIED:20250324T172803Z
UID:27925-1748649600-1748735999@abkcdogs.net
SUMMARY:King of the Ring Kan Ozoux Show
DESCRIPTION:Judges: Adrian Stoian\, Gabriel Paun \nAmerican Bully
URL:https://abkcdogs.net/events/king-of-the-ring-kan-ozoux-show/
LOCATION:Plateau Noir De Bellepierre\, Saint-Demis Reunion\, Reunion\, 97600\, France
END:VEVENT
END:VCALENDAR