BEGIN:VCALENDAR
VERSION:2.0
PRODID:-//THE AMERICAN BULLY KENNEL CLUB - ECPv6.15.18//NONSGML v1.0//EN
CALSCALE:GREGORIAN
METHOD:PUBLISH
X-ORIGINAL-URL:https://abkcdogs.net
X-WR-CALDESC:Events for THE AMERICAN BULLY KENNEL CLUB
REFRESH-INTERVAL;VALUE=DURATION:PT1H
X-Robots-Tag:noindex
X-PUBLISHED-TTL:PT1H
BEGIN:VTIMEZONE
TZID:America/New_York
BEGIN:DAYLIGHT
TZOFFSETFROM:-0500
TZOFFSETTO:-0400
TZNAME:EDT
DTSTART:20240310T070000
END:DAYLIGHT
BEGIN:STANDARD
TZOFFSETFROM:-0400
TZOFFSETTO:-0500
TZNAME:EST
DTSTART:20241103T060000
END:STANDARD
BEGIN:DAYLIGHT
TZOFFSETFROM:-0500
TZOFFSETTO:-0400
TZNAME:EDT
DTSTART:20250309T070000
END:DAYLIGHT
BEGIN:STANDARD
TZOFFSETFROM:-0400
TZOFFSETTO:-0500
TZNAME:EST
DTSTART:20251102T060000
END:STANDARD
BEGIN:DAYLIGHT
TZOFFSETFROM:-0500
TZOFFSETTO:-0400
TZNAME:EDT
DTSTART:20260308T070000
END:DAYLIGHT
BEGIN:STANDARD
TZOFFSETFROM:-0400
TZOFFSETTO:-0500
TZNAME:EST
DTSTART:20261101T060000
END:STANDARD
END:VTIMEZONE
BEGIN:VEVENT
DTSTART;VALUE=DATE:20251025
DTEND;VALUE=DATE:20251027
DTSTAMP:20260419T222507
CREATED:20250715T021027Z
LAST-MODIFIED:20250715T152138Z
UID:28457-1761350400-1761523199@abkcdogs.net
SUMMARY:Halloween Russia Show
DESCRIPTION:2 Day Event \nJudges:  TBA\, TBA\, TBA\, TBA \nAmerican Bully
URL:https://abkcdogs.net/events/halloween-russia-show/
LOCATION:Krokys Expo\, Russian Federation
END:VEVENT
BEGIN:VEVENT
DTSTART;VALUE=DATE:20251026
DTEND;VALUE=DATE:20251027
DTSTAMP:20260419T222507
CREATED:20250430T151725Z
LAST-MODIFIED:20250430T174221Z
UID:28211-1761436800-1761523199@abkcdogs.net
SUMMARY:Lima La Gris 2 - 10 Anos Peru
DESCRIPTION:Judges: TBA\, TBA\, TBA \nAmerican Bully\nAPBT\nFrench Bulldog\nEnglish Bulldog
URL:https://abkcdogs.net/events/lima-la-gris-2-10-anos-peru/
LOCATION:San Juan de Lurigancho\, Lima\, 15419\, Peru
ORGANIZER;CN="Julio Cesar Quispe Conde":MAILTO:gbcamp03@gmail.com
END:VEVENT
END:VCALENDAR