BEGIN:VCALENDAR
VERSION:2.0
PRODID:-//THE AMERICAN BULLY KENNEL CLUB - ECPv6.15.18//NONSGML v1.0//EN
CALSCALE:GREGORIAN
METHOD:PUBLISH
X-WR-CALNAME:THE AMERICAN BULLY KENNEL CLUB
X-ORIGINAL-URL:https://abkcdogs.net
X-WR-CALDESC:Events for THE AMERICAN BULLY KENNEL CLUB
REFRESH-INTERVAL;VALUE=DURATION:PT1H
X-Robots-Tag:noindex
X-PUBLISHED-TTL:PT1H
BEGIN:VTIMEZONE
TZID:America/New_York
BEGIN:DAYLIGHT
TZOFFSETFROM:-0500
TZOFFSETTO:-0400
TZNAME:EDT
DTSTART:20240310T070000
END:DAYLIGHT
BEGIN:STANDARD
TZOFFSETFROM:-0400
TZOFFSETTO:-0500
TZNAME:EST
DTSTART:20241103T060000
END:STANDARD
BEGIN:DAYLIGHT
TZOFFSETFROM:-0500
TZOFFSETTO:-0400
TZNAME:EDT
DTSTART:20250309T070000
END:DAYLIGHT
BEGIN:STANDARD
TZOFFSETFROM:-0400
TZOFFSETTO:-0500
TZNAME:EST
DTSTART:20251102T060000
END:STANDARD
BEGIN:DAYLIGHT
TZOFFSETFROM:-0500
TZOFFSETTO:-0400
TZNAME:EDT
DTSTART:20260308T070000
END:DAYLIGHT
BEGIN:STANDARD
TZOFFSETFROM:-0400
TZOFFSETTO:-0500
TZNAME:EST
DTSTART:20261101T060000
END:STANDARD
END:VTIMEZONE
BEGIN:VEVENT
DTSTART;VALUE=DATE:20251122
DTEND;VALUE=DATE:20251124
DTSTAMP:20260419T185301
CREATED:20250625T161805Z
LAST-MODIFIED:20250625T161826Z
UID:28382-1763769600-1763942399@abkcdogs.net
SUMMARY:Regionales Ecuador
DESCRIPTION:2 Day Event\n5 Shows \nJudges: TBA \nAmerican Bully\nAPBT\nFrench Bulldog\nEnglish Bulldog\nBull Terrier\nCane Corso\nDaschund\nDoberman
URL:https://abkcdogs.net/events/regionales-ecuador/
LOCATION:Av. Manuel Cordova Galarza SN\, Quito\, Mitad Del Mundo\, 170311\, Ecuador
END:VEVENT
BEGIN:VEVENT
DTSTART;VALUE=DATE:20251123
DTEND;VALUE=DATE:20251124
DTSTAMP:20260419T185301
CREATED:20251022T155917Z
LAST-MODIFIED:20251022T155920Z
UID:28788-1763856000-1763942399@abkcdogs.net
SUMMARY:MexicaliBullyz
DESCRIPTION:Judges: Felix Betancourt\, TBA\, TBA\, TBA \nAmerican Bully\nAPBT\nFrench Bulldog\nEnglish Bulldog\nBull Terrier\nBoxer\nDoberman
URL:https://abkcdogs.net/events/mexicalibullyz/
LOCATION:Parque Vicente Guerrero\, Mexicali\, Mexico
ORGANIZER;CN="Roberto Garcia":MAILTO:mexicalibullyz@gmail.com
END:VEVENT
END:VCALENDAR