BEGIN:VCALENDAR
VERSION:2.0
PRODID:-//THE AMERICAN BULLY KENNEL CLUB - ECPv6.15.18//NONSGML v1.0//EN
CALSCALE:GREGORIAN
METHOD:PUBLISH
X-ORIGINAL-URL:https://abkcdogs.net
X-WR-CALDESC:Events for THE AMERICAN BULLY KENNEL CLUB
REFRESH-INTERVAL;VALUE=DURATION:PT1H
X-Robots-Tag:noindex
X-PUBLISHED-TTL:PT1H
BEGIN:VTIMEZONE
TZID:America/New_York
BEGIN:DAYLIGHT
TZOFFSETFROM:-0500
TZOFFSETTO:-0400
TZNAME:EDT
DTSTART:20250309T070000
END:DAYLIGHT
BEGIN:STANDARD
TZOFFSETFROM:-0400
TZOFFSETTO:-0500
TZNAME:EST
DTSTART:20251102T060000
END:STANDARD
BEGIN:DAYLIGHT
TZOFFSETFROM:-0500
TZOFFSETTO:-0400
TZNAME:EDT
DTSTART:20260308T070000
END:DAYLIGHT
BEGIN:STANDARD
TZOFFSETFROM:-0400
TZOFFSETTO:-0500
TZNAME:EST
DTSTART:20261101T060000
END:STANDARD
BEGIN:DAYLIGHT
TZOFFSETFROM:-0500
TZOFFSETTO:-0400
TZNAME:EDT
DTSTART:20270314T070000
END:DAYLIGHT
BEGIN:STANDARD
TZOFFSETFROM:-0400
TZOFFSETTO:-0500
TZNAME:EST
DTSTART:20271107T060000
END:STANDARD
END:VTIMEZONE
BEGIN:VEVENT
DTSTART;VALUE=DATE:20260117
DTEND;VALUE=DATE:20260118
DTSTAMP:20260419T152854
CREATED:20250625T154519Z
LAST-MODIFIED:20250625T154520Z
UID:28358-1768608000-1768694399@abkcdogs.net
SUMMARY:ABKC Season Opener 2026
DESCRIPTION:Judges: TBA\, TBA\, TBA\, TBA \nAmerican Bully\nShortybull\nFrench Bulldog\nOlde English Bulldogge\nJr Handler
URL:https://abkcdogs.net/events/abkc-season-opener-2026/
LOCATION:Columbus Trade & Convention Center\, 801 Front Ave\, Columbus\, GA\, 31901\, United States
ORGANIZER;CN="Rolando Mata":MAILTO:abkcseasonopener@gmail.com
END:VEVENT
BEGIN:VEVENT
DTSTART;VALUE=DATE:20260117
DTEND;VALUE=DATE:20260118
DTSTAMP:20260419T152854
CREATED:20251219T180137Z
LAST-MODIFIED:20251219T180425Z
UID:29033-1768608000-1768694399@abkcdogs.net
SUMMARY:EuroNationals 2026 & Ro ABKC Mania Trophy Show
DESCRIPTION:EuroNationals Judges: Sergio Dufort – American Bully & Susan Fedorsha – Multi-Breed/Juniors\nRo ABKC Mania Judge: Damir Markov \nAmerican Bully\nAPBT\nAm Staff\nShortybull\nFrench Bulldog\nOlde English Bulldogge\nEnglish Bulldog\nAmerican Bulldog\nBull Terrier\nJr Handler
URL:https://abkcdogs.net/events/euronationals-2026-ro-abkc-mania-trophy-show-2/
LOCATION:Arad\, Arad\, Romania
ORGANIZER;CN="Gabriel Paun":MAILTO:paunseditionkennel@gmail.com
END:VEVENT
END:VCALENDAR