BEGIN:VCALENDAR
VERSION:2.0
PRODID:-//THE AMERICAN BULLY KENNEL CLUB - ECPv6.15.18//NONSGML v1.0//EN
CALSCALE:GREGORIAN
METHOD:PUBLISH
X-ORIGINAL-URL:https://abkcdogs.net
X-WR-CALDESC:Events for THE AMERICAN BULLY KENNEL CLUB
REFRESH-INTERVAL;VALUE=DURATION:PT1H
X-Robots-Tag:noindex
X-PUBLISHED-TTL:PT1H
BEGIN:VTIMEZONE
TZID:America/New_York
BEGIN:DAYLIGHT
TZOFFSETFROM:-0500
TZOFFSETTO:-0400
TZNAME:EDT
DTSTART:20250309T070000
END:DAYLIGHT
BEGIN:STANDARD
TZOFFSETFROM:-0400
TZOFFSETTO:-0500
TZNAME:EST
DTSTART:20251102T060000
END:STANDARD
BEGIN:DAYLIGHT
TZOFFSETFROM:-0500
TZOFFSETTO:-0400
TZNAME:EDT
DTSTART:20260308T070000
END:DAYLIGHT
BEGIN:STANDARD
TZOFFSETFROM:-0400
TZOFFSETTO:-0500
TZNAME:EST
DTSTART:20261101T060000
END:STANDARD
BEGIN:DAYLIGHT
TZOFFSETFROM:-0500
TZOFFSETTO:-0400
TZNAME:EDT
DTSTART:20270314T070000
END:DAYLIGHT
BEGIN:STANDARD
TZOFFSETFROM:-0400
TZOFFSETTO:-0500
TZNAME:EST
DTSTART:20271107T060000
END:STANDARD
END:VTIMEZONE
BEGIN:VEVENT
DTSTART;VALUE=DATE:20260411
DTEND;VALUE=DATE:20260412
DTSTAMP:20260419T105057
CREATED:20251219T180923Z
LAST-MODIFIED:20260224T153737Z
UID:29040-1775865600-1775951999@abkcdogs.net
SUMMARY:Carolina Bully Convention 10
DESCRIPTION:Judges: TBA\, TBA\, TBA\, TBA \nAmerican Bully\nShortybull\nFrench Bulldog\nOlde English Bulldogge\nJr Handler
URL:https://abkcdogs.net/events/carolina-bully-convention-9-2/
LOCATION:Winston Salem Fairgrounds\, Education Building - 2886 Shorefair Drive\, Winston-Salem\, NC\, 27105\, United States
ATTACH;FMTTYPE=image/jpeg:https://abkcdogs.net/wp-content/uploads/2025/12/4.11-nc.jpg
END:VEVENT
BEGIN:VEVENT
DTSTART;VALUE=DATE:20260411
DTEND;VALUE=DATE:20260412
DTSTAMP:20260419T105057
CREATED:20260224T154303Z
LAST-MODIFIED:20260224T154305Z
UID:29418-1775865600-1775951999@abkcdogs.net
SUMMARY:ABKC Show of Slovakia at Ranch 13
DESCRIPTION:Judges: Gabriel Paun\, Brian Peterson\, TBA\, TBA \nAmerican Bully\nJr Handler
URL:https://abkcdogs.net/events/abkc-show-of-slovakia-at-ranch-13/
LOCATION:Ranch 13\, Antionstmiska dolina\, Nemsova\, Slovakia (Slovak Republic)
ORGANIZER;CN="Marian Gabris":MAILTO:abkcslovakia@gmail.com
END:VEVENT
END:VCALENDAR