BEGIN:VCALENDAR
VERSION:2.0
PRODID:-//THE AMERICAN BULLY KENNEL CLUB - ECPv6.15.18//NONSGML v1.0//EN
CALSCALE:GREGORIAN
METHOD:PUBLISH
X-WR-CALNAME:THE AMERICAN BULLY KENNEL CLUB
X-ORIGINAL-URL:https://abkcdogs.net
X-WR-CALDESC:Events for THE AMERICAN BULLY KENNEL CLUB
REFRESH-INTERVAL;VALUE=DURATION:PT1H
X-Robots-Tag:noindex
X-PUBLISHED-TTL:PT1H
BEGIN:VTIMEZONE
TZID:America/New_York
BEGIN:DAYLIGHT
TZOFFSETFROM:-0500
TZOFFSETTO:-0400
TZNAME:EDT
DTSTART:20250309T070000
END:DAYLIGHT
BEGIN:STANDARD
TZOFFSETFROM:-0400
TZOFFSETTO:-0500
TZNAME:EST
DTSTART:20251102T060000
END:STANDARD
BEGIN:DAYLIGHT
TZOFFSETFROM:-0500
TZOFFSETTO:-0400
TZNAME:EDT
DTSTART:20260308T070000
END:DAYLIGHT
BEGIN:STANDARD
TZOFFSETFROM:-0400
TZOFFSETTO:-0500
TZNAME:EST
DTSTART:20261101T060000
END:STANDARD
BEGIN:DAYLIGHT
TZOFFSETFROM:-0500
TZOFFSETTO:-0400
TZNAME:EDT
DTSTART:20270314T070000
END:DAYLIGHT
BEGIN:STANDARD
TZOFFSETFROM:-0400
TZOFFSETTO:-0500
TZNAME:EST
DTSTART:20271107T060000
END:STANDARD
END:VTIMEZONE
BEGIN:VEVENT
DTSTART;VALUE=DATE:20260425
DTEND;VALUE=DATE:20260426
DTSTAMP:20260419T104800
CREATED:20260224T162105Z
LAST-MODIFIED:20260224T162108Z
UID:29427-1777075200-1777161599@abkcdogs.net
SUMMARY:Made in Italy Bully Show Vol. 2
DESCRIPTION:Judges: James Aba\, Adrian Stoian\, Angel De Zayas\, Nico Van Diejzen \nAmerican Bully\nAPBT\nShortybull\nFrench Bulldog\nJr Handler
URL:https://abkcdogs.net/events/made-in-italy-bully-show-vol-2/
LOCATION:Palazzetto Dello Sport\, Gerenzano via Inglesina 37\, Gerenano\, 21040\, Italy
ATTACH;FMTTYPE=image/jpeg:https://abkcdogs.net/wp-content/uploads/2026/02/Italy.jpg
ORGANIZER;CN="Giuseppe Sgandvrra":MAILTO:comixartph@libero.it
END:VEVENT
BEGIN:VEVENT
DTSTART;VALUE=DATE:20260425
DTEND;VALUE=DATE:20260427
DTSTAMP:20260419T104800
CREATED:20251002T160546Z
LAST-MODIFIED:20251002T160548Z
UID:28721-1777075200-1777247999@abkcdogs.net
SUMMARY:Spring Bully Fest 6 - Imperial Valley Edition
DESCRIPTION:2 Day Event\n8 Shows \nJudges: TBD \nAmerican Bully\nFrench Bulldog\nOlde English Bulldogge
URL:https://abkcdogs.net/events/spring-bully-fest-6-imperial-valley-edition/
LOCATION:Imperial Valley Fairgrounds\, 200 East Street\, Imperial\, CA\, 92251\, United States
ORGANIZER;CN="Vanessa Cuevas":MAILTO:vanessac1976@gmail.com
END:VEVENT
END:VCALENDAR