BEGIN:VCALENDAR
VERSION:2.0
PRODID:-//THE AMERICAN BULLY KENNEL CLUB - ECPv6.15.18//NONSGML v1.0//EN
CALSCALE:GREGORIAN
METHOD:PUBLISH
X-ORIGINAL-URL:https://abkcdogs.net
X-WR-CALDESC:Events for THE AMERICAN BULLY KENNEL CLUB
REFRESH-INTERVAL;VALUE=DURATION:PT1H
X-Robots-Tag:noindex
X-PUBLISHED-TTL:PT1H
BEGIN:VTIMEZONE
TZID:America/New_York
BEGIN:DAYLIGHT
TZOFFSETFROM:-0500
TZOFFSETTO:-0400
TZNAME:EDT
DTSTART:20250309T070000
END:DAYLIGHT
BEGIN:STANDARD
TZOFFSETFROM:-0400
TZOFFSETTO:-0500
TZNAME:EST
DTSTART:20251102T060000
END:STANDARD
BEGIN:DAYLIGHT
TZOFFSETFROM:-0500
TZOFFSETTO:-0400
TZNAME:EDT
DTSTART:20260308T070000
END:DAYLIGHT
BEGIN:STANDARD
TZOFFSETFROM:-0400
TZOFFSETTO:-0500
TZNAME:EST
DTSTART:20261101T060000
END:STANDARD
BEGIN:DAYLIGHT
TZOFFSETFROM:-0500
TZOFFSETTO:-0400
TZNAME:EDT
DTSTART:20270314T070000
END:DAYLIGHT
BEGIN:STANDARD
TZOFFSETFROM:-0400
TZOFFSETTO:-0500
TZNAME:EST
DTSTART:20271107T060000
END:STANDARD
END:VTIMEZONE
BEGIN:VEVENT
DTSTART;VALUE=DATE:20260502
DTEND;VALUE=DATE:20260504
DTSTAMP:20260419T104922
CREATED:20251219T181950Z
LAST-MODIFIED:20260121T171339Z
UID:29047-1777680000-1777852799@abkcdogs.net
SUMMARY:Cinco De Mayo Bully Ball 3
DESCRIPTION:2 Day Event\n4 Shows Friday\n3 Shows Saturday \nJudges: Rolando Mata\, Alex Perez\, Joakin Acedo\, Jesus Garcia Rodriguez\, TBA\, TBA\, TBA \nAmerican Bully\nShortybull\nFrench Bulldog\nOlde English Bulldogge\nJr Handler
URL:https://abkcdogs.net/events/cinco-de-mayo-bully-ball-3/
LOCATION:Kiwanis Community Center\, 20096 Kiwanis Dr\, Andalusia\, AL\, 36420\, United States
ATTACH;FMTTYPE=image/jpeg:https://abkcdogs.net/wp-content/uploads/2025/12/5.2.26-AL.jpg
END:VEVENT
BEGIN:VEVENT
DTSTART;VALUE=DATE:20260503
DTEND;VALUE=DATE:20260504
DTSTAMP:20260419T104922
CREATED:20260121T205913Z
LAST-MODIFIED:20260121T205915Z
UID:29336-1777766400-1777852799@abkcdogs.net
SUMMARY:Lima La Gris 3
DESCRIPTION:Judges: TBA\, TBA\, TBA \nAmerican Bully\nAPBT\nFrench Bulldog\nEnglish Bulldog
URL:https://abkcdogs.net/events/lima-la-gris-3/
LOCATION:San Juan de Lurigancho\, Lima\, 15419\, Peru
ATTACH;FMTTYPE=image/png:https://abkcdogs.net/wp-content/uploads/2026/01/BANNER-PERU.png
ORGANIZER;CN="Julio Cesar Quispe Conde":MAILTO:gbcamp03@gmail.com
END:VEVENT
END:VCALENDAR