BEGIN:VCALENDAR
VERSION:2.0
PRODID:-//THE AMERICAN BULLY KENNEL CLUB - ECPv6.15.18//NONSGML v1.0//EN
CALSCALE:GREGORIAN
METHOD:PUBLISH
X-WR-CALNAME:THE AMERICAN BULLY KENNEL CLUB
X-ORIGINAL-URL:https://abkcdogs.net
X-WR-CALDESC:Events for THE AMERICAN BULLY KENNEL CLUB
REFRESH-INTERVAL;VALUE=DURATION:PT1H
X-Robots-Tag:noindex
X-PUBLISHED-TTL:PT1H
BEGIN:VTIMEZONE
TZID:America/New_York
BEGIN:DAYLIGHT
TZOFFSETFROM:-0500
TZOFFSETTO:-0400
TZNAME:EDT
DTSTART:20240310T070000
END:DAYLIGHT
BEGIN:STANDARD
TZOFFSETFROM:-0400
TZOFFSETTO:-0500
TZNAME:EST
DTSTART:20241103T060000
END:STANDARD
BEGIN:DAYLIGHT
TZOFFSETFROM:-0500
TZOFFSETTO:-0400
TZNAME:EDT
DTSTART:20250309T070000
END:DAYLIGHT
BEGIN:STANDARD
TZOFFSETFROM:-0400
TZOFFSETTO:-0500
TZNAME:EST
DTSTART:20251102T060000
END:STANDARD
BEGIN:DAYLIGHT
TZOFFSETFROM:-0500
TZOFFSETTO:-0400
TZNAME:EDT
DTSTART:20260308T070000
END:DAYLIGHT
BEGIN:STANDARD
TZOFFSETFROM:-0400
TZOFFSETTO:-0500
TZNAME:EST
DTSTART:20261101T060000
END:STANDARD
END:VTIMEZONE
BEGIN:VEVENT
DTSTART;VALUE=DATE:20250322
DTEND;VALUE=DATE:20250324
DTSTAMP:20260419T081938
CREATED:20250121T175117Z
LAST-MODIFIED:20250121T175119Z
UID:27610-1742601600-1742774399@abkcdogs.net
SUMMARY:Regionales ABKC 2025
DESCRIPTION:2 day Event\n6 Shows \nJudges: TBA \nAmerican Bully\nAPBT\nFrench Bulldog\nEnglish Bulldog\nDachshund\nNeapolitan Mastiff\nDoberman
URL:https://abkcdogs.net/events/regionales-abkc-2025/
LOCATION:Calle 9C #68-52\, Bogota\, Colombia
END:VEVENT
BEGIN:VEVENT
DTSTART;VALUE=DATE:20250329
DTEND;VALUE=DATE:20250330
DTSTAMP:20260419T081938
CREATED:20240815T185524Z
LAST-MODIFIED:20241007T132407Z
UID:26896-1743206400-1743292799@abkcdogs.net
SUMMARY:The Pull Up 3
DESCRIPTION:Judges: Tony Gold & Julio Quevedo \nAmerican Bully\nShortybull\nFrench Bulldog\nEnglish Bulldog\nAmerican Bulldog\nJr Handler
URL:https://abkcdogs.net/events/the-pull-up-3/
LOCATION:Rockville Sports Arena\, 60 Southlawn Ct\, Rockville\, MD\, 20850\, United States
ORGANIZER;CN="Robert Jackson":MAILTO:deisalstafari@gmail.com
END:VEVENT
BEGIN:VEVENT
DTSTART;VALUE=DATE:20250329
DTEND;VALUE=DATE:20250330
DTSTAMP:20260419T081938
CREATED:20240826T121415Z
LAST-MODIFIED:20240904T184744Z
UID:26941-1743206400-1743292799@abkcdogs.net
SUMMARY:ABKC Jacksonville Bully Showdown 5
DESCRIPTION:Judges: Regina Goins\, TBA\, TBA\, TBA \nAmerican Bully\nShortybull\nFrench Bulldog\nJr Handler
URL:https://abkcdogs.net/events/abkc-jacksonville-bully-showdown-5/
LOCATION:Prime Osborn Convention Center\, 1000 Water Street\, Jacksonville\, FL\, 32204\, United States
ORGANIZER;CN="Prie & Julian Roldan":MAILTO:prielifefit@gmail.com
END:VEVENT
BEGIN:VEVENT
DTSTART;VALUE=DATE:20250329
DTEND;VALUE=DATE:20250331
DTSTAMP:20260419T081938
CREATED:20241023T141146Z
LAST-MODIFIED:20241023T141722Z
UID:27357-1743206400-1743379199@abkcdogs.net
SUMMARY:ABKC Slovakia Weekend
DESCRIPTION:2 Day Event \nJudges: Damir Markov\, Raffaele Colace\, Ragim Magh\, Adrian Stoian \nAmerican Bully – Standard\, Pocket\, XL\, Classic\nJr Handler
URL:https://abkcdogs.net/events/abkc-slovakia-weekend/
LOCATION:Shopping Palace Bratislava\, Cesta na Senec 2/A\, Bratislava\, 821 04\, Slovakia (Slovak Republic)
ORGANIZER;CN="Vladimir Alman":MAILTO:abkcslovakia@gmail.com
END:VEVENT
BEGIN:VEVENT
DTSTART;VALUE=DATE:20250405
DTEND;VALUE=DATE:20250406
DTSTAMP:20260419T081938
CREATED:20241211T183103Z
LAST-MODIFIED:20241211T183129Z
UID:27454-1743811200-1743897599@abkcdogs.net
SUMMARY:210 Bully Throwdown 3
DESCRIPTION:Judges: Rolando Mata\, TBA\, TBA\, TBA \nAmerican Bully\nAPBT\nAM Staff\nShortybull\nFrench Bulldog\nOlde English Bulldogge\nBull Terrier\nCane Corso\nPacific Bulldog\nJr Handler
URL:https://abkcdogs.net/events/210-bully-throwdown-3/
LOCATION:Rosedale Park\, 303 Dartmouth\, San Antonio\, TX\, 78237\, United States
ORGANIZER;CN="Louis Zamora":MAILTO:louiszamora2010@gmail.com
END:VEVENT
BEGIN:VEVENT
DTSTART;VALUE=DATE:20250405
DTEND;VALUE=DATE:20250407
DTSTAMP:20260419T081938
CREATED:20240611T122404Z
LAST-MODIFIED:20241128T174002Z
UID:26548-1743811200-1743983999@abkcdogs.net
SUMMARY:Hog Wild Bully Bash
DESCRIPTION:2 Day Event \nJudges: TBA\, TBA\, TBA\, TBA\, TBA\, TBA \nAmerican Bully- Standard\, Pocket\, XL\, Classic\nShortybull\nFrench Bulldog\nOlde English Bulldogge\nEnglish Bulldog\nJr Handler
URL:https://abkcdogs.net/events/hog-wild-bully-bash/
LOCATION:Conway Expo & Event Center\, 2505 E Oak Street\, Conway\, AR\, 72032\, United States
ORGANIZER;CN="JJ Steiling":MAILTO:jj72374@yahoo.com
END:VEVENT
BEGIN:VEVENT
DTSTART;VALUE=DATE:20250406
DTEND;VALUE=DATE:20250407
DTSTAMP:20260419T081938
CREATED:20250121T175522Z
LAST-MODIFIED:20250121T175524Z
UID:27616-1743897600-1743983999@abkcdogs.net
SUMMARY:Lima La Gris "La Pasion Continua"
DESCRIPTION:Judges: TBA & TBA \nAmerican Bully\nFrench Bulldog
URL:https://abkcdogs.net/events/lima-la-gris-la-pasion-continua/
LOCATION:San Juan de Lurigancho\, Lima\, 15419\, Peru
ORGANIZER;CN="Julio Cesar Quispe Conde":MAILTO:gbcamp03@gmail.com
END:VEVENT
BEGIN:VEVENT
DTSTART;VALUE=DATE:20250406
DTEND;VALUE=DATE:20250407
DTSTAMP:20260419T081938
CREATED:20250221T183840Z
LAST-MODIFIED:20250221T184155Z
UID:27697-1743897600-1743983999@abkcdogs.net
SUMMARY:Spring Marathon Show
DESCRIPTION:Judges: TBA\, TBA\, TBA \nAmerican Bully
URL:https://abkcdogs.net/events/spring-marathon-show/
LOCATION:Ekaterinburg\, Russian Federation
ORGANIZER;CN="Maria Pulina":MAILTO:abkcrussia@yandex.ru
END:VEVENT
BEGIN:VEVENT
DTSTART;VALUE=DATE:20250413
DTEND;VALUE=DATE:20250415
DTSTAMP:20260419T081938
CREATED:20250403T183122Z
LAST-MODIFIED:20250403T183443Z
UID:27987-1744502400-1744675199@abkcdogs.net
SUMMARY:L'Italia S E Destabully Fest II
DESCRIPTION:2 day Event \nJudges: Rolando Mata\, Jonnathan Lugo\, Joakin Acedo\, Jesus Garcia \nAmerican Bully
URL:https://abkcdogs.net/events/litalia-s-e-destabully-fest-ii-2/
LOCATION:Via Vecchia Per Olcenengo 9\, Vercelli\, 13030\, Italy
ORGANIZER;CN="Giosue Mazzarella":MAILTO:abkcshowitaly@gmail.com
END:VEVENT
BEGIN:VEVENT
DTSTART;VALUE=DATE:20250426
DTEND;VALUE=DATE:20250428
DTSTAMP:20260419T081938
CREATED:20250221T191959Z
LAST-MODIFIED:20250221T192001Z
UID:27707-1745625600-1745798399@abkcdogs.net
SUMMARY:ABKC Atlanta Bully Marathon 2025
DESCRIPTION:2 day Event\n7 Shows \nJudges: Joakin Acedo\, Vanessa Cuevas\, James Feltus\, Jesus Garcia\, Errol Bodden\, Regina Goins TBA \nAmerican Bully\nAm Staff\nShortybull\nFrench Bulldog\nOlde English Bulldogge\nJr Handler
URL:https://abkcdogs.net/events/abkc-atlanta-bully-marathon-2025/
LOCATION:Jason T Harper Arena\, 95 Lake Dow Road\, McDonough\, GA\, 30253\, United States
ORGANIZER;CN="Rolando Mata":MAILTO:abkcseasonopener@gmail.com
END:VEVENT
BEGIN:VEVENT
DTSTART;VALUE=DATE:20250426
DTEND;VALUE=DATE:20250428
DTSTAMP:20260419T081938
CREATED:20250422T150130Z
LAST-MODIFIED:20250422T151005Z
UID:28019-1745625600-1745798399@abkcdogs.net
SUMMARY:Dracula Bully Marathon
DESCRIPTION:2 Day Event\n8 Shows \nJudges: Damir Markov\, Raffeale Colace\, Edwin Vargas\, Monsorat McField\, Jim Aba\, Brook Romero\, Bryan Romero\, Ragim Magh \nAmerican Bully\nShortybull\nFrench Bulldog\nOlde English Bulldogge\nEnglish Bulldog\nAmerican Bulldog\nJr Handler
URL:https://abkcdogs.net/events/dracula-bully-marathon-8/
LOCATION:Calea Timisorii\, Calea Timisorii\, Sanandrei\, Timis\, Romania
ORGANIZER;CN="Adrian Stoian":MAILTO:adrian.stoian@abkc.ro
END:VEVENT
BEGIN:VEVENT
DTSTART;VALUE=DATE:20250427
DTEND;VALUE=DATE:20250428
DTSTAMP:20260419T081938
CREATED:20241128T175122Z
LAST-MODIFIED:20250317T142654Z
UID:27440-1745712000-1745798399@abkcdogs.net
SUMMARY:Reaper Crew Bullies: A Night of Reaping
DESCRIPTION:Judges: TBA\, TBA \nAmerican Bully – Standard\, XL\, Pocket\, Classic\nAPBT\nFrench Bulldog\nEnglish Bulldog\nJr Handler
URL:https://abkcdogs.net/events/the-next-episode-world-class-bully-show/
LOCATION:The Manila Jockey Club\, Carmona\, Cavite\, 4116\, Philippines
ORGANIZER;CN="Nathan Araneta":MAILTO:nathan.lomebert@yahoo.com
END:VEVENT
BEGIN:VEVENT
DTSTART;VALUE=DATE:20250503
DTEND;VALUE=DATE:20250505
DTSTAMP:20260419T081938
CREATED:20250123T164728Z
LAST-MODIFIED:20250128T193853Z
UID:27628-1746230400-1746403199@abkcdogs.net
SUMMARY:2 x 2 Show Day Russia
DESCRIPTION:2 Day Event \nJudges: Rafaele Colace\, Mara Bunker\, Quiti Rodriguez\, William Ogren \nAmerican Bully\nAPBT\nAm Staff\nFrench Bulldog\nOlde English Bulldogge\nEnglish Bulldog\nBull Terrier
URL:https://abkcdogs.net/events/2-x-2-show-day-russia/
LOCATION:Poforum\, St Petersburg\, Russian Federation
ORGANIZER;CN="Ekaterina Chirkova":MAILTO:bbkennel@yandex.ru
END:VEVENT
BEGIN:VEVENT
DTSTART;VALUE=DATE:20250510
DTEND;VALUE=DATE:20250511
DTSTAMP:20260419T081938
CREATED:20241211T183445Z
LAST-MODIFIED:20241211T183446Z
UID:27457-1746835200-1746921599@abkcdogs.net
SUMMARY:ABKC Canada - GTA Bully Takeover Vol 2
DESCRIPTION:Judges: TBA\, TBA\, TBA\, TBA \nAmerican Bully\nShortybull\nFrench Bulldog\nJr Handler
URL:https://abkcdogs.net/events/abkc-canada-gta-bully-takeover-vol-2/
LOCATION:Garnet B Rickard Recreation Complex\, Pad B\, Bowmanville\, Ontario\, L1C 0K6\, Canada
ORGANIZER;CN="Chanelle Motschenbacher":MAILTO:abkc.gta@gmail.com
END:VEVENT
BEGIN:VEVENT
DTSTART;VALUE=DATE:20250510
DTEND;VALUE=DATE:20250511
DTSTAMP:20260419T081938
CREATED:20250324T171543Z
LAST-MODIFIED:20250324T172141Z
UID:27916-1746835200-1746921599@abkcdogs.net
SUMMARY:The ABKC Spring Carni-Bull
DESCRIPTION:Judges: TBA\, TBA\, TBA\, TBA \nAmerican Bully\nShortybull\nFrench Bulldog\nEnglish\nOlde English Bulldogge
URL:https://abkcdogs.net/events/the-abkc-spring-carni-bull/
LOCATION:Southeastern Agricultural Center\, 1027 US-74 ALT\, Lumberton\, NC\, 28358\, United States
ORGANIZER;CN="Anthony Gray":MAILTO:superiorbullykennel@yahoo.com
END:VEVENT
BEGIN:VEVENT
DTSTART;VALUE=DATE:20250524
DTEND;VALUE=DATE:20250525
DTSTAMP:20260419T081938
CREATED:20241230T161516Z
LAST-MODIFIED:20241230T161517Z
UID:27496-1748044800-1748131199@abkcdogs.net
SUMMARY:East Texas Bully Classic 4
DESCRIPTION:Judges: TBA\, TBA\, TBA\, TBA \nAmerican Bully\nAPBT\nShortybull\nFrench Bulldog\nOlde English Bulldogge\nJr Handler
URL:https://abkcdogs.net/events/east-texas-bully-classic-4/
LOCATION:Maude Cobb Convention Center\, 100 Grand Blvd\, Longview\, TX\, 75604\, United States
ORGANIZER;CN="Stephanie Hicks":MAILTO:stephnwitherspoon@gmail.com
END:VEVENT
BEGIN:VEVENT
DTSTART;VALUE=DATE:20250531
DTEND;VALUE=DATE:20250601
DTSTAMP:20260419T081938
CREATED:20250210T174601Z
LAST-MODIFIED:20250210T174602Z
UID:27652-1748649600-1748735999@abkcdogs.net
SUMMARY:Carolina Bully Convention 9
DESCRIPTION:Judges: TBA\, TBA\, TBA\, TBA \nAmerican Bully\nShortybull\nFrench Bulldog\nEnglish Bulldog\nOlde English Bulldogge\nJr Handler
URL:https://abkcdogs.net/events/carolina-bully-convention-9/
LOCATION:Winston Salem Fairgrounds\, Education Building - 2886 Shorefair Drive\, Winston-Salem\, NC\, 27105\, United States
END:VEVENT
BEGIN:VEVENT
DTSTART;VALUE=DATE:20250531
DTEND;VALUE=DATE:20250601
DTSTAMP:20260419T081938
CREATED:20250324T172803Z
LAST-MODIFIED:20250324T172803Z
UID:27925-1748649600-1748735999@abkcdogs.net
SUMMARY:King of the Ring Kan Ozoux Show
DESCRIPTION:Judges: Adrian Stoian\, Gabriel Paun \nAmerican Bully
URL:https://abkcdogs.net/events/king-of-the-ring-kan-ozoux-show/
LOCATION:Plateau Noir De Bellepierre\, Saint-Demis Reunion\, Reunion\, 97600\, France
END:VEVENT
BEGIN:VEVENT
DTSTART;VALUE=DATE:20250607
DTEND;VALUE=DATE:20250608
DTSTAMP:20260419T081938
CREATED:20241230T161756Z
LAST-MODIFIED:20241230T161756Z
UID:27499-1749254400-1749340799@abkcdogs.net
SUMMARY:The Midwest Bully 500 II
DESCRIPTION:Judges: TBA\, TBA\, TBA\, TBA \nAmerican Bully\nShortybull\nFrench Bulldog\nOlde English Bulldogge\nEnglish Bulldog\nJr Handler
URL:https://abkcdogs.net/events/the-midwest-bully-500-ii/
LOCATION:David S Palmer Arena\, 100 W Main Street\, Danville\, IL\, 61832\, United States
ORGANIZER;CN="Dave Robertson Jr":MAILTO:noregretzbulliez@icloud.com
END:VEVENT
BEGIN:VEVENT
DTSTART;VALUE=DATE:20250607
DTEND;VALUE=DATE:20250609
DTSTAMP:20260419T081938
CREATED:20240930T153146Z
LAST-MODIFIED:20250324T173020Z
UID:27140-1749254400-1749427199@abkcdogs.net
SUMMARY:ABKC Tatry Bully Show
DESCRIPTION:2 day Event \nJudges: Barbara Villasenor\, Rolando Mata\, James Feltus\, Marina Timofeva\, Tavoris Ingram\, Pablo Liceran \nAmerican Bully – Standard\, Pocket\, Classic\, XL
URL:https://abkcdogs.net/events/abkc-tatry-bully-show-3/
LOCATION:Zimny Stadion Stefanikova 890/46\, Poprad\, 58 01\, Slovakia (Slovak Republic)
ORGANIZER;CN="Dusan Bocko":MAILTO:dusanbocko@gmail.com
END:VEVENT
BEGIN:VEVENT
DTSTART;VALUE=DATE:20250621
DTEND;VALUE=DATE:20250622
DTSTAMP:20260419T081938
CREATED:20241023T143449Z
LAST-MODIFIED:20241023T143451Z
UID:27370-1750464000-1750550399@abkcdogs.net
SUMMARY:Allentown Bully Extravaganza 14
DESCRIPTION:Judges: TBA\, TBA\, TBA\, TBA \nAmerican Bully – Standard\, Pocket\, XL\, Classic\nShortybull\nFrench Bulldog\nOlde English Bulldogge\nEnglish Bulldog\nJr Handler
URL:https://abkcdogs.net/events/allentown-bully-extravaganza-14/
LOCATION:Allentown Fairgrounds\, Ag Hall - 302 N 17th Street\, Allentown\, PA\, 18102\, United States
END:VEVENT
BEGIN:VEVENT
DTSTART;VALUE=DATE:20250621
DTEND;VALUE=DATE:20250622
DTSTAMP:20260419T081938
CREATED:20250515T163718Z
LAST-MODIFIED:20250519T163215Z
UID:28250-1750464000-1750550399@abkcdogs.net
SUMMARY:First Bully Show
DESCRIPTION:Judges: Mara De Boer & Monsorat McField \nAmerican Bully
URL:https://abkcdogs.net/events/first-bully-show/
LOCATION:Lithuania. Alytus\, 64238\, Lithuania
END:VEVENT
BEGIN:VEVENT
DTSTART;VALUE=DATE:20250628
DTEND;VALUE=DATE:20250629
DTSTAMP:20260419T081938
CREATED:20250527T200114Z
LAST-MODIFIED:20250527T200202Z
UID:28323-1751068800-1751155199@abkcdogs.net
SUMMARY:Clash of the Gentle Beast
DESCRIPTION:Judges: TBA\, TBA \nAmerican Bully\nAPBT\nFrench Bulldog\nEnglish Bulldog\nJr Handler
URL:https://abkcdogs.net/events/clash-of-the-gentle-beast/
LOCATION:The Manila Jockey Club\, Carmona\, Cavite\, 4116\, Philippines
ORGANIZER;CN="Rafael Miguel Magalang":MAILTO:rafaelmiguel.magalang@gmail.com
END:VEVENT
BEGIN:VEVENT
DTSTART;VALUE=DATE:20250705
DTEND;VALUE=DATE:20250706
DTSTAMP:20260419T081938
CREATED:20250515T164528Z
LAST-MODIFIED:20250515T164529Z
UID:28257-1751673600-1751759999@abkcdogs.net
SUMMARY:Aniversario ABKC 10 Anos Ecuador
DESCRIPTION:Judges: Steve Oliva\, Edwin Vargas & TBA \nAmerican Bully\nAPBT\nFrench Bulldog\nEnglish Bulldog\nDoberman\nDogo Argentino
URL:https://abkcdogs.net/events/aniversario-abkc-10-anos-ecuador/
LOCATION:Mitad Del Mundo\, Quito\, 171101\, Ecuador
ORGANIZER;CN="Jose Eduardo Tipse Tomala":MAILTO:josetipse@hotmail.com
END:VEVENT
BEGIN:VEVENT
DTSTART;VALUE=DATE:20250726
DTEND;VALUE=DATE:20250727
DTSTAMP:20260419T081938
CREATED:20241230T162113Z
LAST-MODIFIED:20241230T162115Z
UID:27502-1753488000-1753574399@abkcdogs.net
SUMMARY:Chances Make Champions
DESCRIPTION:Judges: John Certeza & Vanessa Cuevas \nAmerican Bully\nAPBT\nAm Staff\nShortybull\nFrench Bulldog\nOlde English Bulldogge\nEnglish Bulldog\nAmerican Bulldog\nBull Terrier\nBoxer\nCane Corso
URL:https://abkcdogs.net/events/chances-make-champions/
LOCATION:Spokane Convention Center\, 334 W Spokane Falls Blvd\, Spokane\, WA\, 99201\, United States
ORGANIZER;CN="Bobby Galloway":MAILTO:tsnuami.kennels509@gmail.com
END:VEVENT
BEGIN:VEVENT
DTSTART;VALUE=DATE:20250802
DTEND;VALUE=DATE:20250804
DTSTAMP:20260419T081938
CREATED:20241230T162416Z
LAST-MODIFIED:20241230T162417Z
UID:27507-1754092800-1754265599@abkcdogs.net
SUMMARY:The Midwest Bully Bash 2
DESCRIPTION:2 Day Event \nJudges: TBA \nAmerican Bully\nShortybull\nFrench Bulldog\nOlde English Bulldogge\nEnglish Bulldog\nJr Handler
URL:https://abkcdogs.net/events/the-midwest-bully-bash-2/
LOCATION:McClean County Fairgrounds\, 1106 Interstate Drive\, Bloomington\, 61705\, United States
ORGANIZER;CN="Dave Robertson Jr":MAILTO:noregretzbulliez@icloud.com
END:VEVENT
BEGIN:VEVENT
DTSTART;VALUE=DATE:20250803
DTEND;VALUE=DATE:20250804
DTSTAMP:20260419T081938
CREATED:20250716T180349Z
LAST-MODIFIED:20250716T180524Z
UID:28494-1754179200-1754265599@abkcdogs.net
SUMMARY:El Evento Mas Galactico Del Ano
DESCRIPTION:Judges: TBA\, TBA\, TBA \nAmerican Bully\nFrench Bulldog\nEnglish Bulldog
URL:https://abkcdogs.net/events/el-evento-mas-galactico-del-ano/
LOCATION:Mercado De Mangomarca\, San Juan de Lurigancho\, Lima\, Peru
ORGANIZER;CN="Giancarlo Vazquez Quiroz":MAILTO:giancarlos070588@icloud.com
END:VEVENT
BEGIN:VEVENT
DTSTART;VALUE=DATE:20250809
DTEND;VALUE=DATE:20250810
DTSTAMP:20260419T081938
CREATED:20241230T162659Z
LAST-MODIFIED:20241230T162701Z
UID:27511-1754697600-1754783999@abkcdogs.net
SUMMARY:Bully Breeders Cup Philippines
DESCRIPTION:Judges: TBA\, TBA \nAmerican Bully\nAPBT\nFrench Bulldog\nEnglish Bulldog\nJr Handler
URL:https://abkcdogs.net/events/bully-breeders-cup-philippines/
LOCATION:Gimenez Gallery Diliman\, Quezon City\, Metro Manila\, Philippines
ORGANIZER;CN="Marlon Marquez":MAILTO:princebuhay@yahoo.com
END:VEVENT
BEGIN:VEVENT
DTSTART;VALUE=DATE:20250809
DTEND;VALUE=DATE:20250810
DTSTAMP:20260419T081938
CREATED:20250716T181024Z
LAST-MODIFIED:20250728T003153Z
UID:28501-1754697600-1754783999@abkcdogs.net
SUMMARY:Amber Bully Show
DESCRIPTION:Location Change –  \nJudges: Joakin Acedo\, Jesus Garcia Rodriguez \nAmerican Bully\nShortybull\nFrench Bulldog\nOlde English Bulldogge\nEnglish Bulldog\nAmerican Bulldog\nDachshund
URL:https://abkcdogs.net/events/amber-bully-show/
LOCATION:Stadnina Koni Żarnowo\, 36A\, Żarnowo Pierwsze 1\, Augustow\, Poland
ORGANIZER;CN="Laura Pranckeviciene":MAILTO:bullyblackmamba@gmail.com
END:VEVENT
BEGIN:VEVENT
DTSTART;VALUE=DATE:20250816
DTEND;VALUE=DATE:20250818
DTSTAMP:20260419T081938
CREATED:20250430T151027Z
LAST-MODIFIED:20250430T151335Z
UID:28208-1755302400-1755475199@abkcdogs.net
SUMMARY:Bully Show in Russia
DESCRIPTION:2 Day Event \nJudges: TBA\, TBA\, TBA\, TBA \nAmerican Bully
URL:https://abkcdogs.net/events/bully-show-in-russia-9/
LOCATION:KSK Maxima Park\, Russian Federation
END:VEVENT
END:VCALENDAR