BEGIN:VCALENDAR
VERSION:2.0
PRODID:-//THE AMERICAN BULLY KENNEL CLUB - ECPv6.15.18//NONSGML v1.0//EN
CALSCALE:GREGORIAN
METHOD:PUBLISH
X-WR-CALNAME:THE AMERICAN BULLY KENNEL CLUB
X-ORIGINAL-URL:https://abkcdogs.net
X-WR-CALDESC:Events for THE AMERICAN BULLY KENNEL CLUB
REFRESH-INTERVAL;VALUE=DURATION:PT1H
X-Robots-Tag:noindex
X-PUBLISHED-TTL:PT1H
BEGIN:VTIMEZONE
TZID:America/New_York
BEGIN:DAYLIGHT
TZOFFSETFROM:-0500
TZOFFSETTO:-0400
TZNAME:EDT
DTSTART:20250309T070000
END:DAYLIGHT
BEGIN:STANDARD
TZOFFSETFROM:-0400
TZOFFSETTO:-0500
TZNAME:EST
DTSTART:20251102T060000
END:STANDARD
BEGIN:DAYLIGHT
TZOFFSETFROM:-0500
TZOFFSETTO:-0400
TZNAME:EDT
DTSTART:20260308T070000
END:DAYLIGHT
BEGIN:STANDARD
TZOFFSETFROM:-0400
TZOFFSETTO:-0500
TZNAME:EST
DTSTART:20261101T060000
END:STANDARD
BEGIN:DAYLIGHT
TZOFFSETFROM:-0500
TZOFFSETTO:-0400
TZNAME:EDT
DTSTART:20270314T070000
END:DAYLIGHT
BEGIN:STANDARD
TZOFFSETFROM:-0400
TZOFFSETTO:-0500
TZNAME:EST
DTSTART:20271107T060000
END:STANDARD
END:VTIMEZONE
BEGIN:VEVENT
DTSTART;VALUE=DATE:20260516
DTEND;VALUE=DATE:20260518
DTSTAMP:20260419T182720
CREATED:20250430T152050Z
LAST-MODIFIED:20260113T200557Z
UID:28215-1778889600-1779062399@abkcdogs.net
SUMMARY:Hog Wild Bully Bash 2
DESCRIPTION:2 Day Event\n7 Shows \nJudges: TBA\, TBA\, TBA\, TBA\, TBA\, TBA\, TBA \nAmerican Bully\nShortybull\nFrench Bulldog\nOlde English Bulldogge\nJr Handler
URL:https://abkcdogs.net/events/hog-wild-bully-bash-2/
LOCATION:Conway Expo & Event Center\, 2505 E Oak Street\, Conway\, AR\, 72032\, United States
ATTACH;FMTTYPE=image/jpeg:https://abkcdogs.net/wp-content/uploads/2025/04/5.16.26-Arkansas.jpg
ORGANIZER;CN="JJ Steiling":MAILTO:jj72374@yahoo.com
END:VEVENT
BEGIN:VEVENT
DTSTART;VALUE=DATE:20260517
DTEND;VALUE=DATE:20260518
DTSTAMP:20260419T182720
CREATED:20260108T194830Z
LAST-MODIFIED:20260224T151106Z
UID:29219-1778976000-1779062399@abkcdogs.net
SUMMARY:The Bully Breeders Cup - Cinco de Mayo
DESCRIPTION:Judges: TBA\, TBA \nAmerican Bully\nFrench Bulldog\nEnglish Bulldog\nJr Handler
URL:https://abkcdogs.net/events/the-bully-breeders-cup-cinco-de-mayo/
LOCATION:Robinsons Novaliches Trade Hall\, Quirino Highway\, Quezon City\, Manila\, 1118\, Philippines
ATTACH;FMTTYPE=image/jpeg:https://abkcdogs.net/wp-content/uploads/2026/01/philippines.jpg
ORGANIZER;CN="Marlon Marquez":MAILTO:princebuhay@yahoo.com
END:VEVENT
BEGIN:VEVENT
DTSTART;VALUE=DATE:20260517
DTEND;VALUE=DATE:20260518
DTSTAMP:20260419T182720
CREATED:20260317T131804Z
LAST-MODIFIED:20260317T131808Z
UID:29642-1778976000-1779062399@abkcdogs.net
SUMMARY:Bully Game Expo Bully Fest
DESCRIPTION:Judges: Roberto Guzman\, Felix Betancourt\, Luis Servin Villanueva \nAmerican Bully\nFrench Bulldog\nEnglish Bulldog
URL:https://abkcdogs.net/events/bully-game-expo-bully-fest/
LOCATION:Centro de Espectaculas Rodeo Texcoco\, 56330\, Mexico
ATTACH;FMTTYPE=image/jpeg:https://abkcdogs.net/wp-content/uploads/2026/03/mx-5.17.26.jpg
END:VEVENT
BEGIN:VEVENT
DTSTART;VALUE=DATE:20260523
DTEND;VALUE=DATE:20260524
DTSTAMP:20260419T182720
CREATED:20260317T153648Z
LAST-MODIFIED:20260317T153648Z
UID:29658-1779494400-1779580799@abkcdogs.net
SUMMARY:United Flags Chile
DESCRIPTION:Judges: Mauricio Campas\, Germano Lavigne\, Ivan Velez \nAmerican Bully\nAPBT
URL:https://abkcdogs.net/events/united-flags-chile/
LOCATION:Puerto Madero #9708\, Pudahuel\, Santiago\, Chile
ATTACH;FMTTYPE=image/jpeg:https://abkcdogs.net/wp-content/uploads/2026/03/chili-5.23.26.jpg
ORGANIZER;CN="Cesar Carinanco Riveros":MAILTO:cesar_criveros@hotmail.com
END:VEVENT
BEGIN:VEVENT
DTSTART;VALUE=DATE:20260524
DTEND;VALUE=DATE:20260525
DTSTAMP:20260419T182720
CREATED:20250718T181058Z
LAST-MODIFIED:20251219T182134Z
UID:28529-1779580800-1779667199@abkcdogs.net
SUMMARY:Aotearoa American Bully Rumbull
DESCRIPTION:Judge: TBA \nAmerican Bully
URL:https://abkcdogs.net/events/aotearoa-american-bully-rumbull/
LOCATION:Manuka Tennis Centre\, 1 Te Irarangi Dr\, Manuka\, New Zealand
ATTACH;FMTTYPE=image/jpeg:https://abkcdogs.net/wp-content/uploads/2025/07/5.24.26-nz.jpg
ORGANIZER;CN="Ian Mrkusich":MAILTO:americanbullyscenenz@gmail.com
END:VEVENT
BEGIN:VEVENT
DTSTART;VALUE=DATE:20260524
DTEND;VALUE=DATE:20260525
DTSTAMP:20260419T182720
CREATED:20260121T180205Z
LAST-MODIFIED:20260121T180208Z
UID:29309-1779580800-1779667199@abkcdogs.net
SUMMARY:Pichincha Bully Fest "Rumba a Las Latin Nationals"
DESCRIPTION:Judges: TBA\, TBA\, TBA \nAmerican Bully\nAPBT\nFrench Bulldog\nEnglish Bulldog\nCane Corso\nBernese Mountain Dog\nDogo Argentino\nJr Handler
URL:https://abkcdogs.net/events/pichincha-bully-fest-rumba-a-las-latin-nationals/
LOCATION:Valle De Los Chillos\, Armenia\, Quito\, Ecuador
ATTACH;FMTTYPE=image/jpeg:https://abkcdogs.net/wp-content/uploads/2026/01/BANNER-ECUADOR.jpeg
END:VEVENT
BEGIN:VEVENT
DTSTART;VALUE=DATE:20260607
DTEND;VALUE=DATE:20260608
DTSTAMP:20260419T182720
CREATED:20260317T132335Z
LAST-MODIFIED:20260317T132337Z
UID:29649-1780790400-1780876799@abkcdogs.net
SUMMARY:ABKC Australia Sydney Spectacular
DESCRIPTION:Judge: TBA \nAmerican Bully\nFrench Bulldog\nEnglish Bulldog\nPug\nAussie Bulldog\nJr Handler
URL:https://abkcdogs.net/events/abkc-australia-sydney-spectacular/
LOCATION:Richmond Race Track\, 312 Londonderry Rd\, Londonderry\, 2753\, Australia
END:VEVENT
BEGIN:VEVENT
DTSTART;VALUE=DATE:20260620
DTEND;VALUE=DATE:20260621
DTSTAMP:20260419T182720
CREATED:20251002T163810Z
LAST-MODIFIED:20251002T163810Z
UID:28727-1781913600-1781999999@abkcdogs.net
SUMMARY:Allentown Bully Extravaganza 15
DESCRIPTION:Judges: TBA\, TBA\, TBA\, TBA \nAmerican Bully – Standard\, Pocket\, XL\, Classic\nShortybull\nFrench Bulldog\nOlde English Bulldogge\nEnglish Bulldog\nJr Handler
URL:https://abkcdogs.net/events/allentown-bully-extravaganza-15/
LOCATION:Allentown Fairgrounds\, Ag Hall - 302 N 17th Street\, Allentown\, PA\, 18102\, United States
END:VEVENT
BEGIN:VEVENT
DTSTART;VALUE=DATE:20260627
DTEND;VALUE=DATE:20260629
DTSTAMP:20260419T182720
CREATED:20260303T141554Z
LAST-MODIFIED:20260305T034916Z
UID:29568-1782518400-1782691199@abkcdogs.net
SUMMARY:Casino Moscow Show
DESCRIPTION:2 Day Event\n4 Shows \nJudges: TBA\, TBA\, TBA\, TBA \nAmerican Bully
URL:https://abkcdogs.net/events/casino-moscow-show/
LOCATION:Moscow\, 32\, km MKAD TD\, China Tawn\, Russian Federation
ATTACH;FMTTYPE=image/png:https://abkcdogs.net/wp-content/uploads/2026/03/Russia.png
END:VEVENT
BEGIN:VEVENT
DTSTART;VALUE=DATE:20260719
DTEND;VALUE=DATE:20260720
DTSTAMP:20260419T182720
CREATED:20260213T162239Z
LAST-MODIFIED:20260213T162239Z
UID:29373-1784419200-1784505599@abkcdogs.net
SUMMARY:Latin Nationals 2026
DESCRIPTION:Judges:\n  American Bully – TBA\n  Multi-Breed –  TBA \nAmerican Bully\nAPBT\nFrench Bulldog\nEnglish Bulldog\nDoberman
URL:https://abkcdogs.net/events/latin-nationals-2026/
LOCATION:Centro Internacional de Negocios y Exposiciones Conferias\, Bogota\, Colombia
ATTACH;FMTTYPE=image/jpeg:https://abkcdogs.net/wp-content/uploads/2026/02/BANNER-LATIN-NATIONALS.jpg
END:VEVENT
BEGIN:VEVENT
DTSTART;VALUE=DATE:20260725
DTEND;VALUE=DATE:20260726
DTSTAMP:20260419T182720
CREATED:20260303T144728Z
LAST-MODIFIED:20260303T144811Z
UID:29578-1784937600-1785023999@abkcdogs.net
SUMMARY:Better the Breed Festival
DESCRIPTION:Judges: TBA\, TBA\, TBA\, TBA \nAmerican Bully\nShortybull\nFrench Bulldog\nOlde English Bulldog
URL:https://abkcdogs.net/events/better-the-breed-festival/
LOCATION:Columbia Metropolitan Convention Center\, 1101 Lincoln Street\, Columbia\, SC\, 29201\, United States
ATTACH;FMTTYPE=image/jpeg:https://abkcdogs.net/wp-content/uploads/2026/03/BETTERTBALLDOGS-scaled.jpg
ORGANIZER;CN="Spencer Johnson":MAILTO:inf@buildabully.com
END:VEVENT
BEGIN:VEVENT
DTSTART;VALUE=DATE:20260815
DTEND;VALUE=DATE:20260816
DTSTAMP:20260419T182720
CREATED:20260224T163326Z
LAST-MODIFIED:20260224T163329Z
UID:29439-1786752000-1786838399@abkcdogs.net
SUMMARY:ABKC Sunshine State Bully Extravaganza 2026
DESCRIPTION:Judges: Tavoris Ingram\, Rodrigo Silva\, Jesus Garcia\, Ania Wysocka \nAmerican Bully\nShortybull\nFrench Bulldog\nOlde English Bulldogge\nJr Handler
URL:https://abkcdogs.net/events/abkc-sunshine-state-bully-extravaganza-2026/
LOCATION:Osceola Heritage Park\, 1875 Silver Spur Ln\, Kissimmee\, FL\, 34744\, United States
ATTACH;FMTTYPE=image/jpeg:https://abkcdogs.net/wp-content/uploads/2026/02/c31be754-4313-49f5-9dd6-b991636b7dcf.jpg
ORGANIZER;CN="Rolando Mata":MAILTO:abkcseasonopener@gmail.com
END:VEVENT
BEGIN:VEVENT
DTSTART;VALUE=DATE:20260829
DTEND;VALUE=DATE:20260830
DTSTAMP:20260419T182720
CREATED:20260305T035941Z
LAST-MODIFIED:20260323T190334Z
UID:29637-1787961600-1788047999@abkcdogs.net
SUMMARY:ABKC Labor Day Bully Showcase 6
DESCRIPTION:Judges: TBA\, TBA\, TBA\, TBA \nAmerican Bully – Standard\, Pocket\, XL\, Classic\nAPBT\nShortybull\nFrench Bulldog\nOlde English Bulldogge\nJr Handler
URL:https://abkcdogs.net/events/abkc-labor-day-bully-showcase-6/
LOCATION:Columbus Trade & Convention Center\, 801 Front Ave\, Columbus\, GA\, 31901\, United States
ATTACH;FMTTYPE=image/jpeg:https://abkcdogs.net/wp-content/uploads/2026/03/8.29.26-ga.jpg
ORGANIZER;CN="Pearlina Bodden":MAILTO:pearlinabodden@gmail.com
END:VEVENT
BEGIN:VEVENT
DTSTART;VALUE=DATE:20260906
DTEND;VALUE=DATE:20260907
DTSTAMP:20260419T182720
CREATED:20260317T132555Z
LAST-MODIFIED:20260317T132557Z
UID:29652-1788652800-1788739199@abkcdogs.net
SUMMARY:ABKC Australia Sydney Spectacular II
DESCRIPTION:Judge: TBA \nAmerican Bully\nFrench Bulldog\nEnglish Bulldog\nPug\nAussie Bulldog\nJr Handler
URL:https://abkcdogs.net/events/abkc-australia-sydney-spectacular-ii/
LOCATION:Richmond Race Track\, 312 Londonderry Rd\, Londonderry\, 2753\, Australia
END:VEVENT
BEGIN:VEVENT
DTSTART;VALUE=DATE:20260919
DTEND;VALUE=DATE:20260920
DTSTAMP:20260419T182720
CREATED:20260113T201518Z
LAST-MODIFIED:20260113T201520Z
UID:29250-1789776000-1789862399@abkcdogs.net
SUMMARY:Vikingos Bullys Fest
DESCRIPTION:Judges: Mauricio Campas\, Alex Acevedo\, Alex Perez \nAmerican Bully
URL:https://abkcdogs.net/events/vikingos-bullys-fest/
LOCATION:Centro de Eventos Anatiri\, Av Jerusalen #3537\, Alto Hospicio\, Iquique\, Chile
ATTACH;FMTTYPE=image/jpeg:https://abkcdogs.net/wp-content/uploads/2026/01/Chili.jpg
ORGANIZER;CN="Fiorella Catherine Huanil Milla":MAILTO:milla.huanilo990@gmail.com
END:VEVENT
BEGIN:VEVENT
DTSTART;VALUE=DATE:20261003
DTEND;VALUE=DATE:20261004
DTSTAMP:20260419T182720
CREATED:20260108T195408Z
LAST-MODIFIED:20260108T195410Z
UID:29229-1790985600-1791071999@abkcdogs.net
SUMMARY:D-Town Bully Showdown 2.0
DESCRIPTION:Judges: TBA\, TBA\, TBA\, TBA \nAmerican Bully\nShortybull\nFrench Bulldog\nOlde English Bulldogge\nJr Handler
URL:https://abkcdogs.net/events/d-town-bully-showdown-2-0/
LOCATION:Will Rogers Memorial Center\, 3401 West Lancaster Ave.\, Fort Worth\, TX\, 76107\, United States
ATTACH;FMTTYPE=image/jpeg:https://abkcdogs.net/wp-content/uploads/2026/01/10.3.26-Texas.jpeg
ORGANIZER;CN="Stephanie Hicks":MAILTO:stephnwitherspoon@gmail.com
END:VEVENT
BEGIN:VEVENT
DTSTART;VALUE=DATE:20261003
DTEND;VALUE=DATE:20261005
DTSTAMP:20260419T182720
CREATED:20260225T131128Z
LAST-MODIFIED:20260225T131204Z
UID:29542-1790985600-1791158399@abkcdogs.net
SUMMARY:Kan Ozoux Show
DESCRIPTION:2 Day Event\n4 Shows \nJudges: William Ogren\, Roberto Giannuli\, Joakin Acedo\, Damir Markov \nAmerican Bully\nJr Handler
URL:https://abkcdogs.net/events/kan-ozoux-show/
LOCATION:Petit Stade De Lest Saint Denis\, Saint Denis\, Reunion Island\, 97400\, France
ATTACH;FMTTYPE=image/jpeg:https://abkcdogs.net/wp-content/uploads/2026/02/reunion-isle-scaled.jpg
END:VEVENT
BEGIN:VEVENT
DTSTART;VALUE=DATE:20261010
DTEND;VALUE=DATE:20261011
DTSTAMP:20260419T182720
CREATED:20251002T163944Z
LAST-MODIFIED:20260105T152940Z
UID:28729-1791590400-1791676799@abkcdogs.net
SUMMARY:Allentown Bully Convention 13
DESCRIPTION:Judges: TBA\, TBA\, TBA\, TBA \nAmerican Bully – Standard\, Pocket\, Classic\, XL\nShortybull\nFrench Bulldog\nOlde English Bulldogge\nEnglish Bulldog\nJr Handler
URL:https://abkcdogs.net/events/allentown-bully-convention-13/
LOCATION:Allentown Fairgrounds\, Ag Hall - 302 N 17th Street\, Allentown\, PA\, 18102\, United States
END:VEVENT
BEGIN:VEVENT
DTSTART;VALUE=DATE:20261017
DTEND;VALUE=DATE:20261018
DTSTAMP:20260419T182720
CREATED:20260305T035744Z
LAST-MODIFIED:20260317T131146Z
UID:29632-1792195200-1792281599@abkcdogs.net
SUMMARY:Sandia Bully Showdown
DESCRIPTION:Judges: Vanessa Cuevas\, Prie Roldan\, Jamie Villagomez \nAmerican Bully\nShortybull\nFrench Bulldog\nOlde English Bulldogge\nEnglish Bulldog\nAmerican Bulldog\nJr Handler
URL:https://abkcdogs.net/events/sandia-bully-showdown/
LOCATION:TIngley Coliseum\, 300 San Pedro Dr NE\, Albuquerque\, NM\, 87108\, United States
ATTACH;FMTTYPE=image/jpeg:https://abkcdogs.net/wp-content/uploads/2026/03/10.17.26-sandia.jpg
ORGANIZER;CN="Orlando Hope":MAILTO:orliehope@live.com
END:VEVENT
BEGIN:VEVENT
DTSTART;VALUE=DATE:20261031
DTEND;VALUE=DATE:20261101
DTSTAMP:20260419T182720
CREATED:20260317T132802Z
LAST-MODIFIED:20260317T132803Z
UID:29655-1793404800-1793491199@abkcdogs.net
SUMMARY:The Beast
DESCRIPTION:Judges: TBA\, TBA\, TBA \nAmerican Bully\nShortybull\nFrench Bulldog\nOlde English Bulldogge\nAmerican Bulldog\nBullmastiff\nCane Corso\nJr Handler
URL:https://abkcdogs.net/events/the-beast/
LOCATION:Chesterfield County Fairgrounds\, 10300 Courthouse Rd\, Chesterfield\, VA\, 23832\, United States
ORGANIZER;CN="Gina Moore":MAILTO:gina.maza@gmail.com
END:VEVENT
BEGIN:VEVENT
DTSTART;VALUE=DATE:20261031
DTEND;VALUE=DATE:20261102
DTSTAMP:20260419T182720
CREATED:20260213T163320Z
LAST-MODIFIED:20260213T163320Z
UID:29386-1793404800-1793577599@abkcdogs.net
SUMMARY:ABKC Spanish Show 2026
DESCRIPTION:2 Day Event\n4 Shows \nJudges: TBA\, TBA\, TBA\, TBA \nAmerican Bully\nFrench Bulldog
URL:https://abkcdogs.net/events/abkc-spanish-show-2026/
LOCATION:Spain\, Spain
ATTACH;FMTTYPE=image/jpeg:https://abkcdogs.net/wp-content/uploads/2026/02/ABKC-SPAIN-LOGO.jpg
ORGANIZER;CN="William Ogren":MAILTO:williamogren@hotmail.com
END:VEVENT
BEGIN:VEVENT
DTSTART;VALUE=DATE:20261121
DTEND;VALUE=DATE:20261122
DTSTAMP:20260419T182720
CREATED:20260105T153149Z
LAST-MODIFIED:20260105T153234Z
UID:29141-1795219200-1795305599@abkcdogs.net
SUMMARY:Oklahoma Bully Breed Expo 7
DESCRIPTION:Judges: TBA\, TBA\, TBA\, TBA \nAmerican Bully\nShortybull\nFrench Bulldog\nEnglish Bulldog\nOlde English Bulldogge\nJr Handler
URL:https://abkcdogs.net/events/oklahoma-bully-breed-expo-7/
LOCATION:Shawnee Expo Center\, 1700 W. Independence\, Shawnee\, OK\, 74802\, United States
END:VEVENT
BEGIN:VEVENT
DTSTART;VALUE=DATE:20261205
DTEND;VALUE=DATE:20261206
DTSTAMP:20260419T182720
CREATED:20260224T163753Z
LAST-MODIFIED:20260331T183307Z
UID:29445-1796428800-1796515199@abkcdogs.net
SUMMARY:2026 ABKC Nationals
DESCRIPTION:TBA – information coming soon
URL:https://abkcdogs.net/events/2026-abkc-nationals/
LOCATION:George R Brown Convention Center\, 1001 Avenida de las Americas\, Houston\, TX\, 77010\, United States
END:VEVENT
END:VCALENDAR