BEGIN:VCALENDAR
VERSION:2.0
PRODID:-//THE AMERICAN BULLY KENNEL CLUB - ECPv6.15.18//NONSGML v1.0//EN
CALSCALE:GREGORIAN
METHOD:PUBLISH
X-WR-CALNAME:THE AMERICAN BULLY KENNEL CLUB
X-ORIGINAL-URL:https://abkcdogs.net
X-WR-CALDESC:Events for THE AMERICAN BULLY KENNEL CLUB
REFRESH-INTERVAL;VALUE=DURATION:PT1H
X-Robots-Tag:noindex
X-PUBLISHED-TTL:PT1H
BEGIN:VTIMEZONE
TZID:UTC
BEGIN:STANDARD
TZOFFSETFROM:+0000
TZOFFSETTO:+0000
TZNAME:UTC
DTSTART:20210101T000000
END:STANDARD
END:VTIMEZONE
BEGIN:VEVENT
DTSTART;VALUE=DATE:20220122
DTEND;VALUE=DATE:20220123
DTSTAMP:20260420T213352
CREATED:20220114T185758Z
LAST-MODIFIED:20220415T124620Z
UID:20184-1642809600-1642895999@abkcdogs.net
SUMMARY:Florida Bullnanza 2
DESCRIPTION:For More Information:\n501-253-5284\nchristinamaxwellabkc@gmail.com \nJudges: TBA\, TBA\, TBA\, TBA\nStd/Pkt/XL/C/APBT/SB/FB/OEB/EB/BT\nJr Handler
URL:https://abkcdogs.net/events/florida-bullnanza-2/
LOCATION:Osceola Heritage Park\, 1875 Silver Spur Ln\, Kissimmee\, FL\, 34744\, United States
ORGANIZER;CN="Christina Maxwell":MAILTO:Christinamaxwellabkc@gmail.com
END:VEVENT
BEGIN:VEVENT
DTSTART;VALUE=DATE:20220122
DTEND;VALUE=DATE:20220123
DTSTAMP:20260420T213352
CREATED:20220114T184114Z
LAST-MODIFIED:20220415T124635Z
UID:20178-1642809600-1642895999@abkcdogs.net
SUMMARY:ABKC Euro Nationals 2022/Trofeo De San Anton
DESCRIPTION:For More Information:\n+34 660 151 156\nelena.abkc@gmail.com \nJudges: John Certeza & Aldo Paredes\nAmerican Bullies – Standard\, Pocket\, XL\, Classic\nFrench Bulldogs\nEnglish Bulldogs\nOlde English Bulldogges
URL:https://abkcdogs.net/events/abkc-euro-nationals-2022-trofeo-de-san-anton/
LOCATION:IFEZA\, Crta. La Aldehuela 25\, Zamora\, 49022\, Spain
ORGANIZER;CN="Elena Clemente Jimenez":MAILTO:elena.abkc@gmail.com
END:VEVENT
END:VCALENDAR