BEGIN:VCALENDAR
VERSION:2.0
PRODID:-//THE AMERICAN BULLY KENNEL CLUB - ECPv6.15.18//NONSGML v1.0//EN
CALSCALE:GREGORIAN
METHOD:PUBLISH
X-WR-CALNAME:THE AMERICAN BULLY KENNEL CLUB
X-ORIGINAL-URL:https://abkcdogs.net
X-WR-CALDESC:Events for THE AMERICAN BULLY KENNEL CLUB
REFRESH-INTERVAL;VALUE=DURATION:PT1H
X-Robots-Tag:noindex
X-PUBLISHED-TTL:PT1H
BEGIN:VTIMEZONE
TZID:UTC
BEGIN:STANDARD
TZOFFSETFROM:+0000
TZOFFSETTO:+0000
TZNAME:UTC
DTSTART:20210101T000000
END:STANDARD
END:VTIMEZONE
BEGIN:VTIMEZONE
TZID:America/New_York
BEGIN:DAYLIGHT
TZOFFSETFROM:-0500
TZOFFSETTO:-0400
TZNAME:EDT
DTSTART:20210314T070000
END:DAYLIGHT
BEGIN:STANDARD
TZOFFSETFROM:-0400
TZOFFSETTO:-0500
TZNAME:EST
DTSTART:20211107T060000
END:STANDARD
BEGIN:DAYLIGHT
TZOFFSETFROM:-0500
TZOFFSETTO:-0400
TZNAME:EDT
DTSTART:20220313T070000
END:DAYLIGHT
BEGIN:STANDARD
TZOFFSETFROM:-0400
TZOFFSETTO:-0500
TZNAME:EST
DTSTART:20221106T060000
END:STANDARD
BEGIN:DAYLIGHT
TZOFFSETFROM:-0500
TZOFFSETTO:-0400
TZNAME:EDT
DTSTART:20230312T070000
END:DAYLIGHT
BEGIN:STANDARD
TZOFFSETFROM:-0400
TZOFFSETTO:-0500
TZNAME:EST
DTSTART:20231105T060000
END:STANDARD
END:VTIMEZONE
BEGIN:VTIMEZONE
TZID:Asia/Kolkata
BEGIN:STANDARD
TZOFFSETFROM:+0530
TZOFFSETTO:+0530
TZNAME:IST
DTSTART:20210101T000000
END:STANDARD
END:VTIMEZONE
BEGIN:VEVENT
DTSTART;VALUE=DATE:20220416
DTEND;VALUE=DATE:20220418
DTSTAMP:20260420T130723
CREATED:20220117T222726Z
LAST-MODIFIED:20220413T133906Z
UID:20334-1650067200-1650239999@abkcdogs.net
SUMMARY:Spring Bully Fest 3
DESCRIPTION:2 day Event\n8 Shows \nFor More Information:\n619-318-4201\nvanessac1976@gmail.com \nJudges: Saturday: Nico Christino\, Brian McGee\, James Feltus\, Deanna Ohly\nSunday: TBA\, Felix Betancourt\, Aldo Paredes\, Manuel Sanchez\nAmerican Bully – Standard\, Pocket\, XL\, Classic\nShortybull\nFrench Bulldog\nJr Handler
URL:https://abkcdogs.net/events/march-bully-madness-2/
LOCATION:Rohr Park\, 4548 Sweetwater Rd (#18 Ballfield Infield)\, Bonita\, CA\, 91902\, United States
ORGANIZER;CN="Vanessa Cuevas":MAILTO:vanessac1976@gmail.com
END:VEVENT
BEGIN:VEVENT
DTSTART;VALUE=DATE:20220416
DTEND;VALUE=DATE:20220417
DTSTAMP:20260420T130723
CREATED:20220127T191839Z
LAST-MODIFIED:20220415T123445Z
UID:20655-1650067200-1650153599@abkcdogs.net
SUMMARY:Black Sea Bully Show 2022
DESCRIPTION:For More Information:\ngms.stoyanov@gmail.com \nJudges: Ivan Miron\, Gabriel Paun\nAmerican Bully – Standard\, Pocket\, XL\, Classic
URL:https://abkcdogs.net/events/black-sea-bully-show-2022/
LOCATION:Street Knyaz Boris I\, Street Knyaz Boris I\, 9000\, Varna\, 9000\, Bulgaria
ORGANIZER;CN="Galin Stoyanov":MAILTO:gms.stoyanov@gmail.com
END:VEVENT
BEGIN:VEVENT
DTSTART;VALUE=DATE:20220409
DTEND;VALUE=DATE:20220411
DTSTAMP:20260420T130723
CREATED:20220127T190520Z
LAST-MODIFIED:20220415T123419Z
UID:20651-1649462400-1649635199@abkcdogs.net
SUMMARY:Shreveport Bully Expo
DESCRIPTION:2 Day Event\n6 Shows – 4 Saturday and 2 Sunday \nFor More Information:\n501-253-5284\nchristinamaxwellabkc@gmail.com \nJudges: All TBA\nAmerican Bully – Standard\, Pocket\, XL\, Classic\nShortybull\nFrench Bulldog\nOlde English Bulldogge\nEnglish Bulldog\nJr Handler
URL:https://abkcdogs.net/events/shreveport-bully-expo/
LOCATION:Agricultural Building Fairgrounds\, 307 Hudson Ave\, Shreveport\, LA\, 71109\, United States
ORGANIZER;CN="Christina Maxwell":MAILTO:christinamaxwellabkc@gmail.com
END:VEVENT
BEGIN:VEVENT
DTSTART;VALUE=DATE:20220409
DTEND;VALUE=DATE:20220411
DTSTAMP:20260420T130723
CREATED:20220127T184450Z
LAST-MODIFIED:20220415T123348Z
UID:20644-1649462400-1649635199@abkcdogs.net
SUMMARY:Spring Fling II
DESCRIPTION:2 Day Event\n8 Shows \nFor More Information:\n916-519-9039\ncaligirl8789@att.net \nJudges: Chris White\, Brian Petersen\, TBA\, TBA\, TBA\, TBA\, TBA\, TBA\nAmerican Bully – Standard\, Pocket\, XL\, Classic\nShortybull\nFrench Bulldog\nEnglish Bulldog
URL:https://abkcdogs.net/events/spring-fling-ii/
LOCATION:El Dorado County Fairgrounds\, 100 Placerville Drive\, Placerville\, CA\, 95667\, United States
ORGANIZER;CN="Rebecca Harris":MAILTO:caligirl8789@att.net
END:VEVENT
BEGIN:VEVENT
DTSTART;VALUE=DATE:20220409
DTEND;VALUE=DATE:20220410
DTSTAMP:20260420T130723
CREATED:20220201T134657Z
LAST-MODIFIED:20220415T123330Z
UID:20705-1649462400-1649548799@abkcdogs.net
SUMMARY:ABKC Holland
DESCRIPTION:For More Information:\n+31682128882 or +31648490576\npvt1983@hotmail.com\ngouda@multicopy\,nl \nJudges: Anna Karuna & Jessica Cook\nAmerican Bully – Standard\, Pocket\, XL\, Classic
URL:https://abkcdogs.net/events/abkc-holland/
LOCATION:Sporthal’t Jebbink\, Het Jebbink 13\, Vorden\, GLD\, 7251 BH\, Netherlands
ORGANIZER;CN="Edwin Handigman":MAILTO:pvt1983@hotmail.com
END:VEVENT
BEGIN:VEVENT
DTSTART;VALUE=DATE:20220409
DTEND;VALUE=DATE:20220410
DTSTAMP:20260420T130723
CREATED:20220127T184010Z
LAST-MODIFIED:20220415T122803Z
UID:20637-1649462400-1649548799@abkcdogs.net
SUMMARY:Supa6 Bullies Bound for Glory
DESCRIPTION:For More Information:\n570-492-6956\nsupa6bullies@gmail.com \nJudges: Tony Gold\, John Roneker\, TBA\, TBA\nAmerican Bully – Standard\, Pocket\, XL\, Classic\nShortybull\nFrench Bulldog\nOlde English Bulldogge\nJr Handler
URL:https://abkcdogs.net/events/supa6-bullies-bound-for-glory/
LOCATION:Iron Peak Sports Complex\, 137 Mountain View Road\, Hillsborough\, NJ\, 08844\, United States
ORGANIZER;CN="Mychael Brunson":MAILTO:supa6bullies@gmail.com
END:VEVENT
BEGIN:VEVENT
DTSTART;VALUE=DATE:20220403
DTEND;VALUE=DATE:20220404
DTSTAMP:20260420T130723
CREATED:20220330T123639Z
LAST-MODIFIED:20220415T122745Z
UID:21342-1648944000-1649030399@abkcdogs.net
SUMMARY:Mexicali ABKC Show
DESCRIPTION:Judges: Deanny Ohly\, TBD \nAmerican Bully – Standard\, XL\, Pocket\, Classic\nFrench Bulldog\nEnglish Bulldog\nBull Terrier\nBoxer\nDoberman
URL:https://abkcdogs.net/events/mexicali-abkc-show/
LOCATION:Paraue Vicente Guerrero\, Zona Sin Asignación de Nombre de Colonia\, Mexicali\, Baja California\, 21010\, Mexico
END:VEVENT
BEGIN:VEVENT
DTSTART;VALUE=DATE:20220402
DTEND;VALUE=DATE:20220403
DTSTAMP:20260420T130723
CREATED:20220127T183011Z
LAST-MODIFIED:20220415T123741Z
UID:20627-1648857600-1648943999@abkcdogs.net
SUMMARY:ABKC Jacksonsville Bully Showdown 2
DESCRIPTION:For More Information:\n904-838-3379 or 904-333-0560\npriefitlife@gmail.com \nJudges: TBA\, TBA\, TBA\, TBA\nAmerican Bully – Standard\, Pocket\, XL\, Classic\nAPBT\nShortybull\nFrench Bulldog\nOlde English Bulldogge\nEnglish Bulldog\nJr Handler
URL:https://abkcdogs.net/events/abkc-jacksonsville-bully-showdown-2/
LOCATION:Prime Osborn Convention Center\, 1000 Water Street\, Jacksonville\, FL\, 32204\, United States
ORGANIZER;CN="Prie & Julian Roldan":MAILTO:prielifefit@gmail.com
END:VEVENT
BEGIN:VEVENT
DTSTART;VALUE=DATE:20220327
DTEND;VALUE=DATE:20220328
DTSTAMP:20260420T130723
CREATED:20220321T214759Z
LAST-MODIFIED:20220415T123800Z
UID:21158-1648339200-1648425599@abkcdogs.net
SUMMARY:Final Tour Bully Suramerica
DESCRIPTION:Judges: Pablo Liceran\, Daniel Pineiro\, Jonathan Lugo \nAmerican Bully – Standard\, Pocket\, XL\, Classic\nAPBT\nFrench Bulldog\nEnglish Bulldog\nDachshund\nMastin Tibetano
URL:https://abkcdogs.net/events/final-tour-bully-suramerica/
LOCATION:Huancayo\, Huancayo\, Peru
ORGANIZER;CN="Felix Gomez":MAILTO:abkccolombia1@gmail.com
END:VEVENT
BEGIN:VEVENT
DTSTART;VALUE=DATE:20220326
DTEND;VALUE=DATE:20220328
DTSTAMP:20260420T130723
CREATED:20220117T230729Z
LAST-MODIFIED:20220415T123823Z
UID:20358-1648252800-1648425599@abkcdogs.net
SUMMARY:Dracula Bully Marathon
DESCRIPTION:2 Day Event\n4 Shows \nFor More Information:\nadrian.stoian@abkc.ro \nJudges: To be announced\nAmerican Bully – Standard\, Pocket\, XL\, Classic\nShortybull\nOlde English Bulldogge
URL:https://abkcdogs.net/events/dracula-bully-marathon/
LOCATION:Biarena Complex\, Jud. Timis\, Loc. Sanandrei\, Romania
ORGANIZER;CN="Adrian Stoian":MAILTO:adrian.stoian@abkc.ro
END:VEVENT
BEGIN:VEVENT
DTSTART;VALUE=DATE:20220326
DTEND;VALUE=DATE:20220327
DTSTAMP:20260420T130723
CREATED:20220204T150009Z
LAST-MODIFIED:20220415T123846Z
UID:20861-1648252800-1648339199@abkcdogs.net
SUMMARY:ABKC Hampton Roads Bully Classic 2022 -POSTPONED
DESCRIPTION:THIS SHOW HAS BEEN POSTPONED – NEW DATE TO BE DETERMINED
URL:https://abkcdogs.net/events/abkc-hampton-roads-bully-classic-2022/
LOCATION:Franklin-South Hampton Fairgrounds\, 25374 New Market Road\, Courtland\, VA\, 23837\, United States
ORGANIZER;CN="Rolando Mata":MAILTO:abkcseasonopener@gmail.com
END:VEVENT
BEGIN:VEVENT
DTSTART;VALUE=DATE:20220326
DTEND;VALUE=DATE:20220327
DTSTAMP:20260420T130723
CREATED:20220201T135103Z
LAST-MODIFIED:20220415T123921Z
UID:20710-1648252800-1648339199@abkcdogs.net
SUMMARY:BullyMania IV
DESCRIPTION:For More Information:\n+50588643274\nedarmengol@gmail.com \nJudges: Alex Ferraro\, John Certeza & TBA\nAmerican Bully – Standard\, Pocket\, XL\, Classic\nAPBT\nFrench Bulldog\nEnglish Bulldog\nBull Terrier
URL:https://abkcdogs.net/events/bullymania-iv/
LOCATION:Polideportivo Alexs Arguello\, Managua\, Nicaragua
ORGANIZER;CN="David Armengol":MAILTO:edarmengol@gmail.com
END:VEVENT
BEGIN:VEVENT
DTSTART;VALUE=DATE:20220326
DTEND;VALUE=DATE:20220327
DTSTAMP:20260420T130723
CREATED:20220117T224656Z
LAST-MODIFIED:20220415T123950Z
UID:20348-1648252800-1648339199@abkcdogs.net
SUMMARY:ABKC Bully Lights Vegas (Rooftop)
DESCRIPTION:For More Information:\n501-253-5284\nchristinamaxwellabkc@gmail.com \nJudges: TBA\, TBA\, TBA\, TBA\nAmerican Bully – Standard\, Pocket\, XL\, Classic\nAmerican Staffordshire Terrier\nShortybull\nFrench Bulldog\nOlde English Bulldogge\nEnglish Bulldog\nBull Terrier\nJr Handler
URL:https://abkcdogs.net/events/abkc-bully-lights-vegas-rooftop/
LOCATION:Santa Fe Hotel & Casino\, 4949 N Rancho Dr\, Las Vegas\, NV\, 89130\, United States
ORGANIZER;CN="Christina Maxwell":MAILTO:christinamaxwellabkc@gmail.com
END:VEVENT
BEGIN:VEVENT
DTSTART;VALUE=DATE:20220319
DTEND;VALUE=DATE:20220321
DTSTAMP:20260420T130723
CREATED:20220310T142833Z
LAST-MODIFIED:20220415T124013Z
UID:21118-1647648000-1647820799@abkcdogs.net
SUMMARY:Bima Bully Show 3
DESCRIPTION:2 day Event \nJudges: Pablo Liceran\,  Angel de Zayas\,  Jonathan Lugo\, Vanessa Cuevas \nAmerican Bully – Standard\, Pocket\, XL\, Classic\nAPBT\nFrench Bulldog\nEnglish Bulldog\nDachshund\nTibetan Mastiff
URL:https://abkcdogs.net/events/bima-bully-show-3/
LOCATION:CC Bima\, CC Bima\, Bogota\, Colombia
ORGANIZER;CN="Edwin Vargas":MAILTO:abkccolombia1@gmail.com
END:VEVENT
BEGIN:VEVENT
DTSTART;VALUE=DATE:20220319
DTEND;VALUE=DATE:20220320
DTSTAMP:20260420T130723
CREATED:20220310T144019Z
LAST-MODIFIED:20220415T124035Z
UID:21125-1647648000-1647734399@abkcdogs.net
SUMMARY:Delta B Lavish Show - Pampanga
DESCRIPTION:Judges: John Enerva\, Mauricio Campas \nAmerican Bully – Standard\, Pocket\, XL\, Classic
URL:https://abkcdogs.net/events/delta-b-lavish-show-pampanga/
LOCATION:San Fernando\, San Fernando\, Pampanga\, Philippines
ORGANIZER;CN="Arturo Dungca":MAILTO:dungca.arthur@yahoo.com
END:VEVENT
BEGIN:VEVENT
DTSTART;VALUE=DATE:20220319
DTEND;VALUE=DATE:20220320
DTSTAMP:20260420T130723
CREATED:20220117T224217Z
LAST-MODIFIED:20220415T124056Z
UID:20344-1647648000-1647734399@abkcdogs.net
SUMMARY:Pensacola Bully Bash 3
DESCRIPTION:For More Information:\n269-462-0430\nabkcregina@gmail.com \nJudges: Ernest Tagle\, Racheal Ogletree\, Rolando Mata\, Hilda Morel\nAmerican Bully- Standard\, Pocket\, XL\, Classic\nShortybull\nFrench Bulldog\nEnglish Bulldog\nOlde English Bulldogge\nAPBT\nJR Handler
URL:https://abkcdogs.net/events/pensacola-bully-bash-3/
LOCATION:Penasacola Fairgounds\, 6655 W Mobile Hwy\, Pensacola\, FL\, 32526\, United States
ORGANIZER;CN="Regina Goins":MAILTO:abkcregina@gmail.com
END:VEVENT
BEGIN:VEVENT
DTSTART;VALUE=DATE:20220312
DTEND;VALUE=DATE:20220314
DTSTAMP:20260420T130723
CREATED:20220117T223040Z
LAST-MODIFIED:20220415T124138Z
UID:20338-1647043200-1647215999@abkcdogs.net
SUMMARY:Atlanta Bully Marathon 2022
DESCRIPTION:2 Day Event\n6 Shows \nFor More Information:\n404-819-6332 \nJudges: TBA\nAmerican Bully – Standard\, Pocket\, XL\, Classic\nAPBT\nShortybull\nFrench Bulldog\nOlde English Bulldogge\nJr Handler
URL:https://abkcdogs.net/events/atlanta-bully-marathon-2022/
LOCATION:Jason T Harper Arena\, 95 Lake Dow Road\, McDonough\, GA\, 30253\, United States
ORGANIZER;CN="Rolando Mata":MAILTO:abkcseasonopener@gmail.com
END:VEVENT
BEGIN:VEVENT
DTSTART;VALUE=DATE:20220312
DTEND;VALUE=DATE:20220314
DTSTAMP:20260420T130723
CREATED:20220308T154829Z
LAST-MODIFIED:20220415T124115Z
UID:21065-1647043200-1647215999@abkcdogs.net
SUMMARY:Regionales
DESCRIPTION:2 Day Event \nJudges: Quiti Rodriguez\, Nico Van Deijzen\, Johnathon Lugo\, Chris Moore \nAmerican Bully – Standard\, Pocket\, XL\, Classic\nAPBT\nFrench Bulldog\nEnglish Bulldog\nTequel\nJr Handler
URL:https://abkcdogs.net/events/regionales/
LOCATION:Asociacion Holstein\, Quito\, Pichincha\, 593\, Ecuador
END:VEVENT
BEGIN:VEVENT
DTSTART;VALUE=DATE:20220312
DTEND;VALUE=DATE:20220313
DTSTAMP:20260420T130723
CREATED:20220117T223813Z
LAST-MODIFIED:20220415T124203Z
UID:20341-1647043200-1647129599@abkcdogs.net
SUMMARY:Oklahoma Bully Bowl 1
DESCRIPTION:For More Information:\n501-253-5284\nchristinamaxwellabkc@gmail.com \nJudges: TBA\, TBA\, TBA\, TBA\nAmerican Bully – Standard\, Pocket\, XL\, Classic\nAPBT\nShortybull\nFrench Bulldog\nOlde English Bulldogge\nEnglish Bulldog\nAmerican Bulldog\nBull Terrier\nJr Handler
URL:https://abkcdogs.net/events/oklahoma-bully-bowl-1/
LOCATION:Oklahoma City Convention Center\, 416 S Robinson Ave\, Oklahoma City\, OK\, 73109\, United States
ORGANIZER;CN="Christina Maxwell":MAILTO:christinamaxwellabkc@gmail.com
END:VEVENT
BEGIN:VEVENT
DTSTART;VALUE=DATE:20220305
DTEND;VALUE=DATE:20220307
DTSTAMP:20260420T130723
CREATED:20220111T041231Z
LAST-MODIFIED:20220415T124225Z
UID:20050-1646438400-1646611199@abkcdogs.net
SUMMARY:Thug Blast Verano ABKC Chili 2022
DESCRIPTION:2 Day Event\n4 Shows \nFor More Information:\n+56933426846\nendorionk772@gmail.com \nJudges: Pablo Liceran\, Alex Perez\, Joakin Acedo\, Rolando Mata\nAmerican Bullies – Standard\, Pocket\, XL\, Classic\nAPBT\nFrench Bulldogs\nEnglish Bulldogs\nDachshunds
URL:https://abkcdogs.net/events/thug-blast-verano-abkc-chili-2022/
LOCATION:Santiago\, Chile
ORGANIZER;CN="Ender Valera":MAILTO:endorionk772@gmail.com
END:VEVENT
BEGIN:VEVENT
DTSTART;VALUE=DATE:20220305
DTEND;VALUE=DATE:20220306
DTSTAMP:20260420T130723
CREATED:20220302T143417Z
LAST-MODIFIED:20220415T124247Z
UID:21029-1646438400-1646524799@abkcdogs.net
SUMMARY:Meltown
DESCRIPTION:Judge: John Enerva \nAmerican Bully – Standard\, Pocket\, XL\, Classic
URL:https://abkcdogs.net/events/meltown/
LOCATION:Laus Event Center San Fernando Pampanga\, San Fernando Interchange\, San Fernando\, Pampanga\, 2000\, Philippines
ORGANIZER;CN="John Ryan Ochoa":MAILTO:jrochoa1980@yahoo.com
END:VEVENT
BEGIN:VEVENT
DTSTART;VALUE=DATE:20220305
DTEND;VALUE=DATE:20220306
DTSTAMP:20260420T130723
CREATED:20220117T222238Z
LAST-MODIFIED:20220415T124309Z
UID:20330-1646438400-1646524799@abkcdogs.net
SUMMARY:Return of the Bullies
DESCRIPTION:For More Information:\n+44 7399365422\nabkcuk@hotmail.com \nJudges: Sergio Dufort & Monsorat McField\nAmerican Bully – Standard\, Pocket\, XL\, Classic\nFrench Bulldog\nOlde English Bulldogge\nEnglish Bulldog\nCane Corso\nStaffy Bull\nChinese Chongqing\nJr Handler \nPre Registration
URL:https://abkcdogs.net/events/return-of-the-bullies/
LOCATION:Telford International Centre\, Teleford International Centre\, International Way\, Telford\, TF3 4JH\, United Kingdom
ORGANIZER;CN="Sean Main":MAILTO:abkcuk@hotmail.com
END:VEVENT
BEGIN:VEVENT
DTSTART;VALUE=DATE:20220226
DTEND;VALUE=DATE:20220228
DTSTAMP:20260420T130723
CREATED:20220127T181506Z
LAST-MODIFIED:20220415T124341Z
UID:20622-1645833600-1646006399@abkcdogs.net
SUMMARY:Central America Bully Bash 2022
DESCRIPTION:2 day Event\nFebruary 26 & February 27\n5 Shows \nFor More Information:\n8951-9217 or 786-533-6944\ninklifework@gmail.com \nJudges: Rolando Mata\, Errol Bodden\, Tavoris Ingram\, Brian Peterson\, Nico Christino \nAmerican Bully – Standard\, Pocket\, XL\, Classic\nAPBT\nFrench Bulldog\nBull Terrier
URL:https://abkcdogs.net/events/central-america-bully-bash-2022/
LOCATION:Parque Obrero\, Tegucigalpa\, Honduras
ORGANIZER;CN="Edgar Ayala":MAILTO:inklifework@gmail.com
END:VEVENT
BEGIN:VEVENT
DTSTART;VALUE=DATE:20220226
DTEND;VALUE=DATE:20220227
DTSTAMP:20260420T130723
CREATED:20220117T230249Z
LAST-MODIFIED:20220415T124402Z
UID:20355-1645833600-1645919999@abkcdogs.net
SUMMARY:ABKC Houston Bully Classic
DESCRIPTION:Judges:\nTBA\, TBA\, TBA\, TBA \nBreeds:\nAmerican Bully – Standard\, Pocket\, XL\, Classic\nAPBT\nShortybull\nFrench Bulldog\nOlde English Bulldogge\nEnglish Bulldog\nSave-A-Bully\nJr Handler
URL:https://abkcdogs.net/events/abkc-houston-bully-classic/
LOCATION:Pasadena Convention Center\, 7902 Fairmont Parkway\, Pasadena\, TX\, 77507\, United States
ORGANIZER;CN="Christina Maxwell":MAILTO:christinamaxwellabkc@gmail.com
END:VEVENT
BEGIN:VEVENT
DTSTART;VALUE=DATE:20220220
DTEND;VALUE=DATE:20220221
DTSTAMP:20260420T130723
CREATED:20220201T135854Z
LAST-MODIFIED:20220415T124426Z
UID:20715-1645315200-1645401599@abkcdogs.net
SUMMARY:Summer Show 4
DESCRIPTION:For More Information:\n502 59300363\nabkcguatemala@gmail.com \nJudges: Felix Betancourt & Roberto Guzman\nAmerican Bully – Standard\, Pocket\, XL\, Classic\nAPBT\nFrench Bulldog\nEnglish Bulldog\nAmerican Bulldog\nBull Terrier\nDogo Guatemalteco\nJr Handler
URL:https://abkcdogs.net/events/summer-show-4/
LOCATION:Hacienda San Isidro\, Villa Neuva\, Guatemala
ORGANIZER;CN="Eddie Gaitan":MAILTO:abkcguatemala@gmail.com
END:VEVENT
BEGIN:VEVENT
DTSTART;VALUE=DATE:20220219
DTEND;VALUE=DATE:20220220
DTSTAMP:20260420T130723
CREATED:20220117T215107Z
LAST-MODIFIED:20220415T124444Z
UID:20312-1645228800-1645315199@abkcdogs.net
SUMMARY:ABKC Russia
DESCRIPTION:For More Information:\n791 601 32453\nzoolux.eu@yandex.ru \nJudges: TBA\, TBA\nAmerican Bully – Standard\, Pocket\, XL\, Classic\nAPBT\nFrench Bulldog\nOlde English Bulldogge\nEnglish Bulldog
URL:https://abkcdogs.net/events/abkc-russia/
LOCATION:Maxima\, Moscow\, Russian Federation
ORGANIZER;CN="Christina Maxwell":MAILTO:christinamaxwellabkc@gmail.com
END:VEVENT
BEGIN:VEVENT
DTSTART;VALUE=DATE:20220212
DTEND;VALUE=DATE:20220214
DTSTAMP:20260420T130723
CREATED:20220117T220420Z
LAST-MODIFIED:20220415T124507Z
UID:20319-1644624000-1644796799@abkcdogs.net
SUMMARY:Bullytine Love Bash 7
DESCRIPTION:2 Day Event\n6 Shows \nFor More Information:\n501-253-5284\nchristinamaxwellabkc@gmail.com \nJudges: TBA\, TBA\, TBA\, TBA\, TBA\, TBA\nAmerican Bully – Standard\, Pocket\, XL\, Classic\nAPBT\nAmerican Staffordshire Terrier\nShortybull\nFrench Bulldog\nOlde English Bulldogge\nEnglish Bulldog\nAmerican Bulldog\nBull Terrier\nJr Handler
URL:https://abkcdogs.net/events/bullytine-love-bash-7/
LOCATION:Purina Farms\, 300 Checkerboard Loop\, Grey Summit\, MO\, 63039\, United States
ORGANIZER;CN="Christina Maxwell":MAILTO:christinamaxwellabkc@gmail.com
END:VEVENT
BEGIN:VEVENT
DTSTART;VALUE=DATE:20220129
DTEND;VALUE=DATE:20220130
DTSTAMP:20260420T130723
CREATED:20220114T201958Z
LAST-MODIFIED:20220415T124524Z
UID:20206-1643414400-1643500799@abkcdogs.net
SUMMARY:Las Vegas Bully Invitationals X
DESCRIPTION:Organizer\n702-768-4286 or 702-768-4714 \nMore Info\nFor More Information:\nJudges: Vanessa Cuevas\, Val Macedo\, Cindy McCloskey\, Regina Goins\nAmerican Bullies – Standard\, Pocket\, XL\, Classic\nShortybulls\nFrench Bulldogs\nEnglish Bulldogs\nJr Handler
URL:https://abkcdogs.net/events/las-vegas-bully-invitationals-x/
LOCATION:Santa Fe Hotel & Casino\, 4949 N Rancho Dr\, Las Vegas\, NV\, 89130\, United States
END:VEVENT
BEGIN:VEVENT
DTSTART;VALUE=DATE:20220129
DTEND;VALUE=DATE:20220130
DTSTAMP:20260420T130723
CREATED:20220114T192512Z
LAST-MODIFIED:20220415T124545Z
UID:20191-1643414400-1643500799@abkcdogs.net
SUMMARY:ABKC All Star Bully Showdown
DESCRIPTION:501-253-5284\nchristinamaxwellabkc@gmail.com \nFor More Information:\nJudges: Chris White\, Lou Manipon\, Rolando Mata\, John Certeza\nAmerican Bullies – Standard\, Pocket\, XL\, Classic\nShortybulls\nFrench Bulldogs\nAPBT\nEnglish Bulldogs\nOlde English Bulldogges\nBull Terriers\nJr Handlers
URL:https://abkcdogs.net/events/abkc-all-star-bully-showdown/
LOCATION:ESports Stadium Arlington\, 1200 Ballpark Way\, Arlington\, TX\, 76011\, United States
ORGANIZER;CN="Christina Maxwell":MAILTO:Christinamaxwellabkc@gmail.com
END:VEVENT
BEGIN:VEVENT
DTSTART;VALUE=DATE:20220122
DTEND;VALUE=DATE:20220124
DTSTAMP:20260420T130723
CREATED:20220117T225835Z
LAST-MODIFIED:20220415T124558Z
UID:20350-1642809600-1642982399@abkcdogs.net
SUMMARY:Entre Lagos y Volcanes
DESCRIPTION:2 Day Event\n4 Shows \nFor More Information:\n+505 5820 5734 or +505 57324760\nyuxber@hotmail.com \nJudges: Errol Bodden\, Felix Bentancourt\, Brian McGee\, Nico Christino\nAmerican Bully- Standard\, Pocket\, XL\, Classic\nAPBT\nFrench Bulldog\nEnglish Bulldog\nBull Terrier
URL:https://abkcdogs.net/events/entre-lagos-y-volcanes/
LOCATION:IND\, Managua\, Nicaragua
ORGANIZER;CN="Ever Salazar":MAILTO:yuxber@hotmail.com
END:VEVENT
END:VCALENDAR