BEGIN:VCALENDAR
VERSION:2.0
PRODID:-//THE AMERICAN BULLY KENNEL CLUB - ECPv6.15.18//NONSGML v1.0//EN
CALSCALE:GREGORIAN
METHOD:PUBLISH
X-WR-CALNAME:THE AMERICAN BULLY KENNEL CLUB
X-ORIGINAL-URL:https://abkcdogs.net
X-WR-CALDESC:Events for THE AMERICAN BULLY KENNEL CLUB
REFRESH-INTERVAL;VALUE=DURATION:PT1H
X-Robots-Tag:noindex
X-PUBLISHED-TTL:PT1H
BEGIN:VTIMEZONE
TZID:America/New_York
BEGIN:DAYLIGHT
TZOFFSETFROM:-0500
TZOFFSETTO:-0400
TZNAME:EDT
DTSTART:20210314T070000
END:DAYLIGHT
BEGIN:STANDARD
TZOFFSETFROM:-0400
TZOFFSETTO:-0500
TZNAME:EST
DTSTART:20211107T060000
END:STANDARD
BEGIN:DAYLIGHT
TZOFFSETFROM:-0500
TZOFFSETTO:-0400
TZNAME:EDT
DTSTART:20220313T070000
END:DAYLIGHT
BEGIN:STANDARD
TZOFFSETFROM:-0400
TZOFFSETTO:-0500
TZNAME:EST
DTSTART:20221106T060000
END:STANDARD
BEGIN:DAYLIGHT
TZOFFSETFROM:-0500
TZOFFSETTO:-0400
TZNAME:EDT
DTSTART:20230312T070000
END:DAYLIGHT
BEGIN:STANDARD
TZOFFSETFROM:-0400
TZOFFSETTO:-0500
TZNAME:EST
DTSTART:20231105T060000
END:STANDARD
END:VTIMEZONE
BEGIN:VTIMEZONE
TZID:UTC
BEGIN:STANDARD
TZOFFSETFROM:+0000
TZOFFSETTO:+0000
TZNAME:UTC
DTSTART:20210101T000000
END:STANDARD
END:VTIMEZONE
BEGIN:VEVENT
DTSTART;VALUE=DATE:20220618
DTEND;VALUE=DATE:20220619
DTSTAMP:20260421T000514
CREATED:20220201T151255Z
LAST-MODIFIED:20220415T121809Z
UID:20763-1655510400-1655596799@abkcdogs.net
SUMMARY:Allentown Bully Extravaganza 11
DESCRIPTION:For More Information:\nAngel – 484-656-6579\nJames – 518-947-4109\nbullysupplies@aol.com \nJudges: TBA\, TBA\, TBA\, TBA\nAmerican Bully – Standard\, Pocket\, XL\, Classic\nAPBT\nShortybull\nFrench Bulldog\nEnglish Bulldog\nOlde English Bulldogge\nCane Corso\nJr Handler
URL:https://abkcdogs.net/events/allentown-bully-extravaganza-11/
LOCATION:Allentown Fairgrounds\, Ag Hall - 302 N 17th Street\, Allentown\, PA\, 18102\, United States
END:VEVENT
BEGIN:VEVENT
DTSTART;VALUE=DATE:20220611
DTEND;VALUE=DATE:20220612
DTSTAMP:20260421T000514
CREATED:20220302T142837Z
LAST-MODIFIED:20220429T161640Z
UID:21023-1654905600-1654991999@abkcdogs.net
SUMMARY:205 Takeover 2022 Presented by Pooch Ooze
DESCRIPTION:Judges: TBA\, TBA\, TBA\, TBA \nAmerican Bully – Standard\, Pocket\, XL\, Classic\nShortybull\nFrench Bulldog\nOlde English Bulldogge\nJr Handler
URL:https://abkcdogs.net/events/205-takeover-2022-presented-by-pooch-ooze/
LOCATION:Shelby County Exhibition Center\, 86 Argo Road\, Birmingham\, AL\, 35051\, United States
ORGANIZER;CN="Teyana Benson":MAILTO:poochooze@gmail.com
END:VEVENT
BEGIN:VEVENT
DTSTART;VALUE=DATE:20220611
DTEND;VALUE=DATE:20220612
DTSTAMP:20260421T000514
CREATED:20220201T161552Z
LAST-MODIFIED:20220415T121830Z
UID:20809-1654905600-1654991999@abkcdogs.net
SUMMARY:Ohio Bully Bonanza 2
DESCRIPTION:For More Information:\n706-851-5993\nrobb30513@yahoo.com \nJudges: TBA\, TBA\, TBA\, TBA\nAmerican Bully – Standard\, Pocket\, XL\, Classic\nAPBT\nShortybull\nFrench Bulldog\nEnglish Bulldog\nOlde English Bulldogge\nAmerican Bulldog\nBull Terrier\nJr Handler
URL:https://abkcdogs.net/events/ohio-bully-bonanza-2/
LOCATION:Wayne County Event Center\, 199 Vanover Street\, Wooster\, OH\, 44691\, United States
ORGANIZER;CN="Robb Corn":MAILTO:robb30513@yahoo.com
END:VEVENT
BEGIN:VEVENT
DTSTART;VALUE=DATE:20220611
DTEND;VALUE=DATE:20220612
DTSTAMP:20260421T000514
CREATED:20220201T150854Z
LAST-MODIFIED:20220415T121858Z
UID:20758-1654905600-1654991999@abkcdogs.net
SUMMARY:Rocky Mountain Bully Battle Royal
DESCRIPTION:For More Information:\n719-505-5997\n915-503-0534\nlisapedraza2012@gmail.com \nJudges: Brian Romero & Brooke Romero\nAmerican Bully – Standard\, Pocket\, XL\, Classic\nShortybull\nFrench Bulldog\nEnglish Bulldog\nAmerican Bulldog\nJr Handler
URL:https://abkcdogs.net/events/rocky-mountain-bully-battle-royal/
LOCATION:Colorado State Fairground Palace of Agriculture\, 1001 Beulah Ave\, Pueblo\, CO\, 81004\, United States
ORGANIZER;CN="Lisa Pedraza":MAILTO:lisapedraza2012@yahoo.com
END:VEVENT
BEGIN:VEVENT
DTSTART;VALUE=DATE:20220604
DTEND;VALUE=DATE:20220605
DTSTAMP:20260421T000514
CREATED:20220201T150323Z
LAST-MODIFIED:20220415T122004Z
UID:20753-1654300800-1654387199@abkcdogs.net
SUMMARY:East Texas Bully Classic
DESCRIPTION:For More Information:\n210-862-0018\n903-803-3378\nstephnwitherspoon@gmail.com \nJudges: Chris Moore\, Rolando Mata\, TBA\, TBA\nAmerican Bully – Standard\, Pocket\, XL\, Classic\nShortybull\nFrench Bulldog\nEnglish Bulldog\nJr Handler
URL:https://abkcdogs.net/events/east-texas-bully-classic/
LOCATION:Maude Cobb Convention Center\, 100 Grand Blvd\, Longview\, TX\, 75604\, United States
ORGANIZER;CN="Stephanie Hicks":MAILTO:stephnwitherspoon@gmail.com
END:VEVENT
BEGIN:VEVENT
DTSTART;VALUE=DATE:20220528
DTEND;VALUE=DATE:20220529
DTSTAMP:20260421T000514
CREATED:20220517T140433Z
LAST-MODIFIED:20220517T140437Z
UID:21772-1653696000-1653782399@abkcdogs.net
SUMMARY:Circuito Los Libertadores - Copa Trasandina
DESCRIPTION:Judges – TBA\, TBA \nAmerican Bully – Standard\, Pocket\, XL\, Classic
URL:https://abkcdogs.net/events/circuito-los-libertadores-copa-trasandina/
LOCATION:Quinta Las Rosas\, Mendoza\, MZA\, Argentina
END:VEVENT
BEGIN:VEVENT
DTSTART;VALUE=DATE:20220528
DTEND;VALUE=DATE:20220529
DTSTAMP:20260421T000514
CREATED:20220427T141308Z
LAST-MODIFIED:20220427T141612Z
UID:21689-1653696000-1653782399@abkcdogs.net
SUMMARY:Cebu South Side Bully Wars
DESCRIPTION:Judge: John Enerva \nAmerican Bully – Standard\, Pocket\, XL\, Classic
URL:https://abkcdogs.net/events/cebu-south-side-bully-wars/
LOCATION:Hoops Dome\, Lapu Lapu City\, Cebu\, Philippines
ORGANIZER;CN="Nard Cruz":MAILTO:nardczx019@yahoo.com
END:VEVENT
BEGIN:VEVENT
DTSTART;VALUE=DATE:20220521
DTEND;VALUE=DATE:20220523
DTSTAMP:20260421T000514
CREATED:20220201T155958Z
LAST-MODIFIED:20220427T145219Z
UID:20805-1653091200-1653263999@abkcdogs.net
SUMMARY:All Star Bully Expo
DESCRIPTION:2 Day Event\n6 Shows \nJudges: TBA\, TBA\, TBA\, TBA\, TBA\, TBA \nAmerican Bully – Standard\, Pocket\, XL\, Classic\nAPBT\nAm Staff\nShortybull\nFrench Bulldog\nEnglish Bulldog\nOlde English Bulldogge\nAmerican Bulldog\nBull Terrier\nJr Handler
URL:https://abkcdogs.net/events/bully-breeder-easter-classic/
LOCATION:Purina Farms\, 300 Checkerboard Loop\, Grey Summit\, MO\, 63039\, United States
ORGANIZER;CN="Christina Maxwell":MAILTO:Christinamaxwellabkc@gmail.com
END:VEVENT
BEGIN:VEVENT
DTSTART;VALUE=DATE:20220521
DTEND;VALUE=DATE:20220523
DTSTAMP:20260421T000514
CREATED:20220201T145347Z
LAST-MODIFIED:20220415T122247Z
UID:20743-1653091200-1653263999@abkcdogs.net
SUMMARY:West Coast Bullies Expo VII
DESCRIPTION:2 Day Event\n8 Shows with 1 French Bulldog Show \nFor More Information:\n808-253-8949\njcabkcjudge@gmail.com \nJudges: Nico Van Deijzen\, Maria Paulina\, Alex Ferraro\, Devyn Ferraro\, TBA\, TBA\, TBA\, TBA\nAmerican Bully – Standard\, Pocket\, XL\, Classic\nShortybull\nFrench Bulldog\nEnglish Bulldog\nJr Handler
URL:https://abkcdogs.net/events/west-coast-bullies-expo-vii/
LOCATION:Lodi Grape Festival\, 413 E Lockeford St\, Lodi\, CA\, 95241\, United States
ORGANIZER;CN="John Certeza":MAILTO:jcabkcjudge@gmail.com
END:VEVENT
BEGIN:VEVENT
DTSTART;VALUE=DATE:20220514
DTEND;VALUE=DATE:20220515
DTSTAMP:20260421T000514
CREATED:20220201T144606Z
LAST-MODIFIED:20220415T122329Z
UID:20738-1652486400-1652572799@abkcdogs.net
SUMMARY:Bohemia Show
DESCRIPTION:For More Information:\n+420725423044\nabkccz@gmail.com \nJudges: Joakin Acedo & Ivan Miron\nAmerican Bully – Standard\, Pocket\, XL\, Classic
URL:https://abkcdogs.net/events/bohemia-show/
LOCATION:Vystaviste Kromeriz\, Kromeriz\, 76701\, Czech Republic
ORGANIZER;CN="Marketa Schwalbe":MAILTO:abkccz@gmail.com
END:VEVENT
BEGIN:VEVENT
DTSTART;VALUE=DATE:20220514
DTEND;VALUE=DATE:20220515
DTSTAMP:20260421T000514
CREATED:20220201T144257Z
LAST-MODIFIED:20220415T122355Z
UID:20732-1652486400-1652572799@abkcdogs.net
SUMMARY:North Carolina Bully Convention 6
DESCRIPTION:For More Information:\nAngel – 484-656-6579\nJames – 518-947-4109\nDavid – 484-488-5191 \nJudges: TBA\, TBA\, TBA\, TBA\nAmerican Bully – Standard\, Pocket\, XL\, Classic\nShortybull\nFrench Bulldog\nEnglish Bulldog\nOlde English Bulldoggge\nSave-A-Bully\nJr Handler
URL:https://abkcdogs.net/events/north-carolina-bully-convention-6/
LOCATION:Winston Salem Fairgrounds\, Education Building - 2886 Shorefair Drive\, Winston-Salem\, NC\, 27105\, United States
END:VEVENT
BEGIN:VEVENT
DTSTART;VALUE=DATE:20220513
DTEND;VALUE=DATE:20220515
DTSTAMP:20260421T000514
CREATED:20220201T143531Z
LAST-MODIFIED:20220415T122418Z
UID:20725-1652400000-1652572799@abkcdogs.net
SUMMARY:PNW Bringing it Back III
DESCRIPTION:2 Day Event\n1 Show Friday Night\n4 Shows Saturday \nFor More Information:\n503-828-5897\najevp3@gmail.com \nJudges: TBA\, TBA\, TBA\, TBA\, TBA\nAmerican Bully – Standard\, Pocket\, XL\, Classic\nShortybull\nFrench Bulldog\nEnglish Bulldog\nJr Handler
URL:https://abkcdogs.net/events/pnw-bringing-it-back-iii/
LOCATION:SW Washington Fairgrounds\, 1909 S Gold Street\, Centralia\, WA\, 98531\, United States
ORGANIZER;CN="Abel Villarreal":MAILTO:ajevp3@gmail.com
END:VEVENT
BEGIN:VEVENT
DTSTART;VALUE=DATE:20220508
DTEND;VALUE=DATE:20220509
DTSTAMP:20260421T000514
CREATED:20220408T192826Z
LAST-MODIFIED:20220415T122438Z
UID:21440-1651968000-1652054399@abkcdogs.net
SUMMARY:Nacion de Gigantes Vol. II
DESCRIPTION:Judges: Quiti Rodriguez & Roberto Guzman \nAmerican Bully – Standard\, Pocket\, XL\, Classic\nAPBT\nFrench Bulldog\nEnglish Bulldog\nBull Terrier\nPug
URL:https://abkcdogs.net/events/nacion-de-gigantes-vol-ii/
LOCATION:Nacional de Ingenieros Coliseum\, 3RMR+JXM\, Tegucigalpa\, FM\, Honduras
ORGANIZER;CN="Elvi Molina":MAILTO:davidmolina_18@yahoo.com
END:VEVENT
BEGIN:VEVENT
DTSTART;VALUE=DATE:20220507
DTEND;VALUE=DATE:20220508
DTSTAMP:20260421T000514
CREATED:20220427T143351Z
LAST-MODIFIED:20220427T143351Z
UID:21698-1651881600-1651967999@abkcdogs.net
SUMMARY:Spring Bully Fest
DESCRIPTION:Judges: Nico Van Deijzen & Gabriel Paun \nAmerican Bully – Standard\, Pocket\, XL\, Classic\nAm Staff\nFrench Bulldog
URL:https://abkcdogs.net/events/spring-bully-fest/
LOCATION:Pavello Poliesportiu Municipal\, Del Palau D Anglesola\, AV. Paisos Catalanes\, Palau D' Anglesola\, Lleida\, 25243\, Spain
ORGANIZER;CN="William Ogren":MAILTO:williamogren@hotmail.com
END:VEVENT
BEGIN:VEVENT
DTSTART;VALUE=DATE:20220507
DTEND;VALUE=DATE:20220508
DTSTAMP:20260421T000514
CREATED:20220408T191547Z
LAST-MODIFIED:20220415T122459Z
UID:21425-1651881600-1651967999@abkcdogs.net
SUMMARY:Bully Zone
DESCRIPTION:Judge: John Enerva \nAmerican Bully – Standard\, Pocket\, XL\, Classic
URL:https://abkcdogs.net/events/bully-zone/
LOCATION:Aquamarine Recreational Center\, 18 4\, Lipa\, Batangas\, Philippines
ORGANIZER;CN="Edely Esguerra":MAILTO:rooftopbullies@gmail.com
END:VEVENT
BEGIN:VEVENT
DTSTART;VALUE=DATE:20220507
DTEND;VALUE=DATE:20220508
DTSTAMP:20260421T000514
CREATED:20220201T142447Z
LAST-MODIFIED:20220415T122519Z
UID:20722-1651881600-1651967999@abkcdogs.net
SUMMARY:Ring in the Spring
DESCRIPTION:More Information Coming..
URL:https://abkcdogs.net/events/ring-in-the-spring/
LOCATION:TBD-Arizona\, Mesa\, AZ\, United States
END:VEVENT
BEGIN:VEVENT
DTSTART;VALUE=DATE:20220501
DTEND;VALUE=DATE:20220502
DTSTAMP:20260421T000514
CREATED:20220302T154704Z
LAST-MODIFIED:20220415T122538Z
UID:21037-1651363200-1651449599@abkcdogs.net
SUMMARY:Match Revolution
DESCRIPTION:Judges: Aldo Paredes & TBA \nAmerican Bully- Standard\, Pocket\, XL\, Classic\nFrench Bulldog\nEnglish Bulldog
URL:https://abkcdogs.net/events/match-revolution/
LOCATION:Rancho San Jose\, Rancho San Jose\, Libramento Vial Club Col. Cuxtitla\, Tizayuca\, Hildago\, Mexico
END:VEVENT
BEGIN:VEVENT
DTSTART;VALUE=DATE:20220430
DTEND;VALUE=DATE:20220501
DTSTAMP:20260421T000514
CREATED:20220127T193714Z
LAST-MODIFIED:20220415T122559Z
UID:20668-1651276800-1651363199@abkcdogs.net
SUMMARY:ABKC Royal Bully Bash II
DESCRIPTION:For More Information:\n502-200-3964\njjsmovingsolutionsteam@gmail.com \nJudges: Devyn Ferraro\, Alex Ferraro\, TBA\, TBA\nAmerican Bully – Standard\, Pocket\, XL\, Classic\nAPBT\nAm Staff\nShortybull\nFrench Bulldog\nOlde English Bulldogge\nEnglish Bulldog\nAmerican Bulldog\nJr Handler
URL:https://abkcdogs.net/events/abkc-royal-bully-bash-ii/
LOCATION:Louisville Fairgrounds\, 937 Phillips Lane\, Louisville\, KY\, 40272\, United States
ORGANIZER;CN="Jesse Jones":MAILTO:jjsmovingsolutionsteam@gmail.com
END:VEVENT
BEGIN:VEVENT
DTSTART;VALUE=DATE:20220423
DTEND;VALUE=DATE:20220424
DTSTAMP:20260421T000514
CREATED:20220127T195929Z
LAST-MODIFIED:20220415T122625Z
UID:20680-1650672000-1650758399@abkcdogs.net
SUMMARY:NorthEast Bully Reunion 3
DESCRIPTION:For More Information:\n610-570-4110 or 610-207-6039\nloyaltyloverespect@yahoo.com \nJudges: TBA\, TBA\, TBA\, TBA\nAmerican Bully – Standard\, Pocket\, XL\, Classic\nFrench Bulldog\nShortybull\nOlde English Bulldogge\nEnglish Bulldog\nJr Handlers
URL:https://abkcdogs.net/events/northeast-bully-reunion-3/
LOCATION:Salem County Fairgrounds\, 735 Harding Hwy\, Pilesgrove\, NJ\, 08098\, United States
ORGANIZER;CN="Latasha Quevedo":MAILTO:loyaltyloverespect@yahoo.com
END:VEVENT
BEGIN:VEVENT
DTSTART;VALUE=DATE:20220423
DTEND;VALUE=DATE:20220424
DTSTAMP:20260421T000514
CREATED:20220127T195120Z
LAST-MODIFIED:20220415T122647Z
UID:20674-1650672000-1650758399@abkcdogs.net
SUMMARY:Rise of the Southwest
DESCRIPTION:For More Information:\n505-688-7278 or 505-304-5083\nnmdogshows@gmail.com \nJudges: TBA\, TBA\, TBA\nAmerican Bully – Standard\, Pocket\, XL\, Classic\nFrench Bulldog\nEnglish Bulldog\nJr Handler
URL:https://abkcdogs.net/events/rise-of-the-southwest/
LOCATION:Expo New Mexico (State Fair)\, Lujan Building\, 300 San Pedro Dr NE\, Albuquerque\, NM\, 87108\, United States
ORGANIZER;CN="Paul Tafoya":MAILTO:nmdogshows@gmail.com
END:VEVENT
BEGIN:VEVENT
DTSTART;VALUE=DATE:20220423
DTEND;VALUE=DATE:20220424
DTSTAMP:20260421T000514
CREATED:20220127T192824Z
LAST-MODIFIED:20220415T123503Z
UID:20663-1650672000-1650758399@abkcdogs.net
SUMMARY:ABKC Double Show of Slovakia
DESCRIPTION:For More Information:\n+42 1910275726\nabkcslovakia@gmail.com \nJudges: Alex Ferraro & Raffaele Colace\nAmerican Bully – Standard\, Pocket\, XL\, Classic\nAPBT\nAm Staff\nFrench Bulldog\nOlde English Bulldogge\nEnglish Bulldog
URL:https://abkcdogs.net/events/abkc-double-show-of-slovakia/
LOCATION:Ranch 13\, Antionstmiska dolina\, Nemsova\, Slovakia (Slovak Republic)
ORGANIZER;CN="Zuzana Kalinayova":MAILTO:abkcslovakia@gmail.com
END:VEVENT
BEGIN:VEVENT
DTSTART;VALUE=DATE:20220416
DTEND;VALUE=DATE:20220418
DTSTAMP:20260421T000514
CREATED:20220117T222726Z
LAST-MODIFIED:20220413T133906Z
UID:20334-1650067200-1650239999@abkcdogs.net
SUMMARY:Spring Bully Fest 3
DESCRIPTION:2 day Event\n8 Shows \nFor More Information:\n619-318-4201\nvanessac1976@gmail.com \nJudges: Saturday: Nico Christino\, Brian McGee\, James Feltus\, Deanna Ohly\nSunday: TBA\, Felix Betancourt\, Aldo Paredes\, Manuel Sanchez\nAmerican Bully – Standard\, Pocket\, XL\, Classic\nShortybull\nFrench Bulldog\nJr Handler
URL:https://abkcdogs.net/events/march-bully-madness-2/
LOCATION:Rohr Park\, 4548 Sweetwater Rd (#18 Ballfield Infield)\, Bonita\, CA\, 91902\, United States
ORGANIZER;CN="Vanessa Cuevas":MAILTO:vanessac1976@gmail.com
END:VEVENT
BEGIN:VEVENT
DTSTART;VALUE=DATE:20220416
DTEND;VALUE=DATE:20220417
DTSTAMP:20260421T000514
CREATED:20220127T191839Z
LAST-MODIFIED:20220415T123445Z
UID:20655-1650067200-1650153599@abkcdogs.net
SUMMARY:Black Sea Bully Show 2022
DESCRIPTION:For More Information:\ngms.stoyanov@gmail.com \nJudges: Ivan Miron\, Gabriel Paun\nAmerican Bully – Standard\, Pocket\, XL\, Classic
URL:https://abkcdogs.net/events/black-sea-bully-show-2022/
LOCATION:Street Knyaz Boris I\, Street Knyaz Boris I\, 9000\, Varna\, 9000\, Bulgaria
ORGANIZER;CN="Galin Stoyanov":MAILTO:gms.stoyanov@gmail.com
END:VEVENT
BEGIN:VEVENT
DTSTART;VALUE=DATE:20220409
DTEND;VALUE=DATE:20220411
DTSTAMP:20260421T000514
CREATED:20220127T190520Z
LAST-MODIFIED:20220415T123419Z
UID:20651-1649462400-1649635199@abkcdogs.net
SUMMARY:Shreveport Bully Expo
DESCRIPTION:2 Day Event\n6 Shows – 4 Saturday and 2 Sunday \nFor More Information:\n501-253-5284\nchristinamaxwellabkc@gmail.com \nJudges: All TBA\nAmerican Bully – Standard\, Pocket\, XL\, Classic\nShortybull\nFrench Bulldog\nOlde English Bulldogge\nEnglish Bulldog\nJr Handler
URL:https://abkcdogs.net/events/shreveport-bully-expo/
LOCATION:Agricultural Building Fairgrounds\, 307 Hudson Ave\, Shreveport\, LA\, 71109\, United States
ORGANIZER;CN="Christina Maxwell":MAILTO:christinamaxwellabkc@gmail.com
END:VEVENT
BEGIN:VEVENT
DTSTART;VALUE=DATE:20220409
DTEND;VALUE=DATE:20220411
DTSTAMP:20260421T000514
CREATED:20220127T184450Z
LAST-MODIFIED:20220415T123348Z
UID:20644-1649462400-1649635199@abkcdogs.net
SUMMARY:Spring Fling II
DESCRIPTION:2 Day Event\n8 Shows \nFor More Information:\n916-519-9039\ncaligirl8789@att.net \nJudges: Chris White\, Brian Petersen\, TBA\, TBA\, TBA\, TBA\, TBA\, TBA\nAmerican Bully – Standard\, Pocket\, XL\, Classic\nShortybull\nFrench Bulldog\nEnglish Bulldog
URL:https://abkcdogs.net/events/spring-fling-ii/
LOCATION:El Dorado County Fairgrounds\, 100 Placerville Drive\, Placerville\, CA\, 95667\, United States
ORGANIZER;CN="Rebecca Harris":MAILTO:caligirl8789@att.net
END:VEVENT
BEGIN:VEVENT
DTSTART;VALUE=DATE:20220409
DTEND;VALUE=DATE:20220410
DTSTAMP:20260421T000514
CREATED:20220201T134657Z
LAST-MODIFIED:20220415T123330Z
UID:20705-1649462400-1649548799@abkcdogs.net
SUMMARY:ABKC Holland
DESCRIPTION:For More Information:\n+31682128882 or +31648490576\npvt1983@hotmail.com\ngouda@multicopy\,nl \nJudges: Anna Karuna & Jessica Cook\nAmerican Bully – Standard\, Pocket\, XL\, Classic
URL:https://abkcdogs.net/events/abkc-holland/
LOCATION:Sporthal’t Jebbink\, Het Jebbink 13\, Vorden\, GLD\, 7251 BH\, Netherlands
ORGANIZER;CN="Edwin Handigman":MAILTO:pvt1983@hotmail.com
END:VEVENT
BEGIN:VEVENT
DTSTART;VALUE=DATE:20220409
DTEND;VALUE=DATE:20220410
DTSTAMP:20260421T000514
CREATED:20220127T184010Z
LAST-MODIFIED:20220415T122803Z
UID:20637-1649462400-1649548799@abkcdogs.net
SUMMARY:Supa6 Bullies Bound for Glory
DESCRIPTION:For More Information:\n570-492-6956\nsupa6bullies@gmail.com \nJudges: Tony Gold\, John Roneker\, TBA\, TBA\nAmerican Bully – Standard\, Pocket\, XL\, Classic\nShortybull\nFrench Bulldog\nOlde English Bulldogge\nJr Handler
URL:https://abkcdogs.net/events/supa6-bullies-bound-for-glory/
LOCATION:Iron Peak Sports Complex\, 137 Mountain View Road\, Hillsborough\, NJ\, 08844\, United States
ORGANIZER;CN="Mychael Brunson":MAILTO:supa6bullies@gmail.com
END:VEVENT
BEGIN:VEVENT
DTSTART;VALUE=DATE:20220403
DTEND;VALUE=DATE:20220404
DTSTAMP:20260421T000514
CREATED:20220330T123639Z
LAST-MODIFIED:20220415T122745Z
UID:21342-1648944000-1649030399@abkcdogs.net
SUMMARY:Mexicali ABKC Show
DESCRIPTION:Judges: Deanny Ohly\, TBD \nAmerican Bully – Standard\, XL\, Pocket\, Classic\nFrench Bulldog\nEnglish Bulldog\nBull Terrier\nBoxer\nDoberman
URL:https://abkcdogs.net/events/mexicali-abkc-show/
LOCATION:Paraue Vicente Guerrero\, Zona Sin Asignación de Nombre de Colonia\, Mexicali\, Baja California\, 21010\, Mexico
END:VEVENT
BEGIN:VEVENT
DTSTART;VALUE=DATE:20220402
DTEND;VALUE=DATE:20220403
DTSTAMP:20260421T000514
CREATED:20220127T183011Z
LAST-MODIFIED:20220415T123741Z
UID:20627-1648857600-1648943999@abkcdogs.net
SUMMARY:ABKC Jacksonsville Bully Showdown 2
DESCRIPTION:For More Information:\n904-838-3379 or 904-333-0560\npriefitlife@gmail.com \nJudges: TBA\, TBA\, TBA\, TBA\nAmerican Bully – Standard\, Pocket\, XL\, Classic\nAPBT\nShortybull\nFrench Bulldog\nOlde English Bulldogge\nEnglish Bulldog\nJr Handler
URL:https://abkcdogs.net/events/abkc-jacksonsville-bully-showdown-2/
LOCATION:Prime Osborn Convention Center\, 1000 Water Street\, Jacksonville\, FL\, 32204\, United States
ORGANIZER;CN="Prie & Julian Roldan":MAILTO:prielifefit@gmail.com
END:VEVENT
BEGIN:VEVENT
DTSTART;VALUE=DATE:20220327
DTEND;VALUE=DATE:20220328
DTSTAMP:20260421T000514
CREATED:20220321T214759Z
LAST-MODIFIED:20220415T123800Z
UID:21158-1648339200-1648425599@abkcdogs.net
SUMMARY:Final Tour Bully Suramerica
DESCRIPTION:Judges: Pablo Liceran\, Daniel Pineiro\, Jonathan Lugo \nAmerican Bully – Standard\, Pocket\, XL\, Classic\nAPBT\nFrench Bulldog\nEnglish Bulldog\nDachshund\nMastin Tibetano
URL:https://abkcdogs.net/events/final-tour-bully-suramerica/
LOCATION:Huancayo\, Huancayo\, Peru
ORGANIZER;CN="Felix Gomez":MAILTO:abkccolombia1@gmail.com
END:VEVENT
END:VCALENDAR