BEGIN:VCALENDAR
VERSION:2.0
PRODID:-//THE AMERICAN BULLY KENNEL CLUB - ECPv6.15.18//NONSGML v1.0//EN
CALSCALE:GREGORIAN
METHOD:PUBLISH
X-WR-CALNAME:THE AMERICAN BULLY KENNEL CLUB
X-ORIGINAL-URL:https://abkcdogs.net
X-WR-CALDESC:Events for THE AMERICAN BULLY KENNEL CLUB
REFRESH-INTERVAL;VALUE=DURATION:PT1H
X-Robots-Tag:noindex
X-PUBLISHED-TTL:PT1H
BEGIN:VTIMEZONE
TZID:America/New_York
BEGIN:DAYLIGHT
TZOFFSETFROM:-0500
TZOFFSETTO:-0400
TZNAME:EDT
DTSTART:20230312T070000
END:DAYLIGHT
BEGIN:STANDARD
TZOFFSETFROM:-0400
TZOFFSETTO:-0500
TZNAME:EST
DTSTART:20231105T060000
END:STANDARD
BEGIN:DAYLIGHT
TZOFFSETFROM:-0500
TZOFFSETTO:-0400
TZNAME:EDT
DTSTART:20240310T070000
END:DAYLIGHT
BEGIN:STANDARD
TZOFFSETFROM:-0400
TZOFFSETTO:-0500
TZNAME:EST
DTSTART:20241103T060000
END:STANDARD
BEGIN:DAYLIGHT
TZOFFSETFROM:-0500
TZOFFSETTO:-0400
TZNAME:EDT
DTSTART:20250309T070000
END:DAYLIGHT
BEGIN:STANDARD
TZOFFSETFROM:-0400
TZOFFSETTO:-0500
TZNAME:EST
DTSTART:20251102T060000
END:STANDARD
END:VTIMEZONE
BEGIN:VEVENT
DTSTART;VALUE=DATE:20241123
DTEND;VALUE=DATE:20241124
DTSTAMP:20260420T013636
CREATED:20240325T153656Z
LAST-MODIFIED:20240325T153656Z
UID:26061-1732320000-1732406399@abkcdogs.net
SUMMARY:Carolina Bully Classic 6
DESCRIPTION:Judges: Lou Manipon\, John Roneker\, Jamie Villagomez \nAmerican Bully – Standard\, Pocket\, Classic\, XL\nFrench Bulldog\nEnglish Bulldog
URL:https://abkcdogs.net/events/carolina-bully-classic-6/
LOCATION:Southeastern Agricultural Center\, 1027 US-74 ALT\, Lumberton\, NC\, 28358\, United States
ORGANIZER;CN="Anthony Gray":MAILTO:superiorbullykennel@yahoo.com
END:VEVENT
BEGIN:VEVENT
DTSTART;VALUE=DATE:20241116
DTEND;VALUE=DATE:20241118
DTSTAMP:20260420T013636
CREATED:20240930T151042Z
LAST-MODIFIED:20241018T151839Z
UID:27121-1731715200-1731887999@abkcdogs.net
SUMMARY:All Stars Bully Show
DESCRIPTION:2 Day Event \nJudges: TBA\, TBA\, TBA\, TBA \nAmerican Bully – Standard\, Pocket\, XL\, Classic
URL:https://abkcdogs.net/events/all-stars-bully-show/
LOCATION:Fuente El Saz de Jarama\, Madrid\, 28140\, Spain
ORGANIZER;CN="William Ogren":MAILTO:williamogren@hotmail.com
END:VEVENT
BEGIN:VEVENT
DTSTART;VALUE=DATE:20241110
DTEND;VALUE=DATE:20241111
DTSTAMP:20260420T013636
CREATED:20240930T150427Z
LAST-MODIFIED:20240930T150810Z
UID:27116-1731196800-1731283199@abkcdogs.net
SUMMARY:Bully Con 2024
DESCRIPTION:Judges: Alex Ferrero & Rolando Mata \nAmerican Bully – Standard\, Pocket\, XL\, Classic\nFrench Bulldog
URL:https://abkcdogs.net/events/bully-con-2024/
LOCATION:Feliciano Convention Center\, Malolos\, Bulacan\, 3000\, Philippines
ORGANIZER;CN="Joel Carriedo":MAILTO:thioperman57@yahoo.com
END:VEVENT
BEGIN:VEVENT
DTSTART;VALUE=DATE:20241109
DTEND;VALUE=DATE:20241110
DTSTAMP:20260420T013636
CREATED:20241004T113529Z
LAST-MODIFIED:20241004T113637Z
UID:27189-1731110400-1731196799@abkcdogs.net
SUMMARY:Guerra De Campeones
DESCRIPTION:Judges: Pablo Liceran & TBA \nAmerican Bully – Standard\, Pocket\, XL\, Classic\nAPBT\nFrench Bulldog\nEnglish Bulldog
URL:https://abkcdogs.net/events/guerra-de-campeones/
LOCATION:Valle De Los Chillos\, Armenia\, Quito\, Ecuador
ORGANIZER;CN="Jose Eduardo Tipse Tomala":MAILTO:josetipse@hotmail.com
END:VEVENT
BEGIN:VEVENT
DTSTART;VALUE=DATE:20241103
DTEND;VALUE=DATE:20241104
DTSTAMP:20260420T013636
CREATED:20240826T120654Z
LAST-MODIFIED:20240826T120656Z
UID:26934-1730592000-1730678399@abkcdogs.net
SUMMARY:The Canine Carnival
DESCRIPTION:Judges: Nico Van Deijzen & Jane Paton \nAmerican Bully\nFrench Bulldog\nOlde English Bulldogge\nEnglish Bulldog\nBull Terrier\nStaffordshire Bull Terrier\nAlapaha\nCane Corso
URL:https://abkcdogs.net/events/the-canine-carnival/
LOCATION:Byron Hall\, Christchurch Ave\, Harrow\, Ha35BD\, United Kingdom
ORGANIZER;CN="Reece Nahar":MAILTO:reecenahar@gmail.com
END:VEVENT
BEGIN:VEVENT
DTSTART;VALUE=DATE:20241103
DTEND;VALUE=DATE:20241104
DTSTAMP:20260420T013636
CREATED:20240826T113558Z
LAST-MODIFIED:20240826T113558Z
UID:26923-1730592000-1730678399@abkcdogs.net
SUMMARY:Sunday Bully Party
DESCRIPTION:Judges: William Ogren & Adrian Stoian \nAmerican Bully\nAPBT\nAm Staff\nFrench Bulldog\nOlde English Bulldogge\nEnglish Bulldog\nBull Terrier
URL:https://abkcdogs.net/events/sunday-bully-party/
LOCATION:Petersburg\, SH64 KL\, St Petersburg\, 190 000\, Russian Federation
ORGANIZER;CN="Ekaterina Chirkova":MAILTO:bbkennel@yandex.ru
END:VEVENT
BEGIN:VEVENT
DTSTART;VALUE=DATE:20241103
DTEND;VALUE=DATE:20241104
DTSTAMP:20260420T013636
CREATED:20230705T163454Z
LAST-MODIFIED:20230705T163454Z
UID:24767-1730592000-1730678399@abkcdogs.net
SUMMARY:Valahia Trophy
DESCRIPTION:Judges: TBA\, TBA \nAmerican Bully – Standard\, Pocket\, XL\, Classic
URL:https://abkcdogs.net/events/valahia-trophy-2/
LOCATION:Romania\, Oradea\, Romania
ORGANIZER;CN="Anca Paun":MAILTO:abkcromania@yahoo.com
END:VEVENT
BEGIN:VEVENT
DTSTART;VALUE=DATE:20241102
DTEND;VALUE=DATE:20241104
DTSTAMP:20260420T013636
CREATED:20240514T161952Z
LAST-MODIFIED:20240514T161954Z
UID:26202-1730505600-1730678399@abkcdogs.net
SUMMARY:New Orleans Bulls & Bourban
DESCRIPTION:2 Day Event\n6 Shows – 4 Saturday & 2 Sunday \nJudges: TBA \nAmerican Bully – Standard\, Pocket\, XL\, Classic\nAPBT\nAm Staff\nShotybull\nFrench Bulldog\nOlde English Bulldogge\nEnglish Bulldog\nJr Handler
URL:https://abkcdogs.net/events/new-orleans-bulls-bourban/
LOCATION:Alario Event Center\, 2000 Segnette Blvd\, Westwego\, LA\, 70094\, United States
END:VEVENT
BEGIN:VEVENT
DTSTART;VALUE=DATE:20241102
DTEND;VALUE=DATE:20241103
DTSTAMP:20260420T013636
CREATED:20230705T163215Z
LAST-MODIFIED:20230705T163349Z
UID:24764-1730505600-1730591999@abkcdogs.net
SUMMARY:Black Sea Trophy
DESCRIPTION:Judges: TBA\, TBA \nAmerican Bully- Standard\, Pocket\, XL\, Classic
URL:https://abkcdogs.net/events/black-sea-trophy-2/
LOCATION:Romania\, Oradea\, Romania
ORGANIZER;CN="Anca Paun":MAILTO:abkcromania@yahoo.com
END:VEVENT
BEGIN:VEVENT
DTSTART;VALUE=DATE:20241101
DTEND;VALUE=DATE:20241103
DTSTAMP:20260420T013636
CREATED:20240611T121213Z
LAST-MODIFIED:20240611T121250Z
UID:26534-1730419200-1730591999@abkcdogs.net
SUMMARY:Sprint Bully Fest
DESCRIPTION:2 Day Event \nJudges: TBA\, TBA\, TBA\, TBA \nAmerican Bully – Standard\, Pocket\, XL\, Classic\nFrench Bulldog\nEnglish Bulldog\nAPBT
URL:https://abkcdogs.net/events/sprint-bully-fest/
LOCATION:AV Santa Teresa #1121\, Los Andes\, 2100000\, Chile
END:VEVENT
BEGIN:VEVENT
DTSTART;VALUE=DATE:20241026
DTEND;VALUE=DATE:20241028
DTSTAMP:20260420T013636
CREATED:20240912T123342Z
LAST-MODIFIED:20240912T123343Z
UID:27011-1729900800-1730073599@abkcdogs.net
SUMMARY:Internacional ABKC World Cup/Super 8
DESCRIPTION:2 day Event \nJudges: Joakin Acedo\, Jesus Garcia\, Pablo Liceran\, German Pinto\, Martha Ines Cortazar \nAmerican Bully\nAPBT\nFrench Bulldog\nEnglish Bulldog\nDoberman\nTibetan Mastiff\nNeapolitan Mastiff
URL:https://abkcdogs.net/events/internacional-abkc-world-cup-super-8/
LOCATION:Centro de Convenaones\, El Carmen\, El Carmen de Viboral\, Medellin\, Colombia
ORGANIZER;CN="Edwin Vargas":MAILTO:abkccolombia1@gmail.com
END:VEVENT
BEGIN:VEVENT
DTSTART;VALUE=DATE:20241026
DTEND;VALUE=DATE:20241027
DTSTAMP:20260420T013636
CREATED:20241023T143033Z
LAST-MODIFIED:20241023T143043Z
UID:27365-1729900800-1729987199@abkcdogs.net
SUMMARY:Trece Martires Bully Show 2.0
DESCRIPTION:Judges: Andre Willard & Monsorat McField \nAmerican Bully – Standard\, Pocket\, XL\, Classic\nFrench Bulldog\nEnglish Bulldog
URL:https://abkcdogs.net/events/trece-martires-bully-show-2-0/
LOCATION:Strike Gymnasium Bacoor\, Bacoor Caite\, Philippines
ORGANIZER;CN="Joey Talavera":MAILTO:bullyprideph@gmail.com
END:VEVENT
BEGIN:VEVENT
DTSTART;VALUE=DATE:20241026
DTEND;VALUE=DATE:20241028
DTSTAMP:20260420T013636
CREATED:20231210T204458Z
LAST-MODIFIED:20240701T165631Z
UID:25778-1729900800-1730073599@abkcdogs.net
SUMMARY:Howl-O-Ween Bully Showdown III
DESCRIPTION:2 Day Show \nJudges: TBA\, TBA\, TBA\, TBA \nAmerican Bully – Standard\, Pocket\, XL\, Classic\nFrench Bulldog
URL:https://abkcdogs.net/events/howl-o-ween-bully-showdown-iii/
LOCATION:Montgomery Waller Park\, 2905 Palm Ave\, San Diego\, CA\, 92154\, United States
ORGANIZER;CN="Vanessa Cuevas":MAILTO:vanessac1976@gmail.com
END:VEVENT
BEGIN:VEVENT
DTSTART;VALUE=DATE:20241020
DTEND;VALUE=DATE:20241021
DTSTAMP:20260420T013636
CREATED:20240716T201318Z
LAST-MODIFIED:20240716T201320Z
UID:26748-1729382400-1729468799@abkcdogs.net
SUMMARY:ABKC Australia Bully Extravaganza 2024
DESCRIPTION:Judge: TBA \nAmerican Bully – Standard\, Pocket\, XL\, Classic\nFrench Bulldog\nEnglish Bulldog\nJr Handler
URL:https://abkcdogs.net/events/abkc-australia-bully-extravaganza-2024/
LOCATION:Fairfield Showground\, NSW\, Australia
END:VEVENT
BEGIN:VEVENT
DTSTART;VALUE=DATE:20241019
DTEND;VALUE=DATE:20241020
DTSTAMP:20260420T013636
CREATED:20240930T154943Z
LAST-MODIFIED:20240930T154945Z
UID:27148-1729296000-1729382399@abkcdogs.net
SUMMARY:Dragon Bully Fest Hungary
DESCRIPTION:Judges: Devyn Ferraro & Alex Ferraro \nAmerican Bully – Standard\, Pocket\, XL\, Classic\nJr Handler
URL:https://abkcdogs.net/events/dragon-bully-fest-hungary/
LOCATION:Vadvirag Panzio\, Magyar U 25\, Sopron-Agfalva\, 9623\, Hungary
ORGANIZER;CN="Gergely Gosi":MAILTO:gosigesi81@gmail.com
END:VEVENT
BEGIN:VEVENT
DTSTART;VALUE=DATE:20241019
DTEND;VALUE=DATE:20241020
DTSTAMP:20260420T013636
CREATED:20240724T144143Z
LAST-MODIFIED:20240724T144634Z
UID:26828-1729296000-1729382399@abkcdogs.net
SUMMARY:ABKC Russia
DESCRIPTION:Judges: TBA\, TBA \nAmerican Bully – Standard\, Pocket\, XL\, Classic
URL:https://abkcdogs.net/events/abkc-russia-7/
LOCATION:Nord Moll\, Novosibirsk\, Russian Federation
END:VEVENT
BEGIN:VEVENT
DTSTART;VALUE=DATE:20241019
DTEND;VALUE=DATE:20241020
DTSTAMP:20260420T013636
CREATED:20240124T191700Z
LAST-MODIFIED:20240227T183051Z
UID:25834-1729296000-1729382399@abkcdogs.net
SUMMARY:Bullys in the Boro VI
DESCRIPTION:Judges: TBA\, TBA\, TBA\, TBA \nAmerican Bully – Standard\, Pocket\, XL\, Classic\nShortybull\nFrench Bulldog\nOlde English Bulldogge\nEnglish Bulldog\nJr Handler
URL:https://abkcdogs.net/events/bullys-in-the-boro-vi-2/
LOCATION:Bulloch County Agriculture Complex\, 44 Arena Blvd\, Statesboro\, GA\, 30458\, United States
ORGANIZER;CN="Leigh Ann Durrence":MAILTO:lateach_2000@yahoo.com
END:VEVENT
BEGIN:VEVENT
DTSTART;VALUE=DATE:20241013
DTEND;VALUE=DATE:20241014
DTSTAMP:20260420T013636
CREATED:20240806T155108Z
LAST-MODIFIED:20240806T155108Z
UID:26862-1728777600-1728863999@abkcdogs.net
SUMMARY:ABKC Dreamed Paradise 2
DESCRIPTION:Judges: Roberto Giannuli & Jesus Garcia \nAmerican Bully – Standard\, Pocket\, XL\, Classic\nJr Handler
URL:https://abkcdogs.net/events/abkc-dreamed-paradise-2/
LOCATION:C\Maestro D. Jose Santana S/N\, Valsequillo De Gran Canaria\, Las Palmas\, 35217\, Spain
ORGANIZER;CN="Maria Sulemia Fabelo Miranda":MAILTO:abkc.canariasshow@gmail.com
END:VEVENT
BEGIN:VEVENT
DTSTART;VALUE=DATE:20241013
DTEND;VALUE=DATE:20241014
DTSTAMP:20260420T013636
CREATED:20240611T165130Z
LAST-MODIFIED:20240611T165131Z
UID:26561-1728777600-1728863999@abkcdogs.net
SUMMARY:Dark Side Show
DESCRIPTION:Judges: TBA\, TBA\, TBA \nAmerican Bully – Standard\, Pocket\, Classic\, XL\nAPBT\nFrench Bulldog\nEnglish Bulldog\nBull Terrier\nDogo Guatemalteco\nJr Handler
URL:https://abkcdogs.net/events/dark-side-show/
LOCATION:Parque de la Industria Salon 10\, Guatemala
ORGANIZER;CN="Adonay (Quiti) Rodriguez":MAILTO:abkcguatemala@gmail.com
END:VEVENT
BEGIN:VEVENT
DTSTART;VALUE=DATE:20241012
DTEND;VALUE=DATE:20241013
DTSTAMP:20260420T013636
CREATED:20240701T170038Z
LAST-MODIFIED:20241004T113727Z
UID:26637-1728691200-1728777599@abkcdogs.net
SUMMARY:Hispanic Heritage American Bully Festival "The Finale"
DESCRIPTION:Judges: TBA\, TBA\, TBA\, TBA\, TBA \nAmerican Bully – Standard\, Pocket\, XL\, Classic\nShortybull\nFrench Bulldog\nEnglish Bulldog\nOlde English Bulldogge\nJr Handler
URL:https://abkcdogs.net/events/hispanic-heritage-american-bully-festival-the-finale/
LOCATION:Expo New Mexico (State Fair)\, Lujan Building\, 300 San Pedro Dr NE\, Albuquerque\, NM\, 87108\, United States
END:VEVENT
BEGIN:VEVENT
DTSTART;VALUE=DATE:20241012
DTEND;VALUE=DATE:20241013
DTSTAMP:20260420T013636
CREATED:20231019T143139Z
LAST-MODIFIED:20240819T190232Z
UID:25431-1728691200-1728777599@abkcdogs.net
SUMMARY:Allentown Bully Convention
DESCRIPTION:Judges: TBA\, TBA\, TBA\, TBA\, TBA \nAmerican Bully – Standard\, Pocket\, Classic\, XL\nShortybull\nFrench Bulldog\nOlde English Bulldogge\nJr Handler
URL:https://abkcdogs.net/events/allentown-bully-convention/
LOCATION:Allentown Fairgrounds\, Ag Hall - 302 N 17th Street\, Allentown\, PA\, 18102\, United States
END:VEVENT
BEGIN:VEVENT
DTSTART;VALUE=DATE:20241006
DTEND;VALUE=DATE:20241007
DTSTAMP:20260420T013636
CREATED:20240912T122659Z
LAST-MODIFIED:20240912T122659Z
UID:27004-1728172800-1728259199@abkcdogs.net
SUMMARY:Keen Bully Show
DESCRIPTION:Judges: Mauricio Campas & Daniel Pineiro \nAmerican Bully – Standard\, Pocket\, XL\, Classic
URL:https://abkcdogs.net/events/keen-bully-show-2/
LOCATION:San Carlos y General Paz\, Carlos Keen\, Buenos Aires\, 6701\, Argentina
END:VEVENT
BEGIN:VEVENT
DTSTART;VALUE=DATE:20241005
DTEND;VALUE=DATE:20241006
DTSTAMP:20260420T013636
CREATED:20240611T120631Z
LAST-MODIFIED:20240930T193259Z
UID:26530-1728086400-1728172799@abkcdogs.net
SUMMARY:Viva Las Vegas Hispanic Heritage American Bully Fest
DESCRIPTION:Canceled
URL:https://abkcdogs.net/events/viva-las-vegas-hispanic-heritage-american-bully-fest/
LOCATION:Horseman’s Park\, 5800 E Flamingo Road\, Las Vegas\, NV\, 89122\, United States
END:VEVENT
BEGIN:VEVENT
DTSTART;VALUE=DATE:20240928
DTEND;VALUE=DATE:20240929
DTSTAMP:20260420T013636
CREATED:20240716T165834Z
LAST-MODIFIED:20240716T165839Z
UID:26678-1727481600-1727567999@abkcdogs.net
SUMMARY:ABKC X PABR Birthday Bash Clash of the Bullies 2.0
DESCRIPTION:Judges: Bart De Croo\, Ivan Miron \nAmerican Bully – Standard\, Pocket\, XL\, Classic\nFrench Bulldog
URL:https://abkcdogs.net/events/abkc-x-pabr-birthday-bash-clash-of-the-bullies-2-0/
LOCATION:Pacita Astrodome\, Sto. Rosario Drive\, San Pedro\, Laguna\, Philippines
ORGANIZER;CN="Rafael Miguel Magalang":MAILTO:rafaelmiguel.magalang@gmail.com
END:VEVENT
BEGIN:VEVENT
DTSTART;VALUE=DATE:20240928
DTEND;VALUE=DATE:20240929
DTSTAMP:20260420T013636
CREATED:20240514T160815Z
LAST-MODIFIED:20240514T160816Z
UID:26195-1727481600-1727567999@abkcdogs.net
SUMMARY:Bayou Bully Showdown
DESCRIPTION:Judges: TBA\, TBA\, TBA\, TBA \nAmerican Bully – Standard\, Pocket\, XL\, Classic\nAPBT\nShortybull\nFrench Bulldog\nOlde English Bulldogge\nJr Handler
URL:https://abkcdogs.net/events/bayou-bully-showdown/
LOCATION:Louisiana State Fairgrounds\, 3701 Hudson Ave\, Shreveport\, LA\, 71109\, United States
ORGANIZER;CN="Stephanie Hicks":MAILTO:stephnwitherspoon@gmail.com
END:VEVENT
BEGIN:VEVENT
DTSTART;VALUE=DATE:20240921
DTEND;VALUE=DATE:20240923
DTSTAMP:20260420T013636
CREATED:20240227T193038Z
LAST-MODIFIED:20240227T193039Z
UID:25910-1726876800-1727049599@abkcdogs.net
SUMMARY:Dracula Bully Marathon
DESCRIPTION:2 day event \nJudges: TBA\, TBA\, TBA\, TBA \nAmerican Bully – Standard\, Pocket\, Classic\, XL\nFrench Bulldog\nOlde English Bulldogge\nEnglish Bulldog\nAmerican Bulldog\nAlapaha Bulldog\nJr Handler
URL:https://abkcdogs.net/events/dracula-bully-marathon-7/
LOCATION:Calea Timisorii\, Calea Timisorii\, Sanandrei\, Timis\, Romania
ORGANIZER;CN="Adrian Stoian":MAILTO:adrian.stoian@abkc.ro
END:VEVENT
BEGIN:VEVENT
DTSTART;VALUE=DATE:20240921
DTEND;VALUE=DATE:20240922
DTSTAMP:20260420T013636
CREATED:20231019T135048Z
LAST-MODIFIED:20231019T135050Z
UID:25411-1726876800-1726963199@abkcdogs.net
SUMMARY:Black & Gold Bully & Car Expo
DESCRIPTION:Judges: TBA\, TBA \nAmerican Bully – Standard\, Pocket\, Classic\, XL\nShortybull\nFrench Bulldog\nEnglish Bulldog
URL:https://abkcdogs.net/events/black-gold-bully-car-expo/
LOCATION:Lea County Event Center\, 5101N Lovington Hwy\, Hobbs\, NM\, 88240\, United States
ORGANIZER;CN="Miguel Garcia":MAILTO:mgarcia@pilotwater.com
END:VEVENT
BEGIN:VEVENT
DTSTART;VALUE=DATE:20240920
DTEND;VALUE=DATE:20240922
DTSTAMP:20260420T013636
CREATED:20240514T160139Z
LAST-MODIFIED:20240514T160227Z
UID:26190-1726790400-1726963199@abkcdogs.net
SUMMARY:Michiana Bully Festival
DESCRIPTION:2 Day Event\n8 shows –  4 Friday & 4 Saturday \nAmerican Bully – Standard\, Pocket\, XL\, Classic\nShortybull\nFrench Bulldog\nOlde English Bulldogge\nEnglish Bulldog\nJr Handler
URL:https://abkcdogs.net/events/michiana-bully-festival/
LOCATION:The Michiana Event Center\, 455 E. Farver Street\, Shipshewana\, IN\, 46565\, United States
ORGANIZER;CN="Paulina Gamez":MAILTO:paulinagamez1226@gmail.com
END:VEVENT
BEGIN:VEVENT
DTSTART;VALUE=DATE:20240914
DTEND;VALUE=DATE:20240915
DTSTAMP:20260420T013636
CREATED:20240815T185104Z
LAST-MODIFIED:20240815T185106Z
UID:26889-1726272000-1726358399@abkcdogs.net
SUMMARY:Ireland's Bully Bash
DESCRIPTION:Judges: William Ogren & Roberto Gianulli \nAmerican Bully\nAm Staff\nFrench Bulldog\nOlde English Bulldogge\nEnglish Bulldog\nStaffordshire Bull Terrier\nCane Corso\nJr Handler
URL:https://abkcdogs.net/events/irelands-bully-bash/
LOCATION:RDA\, Coleraine\, 184 Castlerow Road\, Coleraine\, BT51 3RW\, Ireland
ORGANIZER;CN="Siobhan Pollard":MAILTO:adoreabullyz1@gmail.com
END:VEVENT
BEGIN:VEVENT
DTSTART;VALUE=DATE:20240914
DTEND;VALUE=DATE:20240915
DTSTAMP:20260420T013636
CREATED:20240514T155329Z
LAST-MODIFIED:20240514T155331Z
UID:26185-1726272000-1726358399@abkcdogs.net
SUMMARY:Bully Day Fest
DESCRIPTION:Judges: Jesus Garcia Rodrigue & Giosue Mazzarella \nAmerican Bully – Standard\, Pocket\, XL\, Classic\nFrench Bulldog
URL:https://abkcdogs.net/events/bully-day-fest/
LOCATION:St. Timiryazeva\, St. Timiryazeva\, 13a\, Voronezh\, Russian Federation
ORGANIZER;CN="Olesya Novikova":MAILTO:lesechkinalesia@gmail.com
END:VEVENT
END:VCALENDAR