BEGIN:VCALENDAR
VERSION:2.0
PRODID:-//THE AMERICAN BULLY KENNEL CLUB - ECPv6.15.18//NONSGML v1.0//EN
CALSCALE:GREGORIAN
METHOD:PUBLISH
X-WR-CALNAME:THE AMERICAN BULLY KENNEL CLUB
X-ORIGINAL-URL:https://abkcdogs.net
X-WR-CALDESC:Events for THE AMERICAN BULLY KENNEL CLUB
REFRESH-INTERVAL;VALUE=DURATION:PT1H
X-Robots-Tag:noindex
X-PUBLISHED-TTL:PT1H
BEGIN:VTIMEZONE
TZID:America/New_York
BEGIN:DAYLIGHT
TZOFFSETFROM:-0500
TZOFFSETTO:-0400
TZNAME:EDT
DTSTART:20230312T070000
END:DAYLIGHT
BEGIN:STANDARD
TZOFFSETFROM:-0400
TZOFFSETTO:-0500
TZNAME:EST
DTSTART:20231105T060000
END:STANDARD
BEGIN:DAYLIGHT
TZOFFSETFROM:-0500
TZOFFSETTO:-0400
TZNAME:EDT
DTSTART:20240310T070000
END:DAYLIGHT
BEGIN:STANDARD
TZOFFSETFROM:-0400
TZOFFSETTO:-0500
TZNAME:EST
DTSTART:20241103T060000
END:STANDARD
BEGIN:DAYLIGHT
TZOFFSETFROM:-0500
TZOFFSETTO:-0400
TZNAME:EDT
DTSTART:20250309T070000
END:DAYLIGHT
BEGIN:STANDARD
TZOFFSETFROM:-0400
TZOFFSETTO:-0500
TZNAME:EST
DTSTART:20251102T060000
END:STANDARD
BEGIN:DAYLIGHT
TZOFFSETFROM:-0500
TZOFFSETTO:-0400
TZNAME:EDT
DTSTART:20260308T070000
END:DAYLIGHT
BEGIN:STANDARD
TZOFFSETFROM:-0400
TZOFFSETTO:-0500
TZNAME:EST
DTSTART:20261101T060000
END:STANDARD
END:VTIMEZONE
BEGIN:VEVENT
DTSTART;VALUE=DATE:20250503
DTEND;VALUE=DATE:20250505
DTSTAMP:20260420T030512
CREATED:20250123T164728Z
LAST-MODIFIED:20250128T193853Z
UID:27628-1746230400-1746403199@abkcdogs.net
SUMMARY:2 x 2 Show Day Russia
DESCRIPTION:2 Day Event \nJudges: Rafaele Colace\, Mara Bunker\, Quiti Rodriguez\, William Ogren \nAmerican Bully\nAPBT\nAm Staff\nFrench Bulldog\nOlde English Bulldogge\nEnglish Bulldog\nBull Terrier
URL:https://abkcdogs.net/events/2-x-2-show-day-russia/
LOCATION:Poforum\, St Petersburg\, Russian Federation
ORGANIZER;CN="Ekaterina Chirkova":MAILTO:bbkennel@yandex.ru
END:VEVENT
BEGIN:VEVENT
DTSTART;VALUE=DATE:20250427
DTEND;VALUE=DATE:20250428
DTSTAMP:20260420T030512
CREATED:20241128T175122Z
LAST-MODIFIED:20250317T142654Z
UID:27440-1745712000-1745798399@abkcdogs.net
SUMMARY:Reaper Crew Bullies: A Night of Reaping
DESCRIPTION:Judges: TBA\, TBA \nAmerican Bully – Standard\, XL\, Pocket\, Classic\nAPBT\nFrench Bulldog\nEnglish Bulldog\nJr Handler
URL:https://abkcdogs.net/events/the-next-episode-world-class-bully-show/
LOCATION:The Manila Jockey Club\, Carmona\, Cavite\, 4116\, Philippines
ORGANIZER;CN="Nathan Araneta":MAILTO:nathan.lomebert@yahoo.com
END:VEVENT
BEGIN:VEVENT
DTSTART;VALUE=DATE:20250426
DTEND;VALUE=DATE:20250428
DTSTAMP:20260420T030512
CREATED:20250422T150130Z
LAST-MODIFIED:20250422T151005Z
UID:28019-1745625600-1745798399@abkcdogs.net
SUMMARY:Dracula Bully Marathon
DESCRIPTION:2 Day Event\n8 Shows \nJudges: Damir Markov\, Raffeale Colace\, Edwin Vargas\, Monsorat McField\, Jim Aba\, Brook Romero\, Bryan Romero\, Ragim Magh \nAmerican Bully\nShortybull\nFrench Bulldog\nOlde English Bulldogge\nEnglish Bulldog\nAmerican Bulldog\nJr Handler
URL:https://abkcdogs.net/events/dracula-bully-marathon-8/
LOCATION:Calea Timisorii\, Calea Timisorii\, Sanandrei\, Timis\, Romania
ORGANIZER;CN="Adrian Stoian":MAILTO:adrian.stoian@abkc.ro
END:VEVENT
BEGIN:VEVENT
DTSTART;VALUE=DATE:20250426
DTEND;VALUE=DATE:20250428
DTSTAMP:20260420T030512
CREATED:20250221T191959Z
LAST-MODIFIED:20250221T192001Z
UID:27707-1745625600-1745798399@abkcdogs.net
SUMMARY:ABKC Atlanta Bully Marathon 2025
DESCRIPTION:2 day Event\n7 Shows \nJudges: Joakin Acedo\, Vanessa Cuevas\, James Feltus\, Jesus Garcia\, Errol Bodden\, Regina Goins TBA \nAmerican Bully\nAm Staff\nShortybull\nFrench Bulldog\nOlde English Bulldogge\nJr Handler
URL:https://abkcdogs.net/events/abkc-atlanta-bully-marathon-2025/
LOCATION:Jason T Harper Arena\, 95 Lake Dow Road\, McDonough\, GA\, 30253\, United States
ORGANIZER;CN="Rolando Mata":MAILTO:abkcseasonopener@gmail.com
END:VEVENT
BEGIN:VEVENT
DTSTART;VALUE=DATE:20250413
DTEND;VALUE=DATE:20250415
DTSTAMP:20260420T030512
CREATED:20250403T183122Z
LAST-MODIFIED:20250403T183443Z
UID:27987-1744502400-1744675199@abkcdogs.net
SUMMARY:L'Italia S E Destabully Fest II
DESCRIPTION:2 day Event \nJudges: Rolando Mata\, Jonnathan Lugo\, Joakin Acedo\, Jesus Garcia \nAmerican Bully
URL:https://abkcdogs.net/events/litalia-s-e-destabully-fest-ii-2/
LOCATION:Via Vecchia Per Olcenengo 9\, Vercelli\, 13030\, Italy
ORGANIZER;CN="Giosue Mazzarella":MAILTO:abkcshowitaly@gmail.com
END:VEVENT
BEGIN:VEVENT
DTSTART;VALUE=DATE:20250406
DTEND;VALUE=DATE:20250407
DTSTAMP:20260420T030512
CREATED:20250221T183840Z
LAST-MODIFIED:20250221T184155Z
UID:27697-1743897600-1743983999@abkcdogs.net
SUMMARY:Spring Marathon Show
DESCRIPTION:Judges: TBA\, TBA\, TBA \nAmerican Bully
URL:https://abkcdogs.net/events/spring-marathon-show/
LOCATION:Ekaterinburg\, Russian Federation
ORGANIZER;CN="Maria Pulina":MAILTO:abkcrussia@yandex.ru
END:VEVENT
BEGIN:VEVENT
DTSTART;VALUE=DATE:20250406
DTEND;VALUE=DATE:20250407
DTSTAMP:20260420T030512
CREATED:20250121T175522Z
LAST-MODIFIED:20250121T175524Z
UID:27616-1743897600-1743983999@abkcdogs.net
SUMMARY:Lima La Gris "La Pasion Continua"
DESCRIPTION:Judges: TBA & TBA \nAmerican Bully\nFrench Bulldog
URL:https://abkcdogs.net/events/lima-la-gris-la-pasion-continua/
LOCATION:San Juan de Lurigancho\, Lima\, 15419\, Peru
ORGANIZER;CN="Julio Cesar Quispe Conde":MAILTO:gbcamp03@gmail.com
END:VEVENT
BEGIN:VEVENT
DTSTART;VALUE=DATE:20250405
DTEND;VALUE=DATE:20250407
DTSTAMP:20260420T030512
CREATED:20240611T122404Z
LAST-MODIFIED:20241128T174002Z
UID:26548-1743811200-1743983999@abkcdogs.net
SUMMARY:Hog Wild Bully Bash
DESCRIPTION:2 Day Event \nJudges: TBA\, TBA\, TBA\, TBA\, TBA\, TBA \nAmerican Bully- Standard\, Pocket\, XL\, Classic\nShortybull\nFrench Bulldog\nOlde English Bulldogge\nEnglish Bulldog\nJr Handler
URL:https://abkcdogs.net/events/hog-wild-bully-bash/
LOCATION:Conway Expo & Event Center\, 2505 E Oak Street\, Conway\, AR\, 72032\, United States
ORGANIZER;CN="JJ Steiling":MAILTO:jj72374@yahoo.com
END:VEVENT
BEGIN:VEVENT
DTSTART;VALUE=DATE:20250405
DTEND;VALUE=DATE:20250406
DTSTAMP:20260420T030512
CREATED:20241211T183103Z
LAST-MODIFIED:20241211T183129Z
UID:27454-1743811200-1743897599@abkcdogs.net
SUMMARY:210 Bully Throwdown 3
DESCRIPTION:Judges: Rolando Mata\, TBA\, TBA\, TBA \nAmerican Bully\nAPBT\nAM Staff\nShortybull\nFrench Bulldog\nOlde English Bulldogge\nBull Terrier\nCane Corso\nPacific Bulldog\nJr Handler
URL:https://abkcdogs.net/events/210-bully-throwdown-3/
LOCATION:Rosedale Park\, 303 Dartmouth\, San Antonio\, TX\, 78237\, United States
ORGANIZER;CN="Louis Zamora":MAILTO:louiszamora2010@gmail.com
END:VEVENT
BEGIN:VEVENT
DTSTART;VALUE=DATE:20250329
DTEND;VALUE=DATE:20250331
DTSTAMP:20260420T030512
CREATED:20241023T141146Z
LAST-MODIFIED:20241023T141722Z
UID:27357-1743206400-1743379199@abkcdogs.net
SUMMARY:ABKC Slovakia Weekend
DESCRIPTION:2 Day Event \nJudges: Damir Markov\, Raffaele Colace\, Ragim Magh\, Adrian Stoian \nAmerican Bully – Standard\, Pocket\, XL\, Classic\nJr Handler
URL:https://abkcdogs.net/events/abkc-slovakia-weekend/
LOCATION:Shopping Palace Bratislava\, Cesta na Senec 2/A\, Bratislava\, 821 04\, Slovakia (Slovak Republic)
ORGANIZER;CN="Vladimir Alman":MAILTO:abkcslovakia@gmail.com
END:VEVENT
BEGIN:VEVENT
DTSTART;VALUE=DATE:20250329
DTEND;VALUE=DATE:20250330
DTSTAMP:20260420T030512
CREATED:20240826T121415Z
LAST-MODIFIED:20240904T184744Z
UID:26941-1743206400-1743292799@abkcdogs.net
SUMMARY:ABKC Jacksonville Bully Showdown 5
DESCRIPTION:Judges: Regina Goins\, TBA\, TBA\, TBA \nAmerican Bully\nShortybull\nFrench Bulldog\nJr Handler
URL:https://abkcdogs.net/events/abkc-jacksonville-bully-showdown-5/
LOCATION:Prime Osborn Convention Center\, 1000 Water Street\, Jacksonville\, FL\, 32204\, United States
ORGANIZER;CN="Prie & Julian Roldan":MAILTO:prielifefit@gmail.com
END:VEVENT
BEGIN:VEVENT
DTSTART;VALUE=DATE:20250329
DTEND;VALUE=DATE:20250330
DTSTAMP:20260420T030512
CREATED:20240815T185524Z
LAST-MODIFIED:20241007T132407Z
UID:26896-1743206400-1743292799@abkcdogs.net
SUMMARY:The Pull Up 3
DESCRIPTION:Judges: Tony Gold & Julio Quevedo \nAmerican Bully\nShortybull\nFrench Bulldog\nEnglish Bulldog\nAmerican Bulldog\nJr Handler
URL:https://abkcdogs.net/events/the-pull-up-3/
LOCATION:Rockville Sports Arena\, 60 Southlawn Ct\, Rockville\, MD\, 20850\, United States
ORGANIZER;CN="Robert Jackson":MAILTO:deisalstafari@gmail.com
END:VEVENT
BEGIN:VEVENT
DTSTART;VALUE=DATE:20250322
DTEND;VALUE=DATE:20250324
DTSTAMP:20260420T030512
CREATED:20250121T175117Z
LAST-MODIFIED:20250121T175119Z
UID:27610-1742601600-1742774399@abkcdogs.net
SUMMARY:Regionales ABKC 2025
DESCRIPTION:2 day Event\n6 Shows \nJudges: TBA \nAmerican Bully\nAPBT\nFrench Bulldog\nEnglish Bulldog\nDachshund\nNeapolitan Mastiff\nDoberman
URL:https://abkcdogs.net/events/regionales-abkc-2025/
LOCATION:Calle 9C #68-52\, Bogota\, Colombia
END:VEVENT
BEGIN:VEVENT
DTSTART;VALUE=DATE:20250316
DTEND;VALUE=DATE:20250317
DTSTAMP:20260420T030512
CREATED:20250210T172346Z
LAST-MODIFIED:20250210T172348Z
UID:27645-1742083200-1742169599@abkcdogs.net
SUMMARY:Mexicali ABKC Show
DESCRIPTION:Judges: Val Macedo\, Luis Altamirano\, Roberto Guzman \nAmerican Bully\nAm Staff\nShortybull\nFrench Bulldog\nEnglish Bulldog\nBoxer\nDoberman\nDachshund
URL:https://abkcdogs.net/events/mexicali-abkc-show-2/
LOCATION:Parqvu Vicinte Guerrero\, Mexicali\, BC\, 21010\, Mexico
ORGANIZER;CN="Roberto Garcia":MAILTO:mexicalibullyz@gmail.com
END:VEVENT
BEGIN:VEVENT
DTSTART;VALUE=DATE:20250315
DTEND;VALUE=DATE:20250316
DTSTAMP:20260420T030512
CREATED:20250128T200415Z
LAST-MODIFIED:20250128T200416Z
UID:27640-1741996800-1742083199@abkcdogs.net
SUMMARY:Carolina Bully Classic 5
DESCRIPTION:Judges: TBA\, TBA\, TBA\, TBA \nAmerican Bully\nFrench Bulldog\nEnglish Bulldog
URL:https://abkcdogs.net/events/carolina-bully-classic-5-2/
LOCATION:Southeastern Agricultural Center\, 1027 US-74 ALT\, Lumberton\, NC\, 28358\, United States
ORGANIZER;CN="Anthony Gray":MAILTO:superiorbullykennel@yahoo.com
END:VEVENT
BEGIN:VEVENT
DTSTART;VALUE=DATE:20250308
DTEND;VALUE=DATE:20250309
DTSTAMP:20260420T030512
CREATED:20250128T200219Z
LAST-MODIFIED:20250128T200222Z
UID:27636-1741392000-1741478399@abkcdogs.net
SUMMARY:The Bully Clover Classic
DESCRIPTION:Judges: Jonnathan Lugo\, John Roneker\, Jamie Villagomez\, Daniel Broggin \nAmerican Bully\nFrench Bulldog\nOlde English Bulldogge\nJr Handler
URL:https://abkcdogs.net/events/the-bully-clover-classic/
LOCATION:Laurel-London Optimist Club\, 383 Sinking Creek Road\, London\, KY\, 40743\, United States
ORGANIZER;CN="Dave Robertson Jr":MAILTO:noregretzbulliez@icloud.com
END:VEVENT
BEGIN:VEVENT
DTSTART;VALUE=DATE:20250308
DTEND;VALUE=DATE:20250309
DTSTAMP:20260420T030512
CREATED:20241128T174540Z
LAST-MODIFIED:20241128T174547Z
UID:27437-1741392000-1741478399@abkcdogs.net
SUMMARY:Spring Show Festival
DESCRIPTION:Judges: Viviana Maione\, Germano Lavigne \nAmerican Bully – Standard\, XL\, Pocket\nFrench Bulldog
URL:https://abkcdogs.net/events/spring-show-festival/
LOCATION:Moscow\, 32\, km MKAD TD\, China Tawn\, Russian Federation
END:VEVENT
BEGIN:VEVENT
DTSTART;VALUE=DATE:20250301
DTEND;VALUE=DATE:20250303
DTSTAMP:20260420T030512
CREATED:20250221T184836Z
LAST-MODIFIED:20250221T184836Z
UID:27701-1740787200-1740959999@abkcdogs.net
SUMMARY:Ro-ABKC-Mania
DESCRIPTION:2 Day Show\n6 Shows \nJudges: Joakin Acedo\, Jesus Garcia Rodriguez\, Manuel Sanchez\, Aldo Peredez Garcia\, Maria Pulina\, Mara Bunker \nAmerican Bully
URL:https://abkcdogs.net/events/ro-abkc-mania/
LOCATION:Oradea\, Oradea\, Romania
ORGANIZER;CN="Gabriel Paun":MAILTO:paunseditionkennel@gmail.com
END:VEVENT
BEGIN:VEVENT
DTSTART;VALUE=DATE:20250301
DTEND;VALUE=DATE:20250302
DTSTAMP:20260420T030512
CREATED:20241211T182721Z
LAST-MODIFIED:20241211T182722Z
UID:27449-1740787200-1740873599@abkcdogs.net
SUMMARY:Duel in the Desert V
DESCRIPTION:Judges: TBA\, TBA\, TBA\, TBA \nAmerican Bully\nShortybull\nFrench Bulldog\nOlde English Bulldogge\nEnglish Bulldog\nCane Corso
URL:https://abkcdogs.net/events/duel-in-the-desert-v/
LOCATION:Roosevelt Elementary\, 828 S Valencia\, Mesa\, AZ\, 85202\, United States
END:VEVENT
BEGIN:VEVENT
DTSTART;VALUE=DATE:20250223
DTEND;VALUE=DATE:20250224
DTSTAMP:20260420T030512
CREATED:20240930T152458Z
LAST-MODIFIED:20241211T183613Z
UID:27137-1740268800-1740355199@abkcdogs.net
SUMMARY:ABKC Asia Nationals
DESCRIPTION:Judge: Lou Manipon \nAmerican Bully – Standard\, Pocket\, XL\, Classic\nAPBT\nJr Handler
URL:https://abkcdogs.net/events/abkc-asia-nationals/
LOCATION:The Filinvest Tent\, Alabang\, Muntinlupa City\, Philippines
ORGANIZER;CN="Rigoberto Capistrano":MAILTO:regcapistrano28@gmail.com
END:VEVENT
BEGIN:VEVENT
DTSTART;VALUE=DATE:20250222
DTEND;VALUE=DATE:20250223
DTSTAMP:20260420T030512
CREATED:20240930T152332Z
LAST-MODIFIED:20241011T142438Z
UID:27134-1740182400-1740268799@abkcdogs.net
SUMMARY:Uncaged 2.0
DESCRIPTION:Judge: TBA \nAmerican Bully – Standard\, Pocket\, Classic\, XL\nAPBT\nJr Handler
URL:https://abkcdogs.net/events/uncaged-2-0/
LOCATION:Feliciano Convention Center\, Malolos\, Bulacan\, 3000\, Philippines
ORGANIZER;CN="Rigoberto Capistrano":MAILTO:regcapistrano28@gmail.com
END:VEVENT
BEGIN:VEVENT
DTSTART;VALUE=DATE:20250208
DTEND;VALUE=DATE:20250210
DTSTAMP:20260420T030512
CREATED:20250121T174436Z
LAST-MODIFIED:20250121T174438Z
UID:27605-1738972800-1739145599@abkcdogs.net
SUMMARY:ABKC Belgrade Winner
DESCRIPTION:2 Day Event\nFriday Judges: Alex Perez & Gabriel Paun\nSaturday Judges: Quiti Rodriguez & Val Macedo \nAmerican Bully
URL:https://abkcdogs.net/events/abkc-belgrade-winner/
LOCATION:Belgrade Fair\, Hall 3\, Belgrade\, Serbia\, 11000\, Serbia
ORGANIZER;CN="Aleksander Golubovie":MAILTO:abkc.serbia@yahoo.com
END:VEVENT
BEGIN:VEVENT
DTSTART;VALUE=DATE:20250208
DTEND;VALUE=DATE:20250209
DTSTAMP:20260420T030512
CREATED:20250109T133136Z
LAST-MODIFIED:20250109T133228Z
UID:27531-1738972800-1739059199@abkcdogs.net
SUMMARY:Emerald Coast Bully Jubilee - Appreciation Show
DESCRIPTION:Judges: Cindy McCloskey\, Rolando Mata\, TBA\, TBA \nAmerican Bully\nFrench Bulldog\nShortybull\nOlde English Bulldogge\nJr Handler
URL:https://abkcdogs.net/events/emerald-coast-bully-jubilee-appreciation-show/
LOCATION:Okaloosa County Fairgrounds\, 1958 Lewis Turner Blvd.\, Fort Walton Beach\, FL\, 32547\, United States
ORGANIZER;CN="Regina Goins":MAILTO:abkcregina@gmail.com
END:VEVENT
BEGIN:VEVENT
DTSTART;VALUE=DATE:20250201
DTEND;VALUE=DATE:20250203
DTSTAMP:20260420T030512
CREATED:20240912T124731Z
LAST-MODIFIED:20241107T175945Z
UID:27014-1738368000-1738540799@abkcdogs.net
SUMMARY:Marimba De Campeones
DESCRIPTION:2 day Event \nJudges: Rolando Mata\, Juan Cortes\, Alex Acevedo\, James Feltus \nAmerican Bully\nAPBT\nFrench Bulldog\nEnglish Bulldog\nPug
URL:https://abkcdogs.net/events/marimba-de-campeones/
LOCATION:Ind Del Bac Plaza\, Espana 1C AL Sur 2C Abajo\, Managua\, Nicaragua
ORGANIZER;CN="Ever Salazar":MAILTO:yuxber@hotmail.com
END:VEVENT
BEGIN:VEVENT
DTSTART;VALUE=DATE:20250201
DTEND;VALUE=DATE:20250202
DTSTAMP:20260420T030512
CREATED:20250121T173334Z
LAST-MODIFIED:20250121T173730Z
UID:27602-1738368000-1738454399@abkcdogs.net
SUMMARY:Canine Carnival 2
DESCRIPTION:Judges: Viviana Maione\, Mara Bunker\, Rolando Mata \nAmerican Bully\nFrench Bulldog\nOlde English Bulldogge\nEnglish Bulldog\nBull Terrier\nCane Corso\nJr Handler
URL:https://abkcdogs.net/events/canine-carnival-2/
LOCATION:Byron Hall\, Christchurch Ave\, Harrow\, Ha35BD\, United Kingdom
ORGANIZER;CN="Reece Nahar":MAILTO:reecenahar@gmail.com
END:VEVENT
BEGIN:VEVENT
DTSTART;VALUE=DATE:20250125
DTEND;VALUE=DATE:20250126
DTSTAMP:20260420T030512
CREATED:20240930T151953Z
LAST-MODIFIED:20241023T143140Z
UID:27131-1737763200-1737849599@abkcdogs.net
SUMMARY:Peace\, Love Bullyfest 13
DESCRIPTION:Judges: TBA \nAmerican Bully – Standard\, Pocket\, XL\, Classic\nShortybull\nFrench Bulldog\nOlde English Bulldogge\nJr Handler
URL:https://abkcdogs.net/events/peace-love-bullyfest-11/
LOCATION:Allentown Fairgrounds\, Ag Hall - 302 N 17th Street\, Allentown\, PA\, 18102\, United States
END:VEVENT
BEGIN:VEVENT
DTSTART;VALUE=DATE:20250118
DTEND;VALUE=DATE:20250119
DTSTAMP:20260420T030512
CREATED:20241107T170755Z
LAST-MODIFIED:20241107T171540Z
UID:27381-1737158400-1737244799@abkcdogs.net
SUMMARY:World Class Bully Show
DESCRIPTION:Judges: Nico Van Diejen & Maria Pulina \nAmerican Bully\nFrench Bullodog\nEnglish Bulldog
URL:https://abkcdogs.net/events/world-class-bully-show-2/
LOCATION:Gimenez Gallery Diliman\, Quezon City\, Metro Manila\, Philippines
ORGANIZER;CN="Ethan Glen Pascual Sala":MAILTO:princebuhay@yahoo.com
END:VEVENT
BEGIN:VEVENT
DTSTART;VALUE=DATE:20250118
DTEND;VALUE=DATE:20250119
DTSTAMP:20260420T030512
CREATED:20240930T151429Z
LAST-MODIFIED:20241023T142503Z
UID:27124-1737158400-1737244799@abkcdogs.net
SUMMARY:Midwest Blizzard
DESCRIPTION:Judges: Lou Manipon\, John Roneker\, Ashton Johnson\, TBA \nAmerican Bully – Standard\, Pocket\, XL\, Classic\nOlde English Bulldogge\nEnglish Bulldog\nAmerican Bulldog\nJr Handler
URL:https://abkcdogs.net/events/midwest-blizzard/
LOCATION:McClean County Fairgrounds\, 1106 Interstate Drive\, Bloomington\, 61705\, United States
ORGANIZER;CN="Dave Robertson Jr":MAILTO:noregretzbulliez@icloud.com
END:VEVENT
BEGIN:VEVENT
DTSTART;VALUE=DATE:20250104
DTEND;VALUE=DATE:20250105
DTSTAMP:20260420T030512
CREATED:20240930T151732Z
LAST-MODIFIED:20241211T182059Z
UID:27128-1735948800-1736035199@abkcdogs.net
SUMMARY:ABKC Season Opener 2025
DESCRIPTION:Event has been canceled.
URL:https://abkcdogs.net/events/abkc-season-opener-2025/
LOCATION:Columbus Trade & Convention Center\, 801 Front Ave\, Columbus\, GA\, 31901\, United States
ORGANIZER;CN="Rolando Mata":MAILTO:abkcseasonopener@gmail.com
END:VEVENT
BEGIN:VEVENT
DTSTART;VALUE=DATE:20241221
DTEND;VALUE=DATE:20241222
DTSTAMP:20260420T030512
CREATED:20240826T115220Z
LAST-MODIFIED:20240826T115224Z
UID:26928-1734739200-1734825599@abkcdogs.net
SUMMARY:Happy New Year Show in Russia
DESCRIPTION:Judges: Manuel Sanchez & Aldo Paredes \nAmerican Bully\nAPBT\nAM Staff\nShortybull\nFrench Bulldog\nOlde English Bulldogge\nEnglish Bulldog
URL:https://abkcdogs.net/events/happy-new-year-show-in-russia/
LOCATION:VC Sfera\, Moscow\, Russian Federation
END:VEVENT
END:VCALENDAR