BEGIN:VCALENDAR
VERSION:2.0
PRODID:-//THE AMERICAN BULLY KENNEL CLUB - ECPv6.15.18//NONSGML v1.0//EN
CALSCALE:GREGORIAN
METHOD:PUBLISH
X-WR-CALNAME:THE AMERICAN BULLY KENNEL CLUB
X-ORIGINAL-URL:https://abkcdogs.net
X-WR-CALDESC:Events for THE AMERICAN BULLY KENNEL CLUB
REFRESH-INTERVAL;VALUE=DURATION:PT1H
X-Robots-Tag:noindex
X-PUBLISHED-TTL:PT1H
BEGIN:VTIMEZONE
TZID:America/New_York
BEGIN:DAYLIGHT
TZOFFSETFROM:-0500
TZOFFSETTO:-0400
TZNAME:EDT
DTSTART:20230312T070000
END:DAYLIGHT
BEGIN:STANDARD
TZOFFSETFROM:-0400
TZOFFSETTO:-0500
TZNAME:EST
DTSTART:20231105T060000
END:STANDARD
BEGIN:DAYLIGHT
TZOFFSETFROM:-0500
TZOFFSETTO:-0400
TZNAME:EDT
DTSTART:20240310T070000
END:DAYLIGHT
BEGIN:STANDARD
TZOFFSETFROM:-0400
TZOFFSETTO:-0500
TZNAME:EST
DTSTART:20241103T060000
END:STANDARD
BEGIN:DAYLIGHT
TZOFFSETFROM:-0500
TZOFFSETTO:-0400
TZNAME:EDT
DTSTART:20250309T070000
END:DAYLIGHT
BEGIN:STANDARD
TZOFFSETFROM:-0400
TZOFFSETTO:-0500
TZNAME:EST
DTSTART:20251102T060000
END:STANDARD
END:VTIMEZONE
BEGIN:VEVENT
DTSTART;VALUE=DATE:20240824
DTEND;VALUE=DATE:20240825
DTSTAMP:20260420T013142
CREATED:20231019T134305Z
LAST-MODIFIED:20240819T185744Z
UID:25408-1724457600-1724543999@abkcdogs.net
SUMMARY:3rd Annual Western Canadian Bully Showcase
DESCRIPTION:Judges:  Brian Peterson\, Lou Manipon\, TBA \nAmerican Bully – Standard\, Pocket\, Classic\, XL\nAPBT\nJr Handler
URL:https://abkcdogs.net/events/3rd-annual-western-canadian-bully-showcase/
LOCATION:Plainsmen Arena\, 320 Centre Ave E\, Airdrie\, AB\, T4B 1H6\, Canada
ORGANIZER;CN="Justin Pupetz":MAILTO:jpupetz@gmail.com
END:VEVENT
BEGIN:VEVENT
DTSTART;VALUE=DATE:20240817
DTEND;VALUE=DATE:20240818
DTSTAMP:20260420T013142
CREATED:20240611T115055Z
LAST-MODIFIED:20240611T115056Z
UID:26522-1723852800-1723939199@abkcdogs.net
SUMMARY:ABKC Russia Show
DESCRIPTION:Judges: Maria Pulina\, Damir Markov \nAmerican Bully – Standard\, Pocket\, Classic\, XL
URL:https://abkcdogs.net/events/abkc-russia-show-2/
LOCATION:Stadion Kazan\, Kazan\, Russian Federation
END:VEVENT
BEGIN:VEVENT
DTSTART;VALUE=DATE:20240817
DTEND;VALUE=DATE:20240818
DTSTAMP:20260420T013142
CREATED:20231019T133908Z
LAST-MODIFIED:20240103T013232Z
UID:25405-1723852800-1723939199@abkcdogs.net
SUMMARY:Labor Day Bully Showcase 4
DESCRIPTION:Judges: TBA\, TBA\, TBA\, TBA \nAmerican Bully – Standard\, Pocket\, XL\, Classic\nShortybull\nFrench Bulldog\nOlde English Bulldogge\nJr Handler
URL:https://abkcdogs.net/events/labor-day-bully-showcase-4/
LOCATION:Columbus Trade & Convention Center\, 801 Front Ave\, Columbus\, GA\, 31901\, United States
ORGANIZER;CN="Pearlina Bodden":MAILTO:pearlinabodden@gmail.com
END:VEVENT
BEGIN:VEVENT
DTSTART;VALUE=DATE:20240816
DTEND;VALUE=DATE:20240820
DTSTAMP:20260420T013142
CREATED:20240708T134337Z
LAST-MODIFIED:20240708T134338Z
UID:26653-1723766400-1724111999@abkcdogs.net
SUMMARY:Leyends ABKC
DESCRIPTION:4 Day Event\n1 Show Friday\n2 Shows Saturday\n2 Shows Sunday\n1 Show Monday \nJudges: TBA \nAmerican Bully – Standard\, Pocket\, XL\, Classic\nFrench Bulldog\nEnglish Bulldog\nDaschund\nDoberman\nStaffy
URL:https://abkcdogs.net/events/leyends-abkc/
LOCATION:Corferias\, CRA. 37 No. 2467\, Bogota\, 123\, Colombia
END:VEVENT
BEGIN:VEVENT
DTSTART;VALUE=DATE:20240803
DTEND;VALUE=DATE:20240804
DTSTAMP:20260420T013142
CREATED:20240317T230432Z
LAST-MODIFIED:20240317T230433Z
UID:25948-1722643200-1722729599@abkcdogs.net
SUMMARY:The King of the North
DESCRIPTION:Judges: TBA\, TBA \nAmerican Bully – Standard\, Pocket\, XL\, Classic
URL:https://abkcdogs.net/events/the-king-of-the-north/
LOCATION:Masgatan 6\, Malmo\, 21532\, Sweden
ORGANIZER;CN="Anne Hammarqvist":MAILTO:anne.hammarqvist@hotmail.com
END:VEVENT
BEGIN:VEVENT
DTSTART;VALUE=DATE:20240803
DTEND;VALUE=DATE:20240804
DTSTAMP:20260420T013142
CREATED:20240317T225342Z
LAST-MODIFIED:20240502T120512Z
UID:25943-1722643200-1722729599@abkcdogs.net
SUMMARY:The Midwest Bully Bash
DESCRIPTION:Judges: Rolando Mata\, Cindy McCloskey\, Lou Manipon\, Alton Banks \nAmerican Bully – Standard\, Pocket\, XL\, Classic\nAPBT\nShortybull\nFrench Bulldog\nEnglish Bulldog\nAmerican Bulldog\nJr Handler \nPre-Registration Link
URL:https://abkcdogs.net/events/midwest-bully-bash-2/
LOCATION:McClean County Fairgrounds\, 1106 Interstate Drive\, Bloomington\, 61705\, United States
ORGANIZER;CN="Dave Robertson Jr":MAILTO:noregretzbulliez@icloud.com
END:VEVENT
BEGIN:VEVENT
DTSTART;VALUE=DATE:20240728
DTEND;VALUE=DATE:20240729
DTSTAMP:20260420T013142
CREATED:20240708T133202Z
LAST-MODIFIED:20240708T133601Z
UID:26642-1722124800-1722211199@abkcdogs.net
SUMMARY:Bully Game Legends
DESCRIPTION:Judges: Luis Altamirano\, Alex Ferraro\, Jonnathon Lugo \nAmerican Bully – Standard\, Pocket\, XL\, Classic\nFrench Bulldog\nEnglish Bulldog
URL:https://abkcdogs.net/events/bully-game-legends-2/
LOCATION:Feria Nacional De Durango\, Durango\, Mexico
ORGANIZER;CN="Jaime Carrola":MAILTO:mexicalibullyz@gmail.com
END:VEVENT
BEGIN:VEVENT
DTSTART;VALUE=DATE:20240727
DTEND;VALUE=DATE:20240728
DTSTAMP:20260420T013142
CREATED:20231019T142306Z
LAST-MODIFIED:20240724T144745Z
UID:25422-1722038400-1722124799@abkcdogs.net
SUMMARY:North Carolina Bully Extravaganza 7
DESCRIPTION:Judges: TBA\, TBA\, TBA\, TBA \nAmerican Bully – Standard\, Pocket\, Classic\, XL\nShortybull\nFrench Bulldog\nOlde English Bulldogge\nJr Handler
URL:https://abkcdogs.net/events/north-carolina-bully-extravaganza-7/
LOCATION:Winston Salem Fairgrounds\, Education Building - 2886 Shorefair Drive\, Winston-Salem\, NC\, 27105\, United States
END:VEVENT
BEGIN:VEVENT
DTSTART;VALUE=DATE:20240720
DTEND;VALUE=DATE:20240721
DTSTAMP:20260420T013142
CREATED:20240227T192636Z
LAST-MODIFIED:20240514T153529Z
UID:25907-1721433600-1721519999@abkcdogs.net
SUMMARY:ABKC Daytona Beach Bully Weekend 2024
DESCRIPTION:Judges: Errol Bodden\, Tavoris Ingram\, Rodrigo Silva\, Edwin Vargas \nAmerican Bully – Standard\, Pocket\, Classic\, XL\nAPBT\nShortybull\nFrench Bulldog\nOlde English Bulldogge\nEnglish Bulldog\nBull Terrier\nJr Handler
URL:https://abkcdogs.net/events/abkc-daytona-beach-bully-weekend-2024/
LOCATION:Ocean Center\, 101 N Atlantic Ave\, Daytona Beach\, FL\, 32118\, United States
ORGANIZER;CN="Rolando Mata":MAILTO:abkcseasonopener@gmail.com
END:VEVENT
BEGIN:VEVENT
DTSTART;VALUE=DATE:20240713
DTEND;VALUE=DATE:20240715
DTSTAMP:20260420T013142
CREATED:20240416T142902Z
LAST-MODIFIED:20240416T142904Z
UID:26082-1720828800-1721001599@abkcdogs.net
SUMMARY:ABKC Russia Show
DESCRIPTION:2 Day Event \nJudges: TBA\, TBA\, TBA\, TBA \nAmerican Bully – Standard\, Pocket\, XL\, Classic
URL:https://abkcdogs.net/events/abkc-russia-show/
LOCATION:KSK Maxima Park\, Russian Federation
END:VEVENT
BEGIN:VEVENT
DTSTART;VALUE=DATE:20240713
DTEND;VALUE=DATE:20240714
DTSTAMP:20260420T013142
CREATED:20240227T192335Z
LAST-MODIFIED:20240227T192335Z
UID:25904-1720828800-1720915199@abkcdogs.net
SUMMARY:East Texas Bully Classic 3
DESCRIPTION:Judges: TBA\, TBA\, TBA\, TBA \nAmerican Bully – Standard\, Pocket\, XL\, Classic\nAPBT\nShortybull\nFrench Bulldog\nOlde English Bulldogge\nJr Handler
URL:https://abkcdogs.net/events/east-texas-bully-classic-3/
LOCATION:Maude Cobb Convention Center\, 100 Grand Blvd\, Longview\, TX\, 75604\, United States
ORGANIZER;CN="Stephanie Hicks":MAILTO:stephnwitherspoon@gmail.com
END:VEVENT
BEGIN:VEVENT
DTSTART;VALUE=DATE:20240713
DTEND;VALUE=DATE:20240714
DTSTAMP:20260420T013142
CREATED:20231210T204216Z
LAST-MODIFIED:20240701T165448Z
UID:25775-1720828800-1720915199@abkcdogs.net
SUMMARY:Summer Bully Show II
DESCRIPTION:Cancelled
URL:https://abkcdogs.net/events/summer-bully-show-ii-2/
LOCATION:Montgomery Waller Park\, 2905 Palm Ave\, San Diego\, CA\, 92154\, United States
ORGANIZER;CN="Vanessa Cuevas":MAILTO:vanessac1976@gmail.com
END:VEVENT
BEGIN:VEVENT
DTSTART;VALUE=DATE:20240629
DTEND;VALUE=DATE:20240701
DTSTAMP:20260420T013142
CREATED:20240419T140624Z
LAST-MODIFIED:20240613T121403Z
UID:26100-1719619200-1719791999@abkcdogs.net
SUMMARY:ABKC Venezuela
DESCRIPTION:2 Day Event \nJudges: Edwin Vargas\, Juan Cortes\, TBA \nAmerican Bully – Standard\, Pocket\, XL\, Classic\nABPT\nAm Staff\nFrench Bulldog\nEnglish Bulldog\nAmerican Bulldog\nBull Terrier\nDaschund\nDoberman\nBoxer\nRottweiler
URL:https://abkcdogs.net/events/abkc-venezuela/
LOCATION:Centro Comercial Lider Caracas\, Caracas\, Venezuela
ORGANIZER;CN="Silverio Da Costa":MAILTO:innovaaonescreativasaa@gmail.com
END:VEVENT
BEGIN:VEVENT
DTSTART;VALUE=DATE:20240622
DTEND;VALUE=DATE:20240624
DTSTAMP:20260420T013142
CREATED:20240611T114128Z
LAST-MODIFIED:20240611T114539Z
UID:26512-1719014400-1719187199@abkcdogs.net
SUMMARY:ABKC The Antwerp Edition Goes Las Vegas
DESCRIPTION:2 Day Event \nJudges: Val Macedo\, Nico Van Deijzen\, Prie Roldan\, Tony Gold \nAmerican Bully – Standard\, Pocket\, Classic\, XL\nFrench Bulldog
URL:https://abkcdogs.net/events/abkc-the-antwerp-edition-goes-las-vegas/
LOCATION:Geeniende 54\, Ravels\, 2361\, Belgium
ORGANIZER;CN="Mara De Boer":MAILTO:m.vandongeren@yahoo.nl
END:VEVENT
BEGIN:VEVENT
DTSTART;VALUE=DATE:20240622
DTEND;VALUE=DATE:20240623
DTSTAMP:20260420T013142
CREATED:20240227T191410Z
LAST-MODIFIED:20240611T115735Z
UID:25894-1719014400-1719100799@abkcdogs.net
SUMMARY:Rise of the Southwest 3
DESCRIPTION:Judges: Rolando Mata\, James Feltus\, Ashton Johnson\, John Roneker \nAmerican Bully – Standard\, Pocket\, Classic\, XL
URL:https://abkcdogs.net/events/rise-of-the-southwest-3/
LOCATION:Expo New Mexico (State Fair)\, Lujan Building\, 300 San Pedro Dr NE\, Albuquerque\, NM\, 87108\, United States
ORGANIZER;CN="Paul Tafoya":MAILTO:nmdogshows@gmail.com
END:VEVENT
BEGIN:VEVENT
DTSTART;VALUE=DATE:20240622
DTEND;VALUE=DATE:20240623
DTSTAMP:20260420T013142
CREATED:20231019T142842Z
LAST-MODIFIED:20240502T113418Z
UID:25428-1719014400-1719100799@abkcdogs.net
SUMMARY:Allentown Bully Extravaganza 12
DESCRIPTION:Judges: TBA\, TBA\, TBA\, TBA \nAmerican Bully – Standard\, Pocket\, Classic\, XL\nShortybull\nFrench Bulldog\nOlde English Bulldogge\nJr Handlers
URL:https://abkcdogs.net/events/allentown-bully-extravaganza-12-2/
LOCATION:Allentown Fairgrounds\, Ag Hall - 302 N 17th Street\, Allentown\, PA\, 18102\, United States
END:VEVENT
BEGIN:VEVENT
DTSTART;VALUE=DATE:20240614
DTEND;VALUE=DATE:20240616
DTSTAMP:20260420T013142
CREATED:20240227T191146Z
LAST-MODIFIED:20240227T200549Z
UID:25890-1718323200-1718495999@abkcdogs.net
SUMMARY:ABKC Ottawa Bully Show\, Second Edition
DESCRIPTION:2 Day Event\n6 Shows \nJudges: Tony Gold\, Ashton Johnson\, Errol Bodden\, John Certeza\, William Ogren\, TBA \nAmerican Bully – Standard\, Pocket\, XL\, Classic\nAPBT\nShortybull\nFrench Bulldog\nEnglish Bulldog\nJr Handler
URL:https://abkcdogs.net/events/abkc-ottawa-bully-show-second-edition/
LOCATION:EY Centre\, 4899 Uplands Dr\, Ottawa\, ON\, K1V 2N6\, Canada
ORGANIZER;CN="Michelle Burke":MAILTO:summumbullyz@hotmail.com
END:VEVENT
BEGIN:VEVENT
DTSTART;VALUE=DATE:20240608
DTEND;VALUE=DATE:20240610
DTSTAMP:20260420T013142
CREATED:20231019T132731Z
LAST-MODIFIED:20240227T192108Z
UID:25402-1717804800-1717977599@abkcdogs.net
SUMMARY:ABKC Tatry Bully Show
DESCRIPTION:2 Day Event \nJudges: Maria Pulina\, Gabriel Paun\, Jonathan Lugo \nAmerican Bully – Standard\, Pocket\, Classic\, XL
URL:https://abkcdogs.net/events/abkc-tatry-bully-show-2/
LOCATION:Zimny Stadion Stefanikova 890/46\, Poprad\, 58 01\, Slovakia (Slovak Republic)
ORGANIZER;CN="Dusan Bocko":MAILTO:dusanbocko@gmail.com
END:VEVENT
BEGIN:VEVENT
DTSTART;VALUE=DATE:20240601
DTEND;VALUE=DATE:20240603
DTSTAMP:20260420T013142
CREATED:20240514T154447Z
LAST-MODIFIED:20240514T154449Z
UID:26179-1717200000-1717372799@abkcdogs.net
SUMMARY:Show Deluxe More Muscle
DESCRIPTION:2 Day Event \nJudges: TBA\, TBA\, TBA \nAmerican Bully – Standard\, Pocket\, XL\, Classic\nAPBT\nFrench Bulldog\nEnglish Bulldog\nDoberman\nCane Corso\nDachshund\nTibetan Mastiff
URL:https://abkcdogs.net/events/show-deluxe-more-muscle/
LOCATION:Oriente Antioqueno\, La Ceja\, Medellin\, Colombia
ORGANIZER;CN="Edwin Vargas":MAILTO:abkccolombia1@gmail.com
END:VEVENT
BEGIN:VEVENT
DTSTART;VALUE=DATE:20240525
DTEND;VALUE=DATE:20240527
DTSTAMP:20260420T013142
CREATED:20240416T143643Z
LAST-MODIFIED:20240416T143645Z
UID:26087-1716595200-1716767999@abkcdogs.net
SUMMARY:Bohemia Show ABKC
DESCRIPTION:2 day Event \nJudges: Brian Peterson\, John Roneker\, Ragim Magh \nAmerican Bully – Standard\, Pocket\, XL\, Classic
URL:https://abkcdogs.net/events/bohemia-show-abkc-3/
LOCATION:Olomouc\, Czech Republic
ORGANIZER;CN="ABKC Czech Republic":MAILTO:abkccz@gmail.com
END:VEVENT
BEGIN:VEVENT
DTSTART;VALUE=DATE:20240525
DTEND;VALUE=DATE:20240526
DTSTAMP:20260420T013142
CREATED:20240416T142518Z
LAST-MODIFIED:20240502T120839Z
UID:26078-1716595200-1716681599@abkcdogs.net
SUMMARY:The Midwest Bully 500
DESCRIPTION:Judges: Lou Manipon\, Cindy McCloskey\, Ashton Johnson \nAmerican Bully – Standard\, Pocket\, XL\, Classic\nAlapaha Bulldog\nFrench Bulldog\nOlde English Bulldogge\nEnglish Bulldog\nJr Handler \nPre-Registration Link
URL:https://abkcdogs.net/events/midwest-bully-500/
LOCATION:David S Palmer Arena\, 100 W Main Street\, Danville\, IL\, 61832\, United States
ORGANIZER;CN="Dave Robertson Jr":MAILTO:noregretzbulliez@icloud.com
END:VEVENT
BEGIN:VEVENT
DTSTART;VALUE=DATE:20240525
DTEND;VALUE=DATE:20240526
DTSTAMP:20260420T013142
CREATED:20231019T132459Z
LAST-MODIFIED:20231210T192454Z
UID:25399-1716595200-1716681599@abkcdogs.net
SUMMARY:Rocky Mountain Classic 2
DESCRIPTION:Judges: Jamie Villagomez\, Daniel Broggin\, TBA\, TBA \nAmerican Bully – Standard\, Classic\, Pocket\, XL\nShortybull\nFrench Bulldog\nOlde English Bulldogge\nEnglish Bulldog
URL:https://abkcdogs.net/events/rocky-mountain-classic-2/
LOCATION:Pueblo Convention Center\, 320 Central Main Street\, Pueblo\, CO\, 81003\, United States
ORGANIZER;CN="Lisa Pedraza":MAILTO:lisapedraza2012@yahoo.com
END:VEVENT
BEGIN:VEVENT
DTSTART;VALUE=DATE:20240519
DTEND;VALUE=DATE:20240520
DTSTAMP:20260420T013142
CREATED:20240318T154748Z
LAST-MODIFIED:20240318T154822Z
UID:25970-1716076800-1716163199@abkcdogs.net
SUMMARY:Batalla De Tepetlapan\, 3er Parada Tour CentroAmeriocano
DESCRIPTION:Judges: Tavoris Ingram & Nico Christino \nAmerican Bully – Standard\, Pocket\, XL\, Classic\nAPBT\nFrench Bulldog\nEnglish Bulldog\nBull Terrier\nPug
URL:https://abkcdogs.net/events/batalla-de-tepetlapan-3er-parada-tour-centroameriocano/
LOCATION:Cancha Municipal Tipitapa\, Tipitapa\, Nicaragua
ORGANIZER;CN="Jorge Luis":MAILTO:cvesquipulas@gmail.com
END:VEVENT
BEGIN:VEVENT
DTSTART;VALUE=DATE:20240518
DTEND;VALUE=DATE:20240519
DTSTAMP:20260420T013142
CREATED:20240317T224646Z
LAST-MODIFIED:20240317T224647Z
UID:25940-1715990400-1716076799@abkcdogs.net
SUMMARY:ABKC Russia
DESCRIPTION:Judges: TBA\, TBA \nAmerican Bully – Standard\, Pocket\, XL\, Classic
URL:https://abkcdogs.net/events/abkc-russia-6/
LOCATION:Ekaterinburg\, Russian Federation
END:VEVENT
BEGIN:VEVENT
DTSTART;VALUE=DATE:20240518
DTEND;VALUE=DATE:20240519
DTSTAMP:20260420T013142
CREATED:20231019T141927Z
LAST-MODIFIED:20240502T120611Z
UID:25419-1715990400-1716076799@abkcdogs.net
SUMMARY:Carolina Bully Convention 7
DESCRIPTION:Judges: TBA\, TBA\, TBA\, TBA \nAmerican Bully – Standard\, Pocket\, Classic\, XL\nShortybull\nFrench Bulldog\nOlde English Bulldogge\nJr Handler \nPre-Registration Link
URL:https://abkcdogs.net/events/carolina-bully-convention-7-2/
LOCATION:Winston Salem Fairgrounds\, Education Building - 2886 Shorefair Drive\, Winston-Salem\, NC\, 27105\, United States
END:VEVENT
BEGIN:VEVENT
DTSTART;VALUE=DATE:20240427
DTEND;VALUE=DATE:20240429
DTSTAMP:20260420T013142
CREATED:20231210T203918Z
LAST-MODIFIED:20231210T203919Z
UID:25772-1714176000-1714348799@abkcdogs.net
SUMMARY:Atlanta Bully Marathon 2024
DESCRIPTION:2 Day Event\n6 Shows \nJudges: Tavoris Ingram\, Nico Christino\, Rodrigo Silva\, Daniel Broggen\, Chris White\, TBA \nAmerican Bully – Standard\, Pocket\, XL\, Classic\nAPBT\nAM Staff\nShortybull\nFrench Bulldog\nOlde English Bulldogge\nEnglish Bulldog\nJr Handler
URL:https://abkcdogs.net/events/atlanta-bully-marathon-2024/
LOCATION:Jason T Harper Arena\, 95 Lake Dow Road\, McDonough\, GA\, 30253\, United States
ORGANIZER;CN="Rolando Mata":MAILTO:abkcseasonopener@gmail.com
END:VEVENT
BEGIN:VEVENT
DTSTART;VALUE=DATE:20240427
DTEND;VALUE=DATE:20240428
DTSTAMP:20260420T013142
CREATED:20231210T202925Z
LAST-MODIFIED:20231210T202926Z
UID:25767-1714176000-1714262399@abkcdogs.net
SUMMARY:Spring Bully Fest 5
DESCRIPTION:Judges: Nico Christino\, John Roneker\, TBA\, TBA \nAmerican Bully – Standard\, Pocket\, XL\, Classic\nAm Staff\nShortybull\nFrench Bulldog\nOlde English Bulldogge
URL:https://abkcdogs.net/events/spring-bully-fest-5/
LOCATION:Montgomery Waller Park\, 2905 Palm Ave\, San Diego\, CA\, 92154\, United States
ORGANIZER;CN="Vanessa Cuevas":MAILTO:vanessac1976@gmail.com
END:VEVENT
BEGIN:VEVENT
DTSTART;VALUE=DATE:20240421
DTEND;VALUE=DATE:20240422
DTSTAMP:20260420T013142
CREATED:20240318T153724Z
LAST-MODIFIED:20240318T153725Z
UID:25959-1713657600-1713743999@abkcdogs.net
SUMMARY:Regionales ABKC 2024
DESCRIPTION:Judges: James Feltus\, TBA\, TBA \nAmerican Bully – Standard\, Pocket\, Classic\, XL\nAPBT\nShortybull\nFrench Bulldog\nEnglish Bulldog\nBull Terrier\nTibetan Mastiff\nDaschund\nJr Handler
URL:https://abkcdogs.net/events/regionales-abkc-2024/
LOCATION:Centro Comercial Carrera AV. Las Americas\, 350-15\, Bogota\, 123\, Colombia
END:VEVENT
BEGIN:VEVENT
DTSTART;VALUE=DATE:20240420
DTEND;VALUE=DATE:20240421
DTSTAMP:20260420T013142
CREATED:20240318T153256Z
LAST-MODIFIED:20240318T153302Z
UID:25954-1713571200-1713657599@abkcdogs.net
SUMMARY:Bullies in the House of Dragons
DESCRIPTION:Judges: William Ogren & Nico Van Deijzen \nAmerican Bully – Standard\, Pocket\, XL\, Classic\nFrench Bulldog
URL:https://abkcdogs.net/events/bullies-in-the-house-of-dragons/
LOCATION:Bacolor Mini Convention Center\, Pampangga\, Philippines
ORGANIZER;CN="Jeremiah Geremias":MAILTO:jaygeremias@hotmail.co.uk
END:VEVENT
BEGIN:VEVENT
DTSTART;VALUE=DATE:20240420
DTEND;VALUE=DATE:20240421
DTSTAMP:20260420T013142
CREATED:20230605T150124Z
LAST-MODIFIED:20230605T150311Z
UID:24425-1713571200-1713657599@abkcdogs.net
SUMMARY:ABKC Spa City Bully Takeover
DESCRIPTION:Judges: TBA\, TBA\, TBA\, TBA \nAmerican Bully – Standard\, Pocket\, XL\, Classic\nShortybull\nFrench Bulldog\nOlde English Bulldogge\nEnglish Bulldog\nBull Terrier\nJr Handler
URL:https://abkcdogs.net/events/abkc-spa-city-bully-takeover/
LOCATION:Hot Springs Convention Center\, 134 Convention Blvd\, Hot Springs\, AR\, 71901\, United States
ORGANIZER;CN="JJ Steiling":MAILTO:jj72374@yahoo.com
END:VEVENT
END:VCALENDAR