BEGIN:VCALENDAR
VERSION:2.0
PRODID:-//THE AMERICAN BULLY KENNEL CLUB - ECPv6.15.18//NONSGML v1.0//EN
CALSCALE:GREGORIAN
METHOD:PUBLISH
X-WR-CALNAME:THE AMERICAN BULLY KENNEL CLUB
X-ORIGINAL-URL:https://abkcdogs.net
X-WR-CALDESC:Events for THE AMERICAN BULLY KENNEL CLUB
REFRESH-INTERVAL;VALUE=DURATION:PT1H
X-Robots-Tag:noindex
X-PUBLISHED-TTL:PT1H
BEGIN:VTIMEZONE
TZID:America/New_York
BEGIN:DAYLIGHT
TZOFFSETFROM:-0500
TZOFFSETTO:-0400
TZNAME:EDT
DTSTART:20220313T070000
END:DAYLIGHT
BEGIN:STANDARD
TZOFFSETFROM:-0400
TZOFFSETTO:-0500
TZNAME:EST
DTSTART:20221106T060000
END:STANDARD
BEGIN:DAYLIGHT
TZOFFSETFROM:-0500
TZOFFSETTO:-0400
TZNAME:EDT
DTSTART:20230312T070000
END:DAYLIGHT
BEGIN:STANDARD
TZOFFSETFROM:-0400
TZOFFSETTO:-0500
TZNAME:EST
DTSTART:20231105T060000
END:STANDARD
BEGIN:DAYLIGHT
TZOFFSETFROM:-0500
TZOFFSETTO:-0400
TZNAME:EDT
DTSTART:20240310T070000
END:DAYLIGHT
BEGIN:STANDARD
TZOFFSETFROM:-0400
TZOFFSETTO:-0500
TZNAME:EST
DTSTART:20241103T060000
END:STANDARD
END:VTIMEZONE
BEGIN:VEVENT
DTSTART;VALUE=DATE:20230624
DTEND;VALUE=DATE:20230625
DTSTAMP:20260419T172153
CREATED:20230125T180233Z
LAST-MODIFIED:20230125T180241Z
UID:23700-1687564800-1687651199@abkcdogs.net
SUMMARY:Bully Show in Russia
DESCRIPTION:Judge: Marina Timofeeva \nAmerican Bully – Standard\, Pocket\, XL\, Classic
URL:https://abkcdogs.net/events/bully-show-in-russia-6/
LOCATION:Kazan Expo\, Kazan\, Russian Federation
END:VEVENT
BEGIN:VEVENT
DTSTART;VALUE=DATE:20230617
DTEND;VALUE=DATE:20230619
DTSTAMP:20260419T172153
CREATED:20230328T140123Z
LAST-MODIFIED:20230328T140124Z
UID:24062-1686960000-1687132799@abkcdogs.net
SUMMARY:La Batalla de las Americas
DESCRIPTION:Judges: Quiti Rodriguez\, Jonathan Lugo\, Edwin Vargas Parra \nAmerican Bully – Standard\, Classic\, Pocket\, XL\nAPBT\nFrench Bulldog\nEnglish Bulldog\nDaschund\nDoberman\nBoxer\nPresa Canario
URL:https://abkcdogs.net/events/la-batalla-de-las-americas/
LOCATION:Megamall\, 24 de Diciembre\, Panama\, Panama
ORGANIZER;CN="Leonel Oswaldo Rodas Mendizabal":MAILTO:leonmendizabal@yahoo.com
END:VEVENT
BEGIN:VEVENT
DTSTART;VALUE=DATE:20230617
DTEND;VALUE=DATE:20230618
DTSTAMP:20260419T172153
CREATED:20221208T160845Z
LAST-MODIFIED:20221208T160852Z
UID:22944-1686960000-1687046399@abkcdogs.net
SUMMARY:ABKC Gatineau
DESCRIPTION:Judges: TBA\, TBA\, TBA\, TBA \nAmerican Bully – Standard\, Pocket\, XL\, Classic\nShortybull\nFrench Bulldog\nEnglish Bulldog\nJr Handler
URL:https://abkcdogs.net/events/abkc-gatineau/
LOCATION:Complexe Branchaud-Briere\, 499 Boulevard Labrosse\, Suite 100\, Gatineau\, Quebec\, J8P 4R1\, Canada
ORGANIZER;CN="Michelle Burke":MAILTO:summumbullyz@hotmail.com
END:VEVENT
BEGIN:VEVENT
DTSTART;VALUE=DATE:20230610
DTEND;VALUE=DATE:20230611
DTSTAMP:20260419T172153
CREATED:20230117T164409Z
LAST-MODIFIED:20230117T164418Z
UID:23498-1686355200-1686441599@abkcdogs.net
SUMMARY:Allentown Bully Extravaganza 12
DESCRIPTION:Judges: TBA\, TBA\, TBA\, TBA \nAmerican Bully – Standard\, Pocket\, XL\, Classic\nShortybull\nFrench Bulldog\nOlde English Bulldogge\nEnglish Bulldog\nJr Handler
URL:https://abkcdogs.net/events/allentown-bully-extravaganza-12/
LOCATION:Allentown Fairgrounds\, Ag Hall - 302 N 17th Street\, Allentown\, PA\, 18102\, United States
END:VEVENT
BEGIN:VEVENT
DTSTART;VALUE=DATE:20230610
DTEND;VALUE=DATE:20230611
DTSTAMP:20260419T172153
CREATED:20230104T154908Z
LAST-MODIFIED:20230104T154915Z
UID:23035-1686355200-1686441599@abkcdogs.net
SUMMARY:ABKC Tatry Bully Show
DESCRIPTION:Judges: TBA\, TBA \nAmerican Bully – Standard\, Pocket\, XL\, Classic\nJr Handler
URL:https://abkcdogs.net/events/abkc-tatry-bully-show/
LOCATION:Kam Quarter Horses\, Ranc 208 Betlanouce\, Poprad\, 05801\, Slovakia (Slovak Republic)
ORGANIZER;CN="Dusan Bocko":MAILTO:dusanbocko@gmail.com
END:VEVENT
BEGIN:VEVENT
DTSTART;VALUE=DATE:20230603
DTEND;VALUE=DATE:20230604
DTSTAMP:20260419T172153
CREATED:20230105T170722Z
LAST-MODIFIED:20230202T155002Z
UID:23066-1685750400-1685836799@abkcdogs.net
SUMMARY:GranPrix Bully Festival 2
DESCRIPTION:Judges: TBA & TBA \nAmerican Bully – Standard\, Pocket\, XL\, Classic
URL:https://abkcdogs.net/events/granprix-bully-festival-2/
LOCATION:Belgium\, Belgium
END:VEVENT
BEGIN:VEVENT
DTSTART;VALUE=DATE:20230527
DTEND;VALUE=DATE:20230529
DTSTAMP:20260419T172153
CREATED:20220712T162454Z
LAST-MODIFIED:20230412T000327Z
UID:22215-1685145600-1685318399@abkcdogs.net
SUMMARY:Dracula Bully Marathon
DESCRIPTION:2 Day Event \nJudges: TBA\, TBA\, TBA\, TBA \nAmerican Bully – Standard\, Pocket\, XL\, Classic
URL:https://abkcdogs.net/events/dracula-bully-marathon-4/
LOCATION:Calea Timisorii\, Calea Timisorii\, Sanandrei\, Timis\, Romania
ORGANIZER;CN="Adrian Stoian":MAILTO:adrian.stoian@abkc.ro
END:VEVENT
BEGIN:VEVENT
DTSTART;VALUE=DATE:20230527
DTEND;VALUE=DATE:20230528
DTSTAMP:20260419T172153
CREATED:20220615T134834Z
LAST-MODIFIED:20230426T194343Z
UID:22166-1685145600-1685231999@abkcdogs.net
SUMMARY:Pensacola Bully Bash 4
DESCRIPTION:Judges – Rolanda Mata\, Cindy McCloskey\, Jonnathan Lugo\, TBA \nAmerican Bully – Standard\, Pocket\, Xl\, Classic\nShortybull\nFrench Bulldog\nEnglish Bulldog\nOlde English Bulldogge\nJr Handlers
URL:https://abkcdogs.net/events/pensacola-bully-bash-5/
LOCATION:Penasacola Fairgounds\, 6655 W Mobile Hwy\, Pensacola\, FL\, 32526\, United States
ORGANIZER;CN="Regina Goins":MAILTO:abkcregina@gmail.com
END:VEVENT
BEGIN:VEVENT
DTSTART;VALUE=DATE:20230520
DTEND;VALUE=DATE:20230521
DTSTAMP:20260419T172153
CREATED:20230117T162138Z
LAST-MODIFIED:20230117T163526Z
UID:23491-1684540800-1684627199@abkcdogs.net
SUMMARY:Carolina Bully Convention 7
DESCRIPTION:Judges: TBA\, TBA\, TBA\, TBA \nAmerican Bully – Standard\, Pocket\, XL\, Classic\nFrench Bulldog\nOlde English Bulldogge\nEnglish Bulldog\nJr Handler
URL:https://abkcdogs.net/events/carolina-bully-convention-7/
LOCATION:Winston Salem Fairgrounds\, Education Building - 2886 Shorefair Drive\, Winston-Salem\, NC\, 27105\, United States
END:VEVENT
BEGIN:VEVENT
DTSTART;VALUE=DATE:20230513
DTEND;VALUE=DATE:20230515
DTSTAMP:20260419T172153
CREATED:20221112T135658Z
LAST-MODIFIED:20221112T135700Z
UID:22908-1683936000-1684108799@abkcdogs.net
SUMMARY:West Coast Bullies Expo VIII
DESCRIPTION:2 Day Event\n8 Shows \nJudges: TBA\, TBA\, TBA\, TBA\, TBA\, TBA\, TBA\, TBA \nAmerican Bully – Standard\, Pocket\, XL\, Classic\nShortybull\nFrench Bulldog\nEnglish Bulldog\nJr Handler
URL:https://abkcdogs.net/events/west-coast-bullies-expo-viii/
LOCATION:Lodi Grape Festival\, 413 E Lockeford St\, Lodi\, CA\, 95241\, United States
ORGANIZER;CN="John Certeza":MAILTO:jcabkcjudge@gmail.com
END:VEVENT
BEGIN:VEVENT
DTSTART;VALUE=DATE:20230506
DTEND;VALUE=DATE:20230508
DTSTAMP:20260419T172153
CREATED:20230315T141050Z
LAST-MODIFIED:20230315T141051Z
UID:23991-1683331200-1683503999@abkcdogs.net
SUMMARY:Never Give Up
DESCRIPTION:Judges: Pablo Liceran & Nico Christino \nAmerican Bully – Standard\, Pocket\, XL\, Classic\nFrench Bulldog\nAPBT\nEnglish Bulldog
URL:https://abkcdogs.net/events/never-give-up/
LOCATION:Valle De Los Chillos\, Armenia\, Quito\, Ecuador
ORGANIZER;CN="Jose Eduardo Tipse Tomala":MAILTO:josetipse@hotmail.com
END:VEVENT
BEGIN:VEVENT
DTSTART;VALUE=DATE:20230506
DTEND;VALUE=DATE:20230508
DTSTAMP:20260419T172153
CREATED:20221214T151837Z
LAST-MODIFIED:20230315T132127Z
UID:22999-1683331200-1683503999@abkcdogs.net
SUMMARY:The Bully Showdown
DESCRIPTION:Judge: TBA \nAmerican Bully – Standard\, Pocket\, XL\, Classic\nAm Staff\nFrench Bulldog\nEnglish Bulldog\nAmerican Bulldog\nJr Handler
URL:https://abkcdogs.net/events/the-bully-showdown/
LOCATION:Auckland Dog Exhibition Center\, Auckland\, 0626\, New Zealand
ORGANIZER;CN="Dylan Rodgers":MAILTO:elitedogs777@hotmail.com
END:VEVENT
BEGIN:VEVENT
DTSTART;VALUE=DATE:20230506
DTEND;VALUE=DATE:20230507
DTSTAMP:20260419T172153
CREATED:20221208T161200Z
LAST-MODIFIED:20221208T161215Z
UID:22950-1683331200-1683417599@abkcdogs.net
SUMMARY:Bohemia Show ABKC
DESCRIPTION:Judges: TBA\, TBA \nAmerican Bully – Standard\, Pocket\, XL\, Classic
URL:https://abkcdogs.net/events/bohemia-show-abkc/
LOCATION:CZech\, Mnichovo Hradiste\, Czech Republic
ORGANIZER;CN="K Lystavisti":MAILTO:abkccz@gmail.com
END:VEVENT
BEGIN:VEVENT
DTSTART;VALUE=DATE:20230429
DTEND;VALUE=DATE:20230501
DTSTAMP:20260419T172153
CREATED:20230412T001516Z
LAST-MODIFIED:20230412T001519Z
UID:24078-1682726400-1682899199@abkcdogs.net
SUMMARY:ABKC Holland Kingsday Edition
DESCRIPTION:Two Day Event \nJudges: William Ogren\, Aaron Lee\, John Certeza\, Bryan Romero \nAmerican Bully – Standard\, Pocket\, XL\, Classic
URL:https://abkcdogs.net/events/abkc-holland-kingsday-edition/
LOCATION:Wijngaardesteeg 1A\, Sporthal Steinheim\, Doorn\, Netherlands
ORGANIZER;CN="Edwin Handigman":MAILTO:pvt1983@hotmail.com
END:VEVENT
BEGIN:VEVENT
DTSTART;VALUE=DATE:20230429
DTEND;VALUE=DATE:20230501
DTSTAMP:20260419T172153
CREATED:20230315T134856Z
LAST-MODIFIED:20230315T134856Z
UID:23981-1682726400-1682899199@abkcdogs.net
SUMMARY:Regionales 2023
DESCRIPTION:2 Day Event\n6 Shows \nJudges: Quiti Rodriguez\, Juan Cortes\, Rolando Mata\, Tavoris Ingram\, Jamie Villagomez\, Ragim Magh \nAmerican Bully – Standard\, Pocket\, XL\, Classic\nAPBT\nFrench Bulldog\nEnglish Bulldog\nJr Handler\nTibetin Mastiff\nDachshund
URL:https://abkcdogs.net/events/regionales-2023/
LOCATION:CLL 9C #68-52\, Colegio Nacional Nicolas Esquerra\, Bogota\, 110831\, Colombia
END:VEVENT
BEGIN:VEVENT
DTSTART;VALUE=DATE:20230422
DTEND;VALUE=DATE:20230423
DTSTAMP:20260419T172153
CREATED:20230119T162316Z
LAST-MODIFIED:20230119T162324Z
UID:23634-1682121600-1682207999@abkcdogs.net
SUMMARY:ABKC Russia
DESCRIPTION:Judges: TBA\,TBA \nAmerican Bully – Standard\, Pocket\, XL< Classic
URL:https://abkcdogs.net/events/abkc-russia-4/
LOCATION:Expo Forum\, St. Petersburg\, Russian Federation
ORGANIZER;CN="Ekaterina Chirkova":MAILTO:bbkennel@yandex.ru
END:VEVENT
BEGIN:VEVENT
DTSTART;VALUE=DATE:20230422
DTEND;VALUE=DATE:20230423
DTSTAMP:20260419T172153
CREATED:20230104T154024Z
LAST-MODIFIED:20230104T175509Z
UID:23032-1682121600-1682207999@abkcdogs.net
SUMMARY:Rise of the Southwest 2
DESCRIPTION:Judges: John Roneker\, Rolando Mata\, Prie Roldan\, Brian Peterson \nAmerican Bully – Standard\, Pocket\, XL\, Classic\nShortybull\nFrench Bulldog\nEnglish Bulldog
URL:https://abkcdogs.net/events/rise-of-the-southwest-2/
LOCATION:Expo New Mexico (State Fair)\, Lujan Building\, 300 San Pedro Dr NE\, Albuquerque\, NM\, 87108\, United States
ORGANIZER;CN="Paul Tafoya":MAILTO:nmdogshows@gmail.com
END:VEVENT
BEGIN:VEVENT
DTSTART;VALUE=DATE:20230422
DTEND;VALUE=DATE:20230423
DTSTAMP:20260419T172153
CREATED:20220712T163702Z
LAST-MODIFIED:20230328T122011Z
UID:22225-1682121600-1682207999@abkcdogs.net
SUMMARY:ABKC Double Show of Slovakia
DESCRIPTION:Judges: Adrian Stoian\, Alex Ferraro \nAmerican Bully – Standard\, Classic\, Pocket\, XL\nFrench Bulldog\nOlde English Bulldogge\nEnglish Bulldog
URL:https://abkcdogs.net/events/abkc-double-show-of-slovakia-2/
LOCATION:Ranch 13\, Antionstmiska dolina\, Nemsova\, Slovakia (Slovak Republic)
ORGANIZER;CN="Zuzana Kalinayova":MAILTO:abkcslovakia@gmail.com
END:VEVENT
BEGIN:VEVENT
DTSTART;VALUE=DATE:20230416
DTEND;VALUE=DATE:20230417
DTSTAMP:20260419T172153
CREATED:20230215T164425Z
LAST-MODIFIED:20230215T164433Z
UID:23925-1681603200-1681689599@abkcdogs.net
SUMMARY:Bullys in Paradise
DESCRIPTION:Judge: Alex Ferraro \nAmerican Bully – Standard\, Pocket\, XL\, Classic\nAPBT\nFrench Bulldog\nOlde English Bulldogge\nAmerican Bulldog\nJr Handler
URL:https://abkcdogs.net/events/bullys-in-paradise/
LOCATION:Kensington Mall\, 494G+67P\, Fontabelle Rd\, Bridgetown\, Barbados
ORGANIZER;CN="Simon Cho Fook Lin":MAILTO:mr.cho.fook.lin@hotmail.com
END:VEVENT
BEGIN:VEVENT
DTSTART;VALUE=DATE:20230415
DTEND;VALUE=DATE:20230417
DTSTAMP:20260419T172153
CREATED:20220427T144457Z
LAST-MODIFIED:20220427T144459Z
UID:21703-1681516800-1681689599@abkcdogs.net
SUMMARY:Atlanta Bully Marathon
DESCRIPTION:2 Day Event \nJudges: TBA\, TBA\, TBA\, TBA\, TBA\, TBA \nAmerican Bully – Standard. Pocket\, XL\, Classic\nAPBT\nShortybull\nFrench Bulldog\nOlde English Bulldogge\nJr Handler
URL:https://abkcdogs.net/events/atlanta-bully-marathon/
LOCATION:Jason T Harper Arena\, 95 Lake Dow Road\, McDonough\, GA\, 30253\, United States
ORGANIZER;CN="Rolando Mata":MAILTO:abkcseasonopener@gmail.com
END:VEVENT
BEGIN:VEVENT
DTSTART;VALUE=DATE:20230415
DTEND;VALUE=DATE:20230416
DTSTAMP:20260419T172153
CREATED:20221212T153052Z
LAST-MODIFIED:20221212T153115Z
UID:22985-1681516800-1681603199@abkcdogs.net
SUMMARY:Western Canadian Bully Showcase Spring Edition
DESCRIPTION:Judges: Brooke Romero\, Bryan Romero\, James Feltus\, Cindy McCloskey \nAmerican Bully – Standard\, Pocket\, XL\, Classic\nAm Staff\nFrench Bulldog
URL:https://abkcdogs.net/events/western-canadian-bully-showcase-spring-edition/
LOCATION:Jack Setters Arena\, 2086 69 Ave SE\, Calgary\, Alberta\, T2C 3Y4\, Canada
ORGANIZER;CN="Justin Pupetz":MAILTO:jpupetz@gmail.com
END:VEVENT
BEGIN:VEVENT
DTSTART;VALUE=DATE:20230409
DTEND;VALUE=DATE:20230410
DTSTAMP:20260419T172153
CREATED:20230315T133132Z
LAST-MODIFIED:20230315T133135Z
UID:23977-1680998400-1681084799@abkcdogs.net
SUMMARY:Show ABKC Argentina 54 & 55; In Memory of Dolores Aubone
DESCRIPTION:Judges: Pablo Liceran & Daniel Pineyro \nAmerican Bully – Standard\, Pocket\, XL\, Classic\nShortybull\nFrench Bulldog\nAPBT\nEnglish Bulldog\nAmerican Bulldog
URL:https://abkcdogs.net/events/show-abkc-argentina-54-in-memory-of-dolores-aubone/
LOCATION:Chacras Del Ruca Yagua\, Florencio Varela\, P.B.A.\, 1878\, Argentina
ORGANIZER;CN="Mauricio Campas":MAILTO:rucayagua@gmail.com
END:VEVENT
BEGIN:VEVENT
DTSTART;VALUE=DATE:20230408
DTEND;VALUE=DATE:20230410
DTSTAMP:20260419T172153
CREATED:20221212T141739Z
LAST-MODIFIED:20230109T185937Z
UID:22974-1680912000-1681084799@abkcdogs.net
SUMMARY:L'Italia s E Destabully Fest
DESCRIPTION:2 Day Event \nJudges: William Ogren\, Roberto Guzman\, Nico Van Deijzen \nAmerican Bully – Standard\, Pocket\, XL\, Classic
URL:https://abkcdogs.net/events/litalia-s-e-destabully-fest/
LOCATION:Via Vecchia Per Olcenengo 9\, Vercelli\, 13030\, Italy
ORGANIZER;CN="Davide Pasteris":MAILTO:davidepasteris@outlook.com
END:VEVENT
BEGIN:VEVENT
DTSTART;VALUE=DATE:20230408
DTEND;VALUE=DATE:20230409
DTSTAMP:20260419T172153
CREATED:20220824T145612Z
LAST-MODIFIED:20230131T165651Z
UID:22649-1680912000-1680998399@abkcdogs.net
SUMMARY:Supa6 Bullies ABKC Bound for Glory 2
DESCRIPTION:Judges: TBA\, TBA\, TBA\, TBA \nAmerican Bullies – Standard\, Pocket\, XL\, Classic\nShortybull\nFrench Bulldog\nOlde English Bulldogge\nJr Handler
URL:https://abkcdogs.net/events/supa6-bullies-abkc-bound-for-glory-2/
LOCATION:In the Net\, 798 Airport Rd\, Palmyra\, PA\, 17078\, United States
ORGANIZER;CN="Mychael Brunson":MAILTO:supa6bullies@gmail.com
END:VEVENT
BEGIN:VEVENT
DTSTART;VALUE=DATE:20230401
DTEND;VALUE=DATE:20230403
DTSTAMP:20260419T172153
CREATED:20221208T162307Z
LAST-MODIFIED:20230315T131749Z
UID:22961-1680307200-1680479999@abkcdogs.net
SUMMARY:Spring Bully Fest 4
DESCRIPTION:2 Day Event\n4 Shows Saturday\n4 Shows Sunday \nJudges: Mauricio Campas\, Barbara Marin\, Cindy McCloskey\, Jonathan Lugo \nAmerican Bully – Standard\, Pocket\, XL\, Classic\nShortybull\nFrench Bulldog\nEnglish Bulldog
URL:https://abkcdogs.net/events/spring-bully-fest-4/
LOCATION:Rohr Park\, 4548 Sweetwater Rd (#18 Ballfield Infield)\, Bonita\, CA\, 91902\, United States
ORGANIZER;CN="Vanessa Cuevas":MAILTO:vanessac1976@gmail.com
END:VEVENT
BEGIN:VEVENT
DTSTART;VALUE=DATE:20230401
DTEND;VALUE=DATE:20230402
DTSTAMP:20260419T172153
CREATED:20220302T153853Z
LAST-MODIFIED:20220427T133716Z
UID:21034-1680307200-1680393599@abkcdogs.net
SUMMARY:ABKC Jacksonville Bully Showdown 3
DESCRIPTION:Judges: TBA\, TBA\, TBA\, TBA \nAmerican Bully – Standard\, Pocket\, XL\, Classic\nShortybull\nFrench Bulldog\nEnglish Bulldog\nOlde English Bulldogge\nSave-A-Bully\nJr Handler
URL:https://abkcdogs.net/events/abkc-jacksonville-bully-festival/
LOCATION:Prime Osborn Convention Center\, 1000 Water Street\, Jacksonville\, FL\, 32204\, United States
ORGANIZER;CN="Prie & Julian Roldan":MAILTO:prielifefit@gmail.com
END:VEVENT
BEGIN:VEVENT
DTSTART;VALUE=DATE:20230325
DTEND;VALUE=DATE:20230327
DTSTAMP:20260419T172153
CREATED:20220712T162257Z
LAST-MODIFIED:20220712T162305Z
UID:22212-1679702400-1679875199@abkcdogs.net
SUMMARY:Dracula Bully Marathon
DESCRIPTION:2 Day Event \nJudges: TBA\, TBA\, TBA\, TBA \nAmerican Bully- Standard\, Pocket\, Xl\, Classic
URL:https://abkcdogs.net/events/dracula-bully-marathon-3/
LOCATION:Calea Timisorii\, Calea Timisorii\, Sanandrei\, Timis\, Romania
ORGANIZER;CN="Adrian Stoian":MAILTO:adrian.stoian@abkc.ro
END:VEVENT
BEGIN:VEVENT
DTSTART;VALUE=DATE:20230325
DTEND;VALUE=DATE:20230326
DTSTAMP:20260419T172153
CREATED:20220615T131317Z
LAST-MODIFIED:20220712T161744Z
UID:22160-1679702400-1679788799@abkcdogs.net
SUMMARY:ABKC Mile High Bully Bash
DESCRIPTION:Judges – Chris Moore\, Regina Goins\, Nico Christino\, TBA \nAmerican Bully – Standard\, Pocket\, XL\, Classic\nShortybull\nFrench Bulldog\nEnglish Bulldog\nTibetan Mastif\nBoston Terrier\nJr Handler
URL:https://abkcdogs.net/events/abkc-mile-high-bully-bash/
LOCATION:Pueblo Convention Center\, 320 Central Main Street\, Pueblo\, CO\, 81003\, United States
ORGANIZER;CN="Lisa Pedraza":MAILTO:lisapedraza2012@yahoo.com
END:VEVENT
BEGIN:VEVENT
DTSTART;VALUE=DATE:20230318
DTEND;VALUE=DATE:20230319
DTSTAMP:20260419T172153
CREATED:20230215T163930Z
LAST-MODIFIED:20230215T163934Z
UID:23922-1679097600-1679183999@abkcdogs.net
SUMMARY:Purina Farms Bully Convention
DESCRIPTION:Judges: TBA\, TBA\, TBA\, TBA \nAmerican Bully – Standard\, Pocket\, XL\, Classic\nAPBT\nShortybull\nFrench Bulldog\nOlde Englishh Bulldogge\nEnglish Bulldog\nAmerican Bulldog\nJr Handler
URL:https://abkcdogs.net/events/purina-farms-bully-convention/
LOCATION:Purina Farms\, 300 Checkerboard Loop\, Grey Summit\, MO\, 63039\, United States
ORGANIZER;CN="Robb Corn":MAILTO:robb30513@yahoo.com
END:VEVENT
BEGIN:VEVENT
DTSTART;VALUE=DATE:20230311
DTEND;VALUE=DATE:20230312
DTSTAMP:20260419T172153
CREATED:20221112T143609Z
LAST-MODIFIED:20221112T143626Z
UID:22919-1678492800-1678579199@abkcdogs.net
SUMMARY:Shamrock Bully Show
DESCRIPTION:Judges: TBA\, TBA\, TBA\, TBA \nAmerican Bully – Standard\, Pocket\, Classic\, XL\nShortybull\nFrench Bulldog\nEnglish Bulldog\nOlde English Bulldogge\nJr Handler
URL:https://abkcdogs.net/events/shamrock-bully-show/
LOCATION:Shawnee Expo Center\, 1700 W. Independence\, Shawnee\, OK\, 74802\, United States
END:VEVENT
END:VCALENDAR