BEGIN:VCALENDAR
VERSION:2.0
PRODID:-//THE AMERICAN BULLY KENNEL CLUB - ECPv6.15.18//NONSGML v1.0//EN
CALSCALE:GREGORIAN
METHOD:PUBLISH
X-WR-CALNAME:THE AMERICAN BULLY KENNEL CLUB
X-ORIGINAL-URL:https://abkcdogs.net
X-WR-CALDESC:Events for THE AMERICAN BULLY KENNEL CLUB
REFRESH-INTERVAL;VALUE=DURATION:PT1H
X-Robots-Tag:noindex
X-PUBLISHED-TTL:PT1H
BEGIN:VTIMEZONE
TZID:America/New_York
BEGIN:DAYLIGHT
TZOFFSETFROM:-0500
TZOFFSETTO:-0400
TZNAME:EDT
DTSTART:20220313T070000
END:DAYLIGHT
BEGIN:STANDARD
TZOFFSETFROM:-0400
TZOFFSETTO:-0500
TZNAME:EST
DTSTART:20221106T060000
END:STANDARD
BEGIN:DAYLIGHT
TZOFFSETFROM:-0500
TZOFFSETTO:-0400
TZNAME:EDT
DTSTART:20230312T070000
END:DAYLIGHT
BEGIN:STANDARD
TZOFFSETFROM:-0400
TZOFFSETTO:-0500
TZNAME:EST
DTSTART:20231105T060000
END:STANDARD
BEGIN:DAYLIGHT
TZOFFSETFROM:-0500
TZOFFSETTO:-0400
TZNAME:EDT
DTSTART:20240310T070000
END:DAYLIGHT
BEGIN:STANDARD
TZOFFSETFROM:-0400
TZOFFSETTO:-0500
TZNAME:EST
DTSTART:20241103T060000
END:STANDARD
BEGIN:DAYLIGHT
TZOFFSETFROM:-0500
TZOFFSETTO:-0400
TZNAME:EDT
DTSTART:20250309T070000
END:DAYLIGHT
BEGIN:STANDARD
TZOFFSETFROM:-0400
TZOFFSETTO:-0500
TZNAME:EST
DTSTART:20251102T060000
END:STANDARD
END:VTIMEZONE
BEGIN:VEVENT
DTSTART;VALUE=DATE:20240303
DTEND;VALUE=DATE:20240304
DTSTAMP:20260420T031516
CREATED:20230705T163152Z
LAST-MODIFIED:20230705T163152Z
UID:24761-1709424000-1709510399@abkcdogs.net
SUMMARY:Valahia Trophy
DESCRIPTION:Judges: TBA\, TBA \nAmerican Bully – Standard\, Pocket\, XL\, Classic
URL:https://abkcdogs.net/events/valahia-trophy/
LOCATION:Romania\, Oradea\, Romania
ORGANIZER;CN="Anca Paun":MAILTO:abkcromania@yahoo.com
END:VEVENT
BEGIN:VEVENT
DTSTART;VALUE=DATE:20240302
DTEND;VALUE=DATE:20240303
DTSTAMP:20260420T031516
CREATED:20231210T195843Z
LAST-MODIFIED:20231210T195844Z
UID:25753-1709337600-1709423999@abkcdogs.net
SUMMARY:Oklahoma Shamrock Bully Fest 3
DESCRIPTION:Judges: TBA\, TBA\, TBA\, TBA \nAmerican Bully – Standard\, Pocket\, XL\, Classic\nFrench Bulldog\nEnglish Bulldog\nShortybull\nOlde English Bulldogge\nJr Handler
URL:https://abkcdogs.net/events/oklahoma-shamrock-bully-fest-3/
LOCATION:Shawnee Expo Center\, 1700 W. Independence\, Shawnee\, OK\, 74802\, United States
END:VEVENT
BEGIN:VEVENT
DTSTART;VALUE=DATE:20240302
DTEND;VALUE=DATE:20240303
DTSTAMP:20260420T031516
CREATED:20230705T163016Z
LAST-MODIFIED:20230705T163017Z
UID:24756-1709337600-1709423999@abkcdogs.net
SUMMARY:Black Sea Trophy
DESCRIPTION:Judges: TBA\, TBA \nAmerican Bully- Standard\, Pocket\, XL\, Classic
URL:https://abkcdogs.net/events/black-sea-trophy/
LOCATION:Romania\, Oradea\, Romania
ORGANIZER;CN="Anca Paun":MAILTO:abkcromania@yahoo.com
END:VEVENT
BEGIN:VEVENT
DTSTART;VALUE=DATE:20240224
DTEND;VALUE=DATE:20240226
DTSTAMP:20260420T031516
CREATED:20240103T014320Z
LAST-MODIFIED:20240103T014322Z
UID:25787-1708732800-1708905599@abkcdogs.net
SUMMARY:La Batalla De Las Americas II\, 1er Parada Tour Centro Americano
DESCRIPTION:2 day Event \nJudges: Rolando Mata\, Daniel Pineiro\, Alex Ferraro\, Tavoris Ingram \nAmerican Bully – Standard\, Classic\, Pocket\, XL\nAPBT\nAM Staff\nFrench Bulldog\nEnglish Bulldog\nDaschund (Teckel)\nDoberman
URL:https://abkcdogs.net/events/la-batalla-de-las-americas-ii-1er-parada-tour-centro-americano/
LOCATION:Centro de Convenciones de Atlapa\, Panama\, Panama
ORGANIZER;CN="Leonel Oswaldo Rodas Mendizabal":MAILTO:leonmendizabal@yahoo.com
END:VEVENT
BEGIN:VEVENT
DTSTART;VALUE=DATE:20240224
DTEND;VALUE=DATE:20240225
DTSTAMP:20260420T031516
CREATED:20240105T155521Z
LAST-MODIFIED:20240105T155524Z
UID:25804-1708732800-1708819199@abkcdogs.net
SUMMARY:Duel in the Desert IV
DESCRIPTION:Judges: TBA\, TBA\, TBA\, TBA \nAmerican Bully – Standard\, Pocket\, Classic\, XL\nFrench Bulldog\nEnglish Bulldog\nOlde English Bulldogge\nShortybull
URL:https://abkcdogs.net/events/duel-in-the-desert-iv/
LOCATION:Roosevelt Elementary\, 828 S Valencia\, Mesa\, AZ\, 85202\, United States
END:VEVENT
BEGIN:VEVENT
DTSTART;VALUE=DATE:20240217
DTEND;VALUE=DATE:20240218
DTSTAMP:20260420T031516
CREATED:20240124T181523Z
LAST-MODIFIED:20240124T181528Z
UID:25822-1708128000-1708214399@abkcdogs.net
SUMMARY:Belgrade Winner - ABKC Serbia
DESCRIPTION:Judges: TBA\, TBA \nAmerican Bully – Standard\, Pocket\, XL\, Classic
URL:https://abkcdogs.net/events/belgrade-winner-abkc-serbia/
LOCATION:Belgrade\, Belgrade\, Serbia
ORGANIZER;CN="Aleksander Golubovie":MAILTO:abkc.serbia@yahoo.com
END:VEVENT
BEGIN:VEVENT
DTSTART;VALUE=DATE:20240210
DTEND;VALUE=DATE:20240211
DTSTAMP:20260420T031516
CREATED:20231210T204915Z
LAST-MODIFIED:20231210T204916Z
UID:25781-1707523200-1707609599@abkcdogs.net
SUMMARY:ABKC Russia
DESCRIPTION:Judges: TBA\, TBA \nAmerican Bully – Standard\, Pocket\, XL \,Classic
URL:https://abkcdogs.net/events/abkc-russia-5/
LOCATION:Krokus/Armada\, Moscow\, Russian Federation
END:VEVENT
BEGIN:VEVENT
DTSTART;VALUE=DATE:20240203
DTEND;VALUE=DATE:20240204
DTSTAMP:20260420T031516
CREATED:20240124T192608Z
LAST-MODIFIED:20240124T192608Z
UID:25839-1706918400-1707004799@abkcdogs.net
SUMMARY:Bullies of Gentlemen Bully Show
DESCRIPTION:Judges: Roberto Giannuli & Joakin Acedo \nAmerican Bully – Standard\, Pocket\, XL\, Classic\nFrench Bulldog\nOlde English Bulldogge\nEnglish Bulldog
URL:https://abkcdogs.net/events/bullies-of-gentlemen-bully-show/
LOCATION:Aquamarine Recreational Center\, 18 4\, Lipa\, Batangas\, Philippines
ORGANIZER;CN="Grandy Lantin":MAILTO:dsorganizers2022@gmail.com
END:VEVENT
BEGIN:VEVENT
DTSTART;VALUE=DATE:20240127
DTEND;VALUE=DATE:20240128
DTSTAMP:20260420T031516
CREATED:20231019T142525Z
LAST-MODIFIED:20231210T191635Z
UID:25425-1706313600-1706399999@abkcdogs.net
SUMMARY:Peace Love Bully Fest 11
DESCRIPTION:Judges: TBA\, TBA\, TBA\, TBA \nAmerican Bully – Standard\, Pocket\, XL\, Classic\nShortybull\nFrench Bulldog\nOlde English Bulldogge\nJr Handler
URL:https://abkcdogs.net/events/peace-love-bully-fest-11-2/
LOCATION:Allentown Fairgrounds\, Ag Hall - 302 N 17th Street\, Allentown\, PA\, 18102\, United States
END:VEVENT
BEGIN:VEVENT
DTSTART;VALUE=DATE:20240120
DTEND;VALUE=DATE:20240121
DTSTAMP:20260420T031516
CREATED:20240103T024733Z
LAST-MODIFIED:20240103T024735Z
UID:25798-1705708800-1705795199@abkcdogs.net
SUMMARY:ABKC EuroNationals/San Anton Trophy 2024
DESCRIPTION:Judges: Rolando Mata\, Quiti Rodriguez \nAmerican Bully – Standard\, Pocket\, Classic\, XL\nAM Staff\nFrench Bulldog
URL:https://abkcdogs.net/events/abkc-euronationals-san-anton-trophy-2024/
LOCATION:IFEZA\, Crta. La Aldehuela 25\, Zamora\, 49022\, Spain
ORGANIZER;CN="Elena Clemente Jimenez":MAILTO:elena.abkc@gmail.com
END:VEVENT
BEGIN:VEVENT
DTSTART;VALUE=DATE:20240113
DTEND;VALUE=DATE:20240114
DTSTAMP:20260420T031516
CREATED:20231210T192210Z
LAST-MODIFIED:20231210T192211Z
UID:25744-1705104000-1705190399@abkcdogs.net
SUMMARY:Uncaged American Bully Show
DESCRIPTION:Judges: Damir Markov & Giosue Mazzarella \nAmerican Bully – Standard\, Pocket\, XL\, Classic
URL:https://abkcdogs.net/events/uncaged-american-bully-show/
LOCATION:Villa Feliciana\, Indang Cavite\, Philippines
ORGANIZER;CN="Rigoberto Capistrano":MAILTO:regcapistrano28@gmail.com
END:VEVENT
BEGIN:VEVENT
DTSTART;VALUE=DATE:20240113
DTEND;VALUE=DATE:20240114
DTSTAMP:20260420T031516
CREATED:20231210T191506Z
LAST-MODIFIED:20231210T191507Z
UID:25737-1705104000-1705190399@abkcdogs.net
SUMMARY:ABKC Season Opener 2024
DESCRIPTION:Judges: Errol Bodden\, Jonathan Lugo\, Quiti Rodriguez\, Juan Cortez \nAmerican Bully – Standard\, Pocket\, XL\, Classic\nAPBT\nAm Staff\nShortybull\nFrench Bulldog\nOlde English Bulldogge\nEnglish Bulldog\nJR Handler
URL:https://abkcdogs.net/events/abkc-season-opener-2024/
LOCATION:Columbus Trade & Convention Center\, 801 Front Ave\, Columbus\, GA\, 31901\, United States
ORGANIZER;CN="Rolando Mata":MAILTO:abkcseasonopener@gmail.com
END:VEVENT
BEGIN:VEVENT
DTSTART;VALUE=DATE:20231209
DTEND;VALUE=DATE:20231210
DTSTAMP:20260420T031516
CREATED:20231019T130259Z
LAST-MODIFIED:20231019T130302Z
UID:25386-1702080000-1702166399@abkcdogs.net
SUMMARY:ABKC Show St. Petersburg
DESCRIPTION:Judges: Gabriel Paun & Giosue Mazzarella \nAmerican Bully – Standard\, Pocket\, XL\, Classic\nAPBT\nAm Staff\nFrench Bulldog\nOlde English Bulldogge\nBull Terrier
URL:https://abkcdogs.net/events/abkc-show-st-petersburg/
LOCATION:St Petersburg\, 196140 Petersburg Hwy\, Saint Petersburg\, LO\, 190040\, Russian Federation
ORGANIZER;CN="Ekaterina Chirkova":MAILTO:bbkennel@yandex.ru
END:VEVENT
BEGIN:VEVENT
DTSTART;VALUE=DATE:20231202
DTEND;VALUE=DATE:20231203
DTSTAMP:20260420T031516
CREATED:20221208T161910Z
LAST-MODIFIED:20230606T184120Z
UID:22958-1701475200-1701561599@abkcdogs.net
SUMMARY:ABKC Nationals 2023
DESCRIPTION:Judges TBA
URL:https://abkcdogs.net/events/abkc-nationals-2023/
LOCATION:George R Brown Convention Center\, 1001 Avenida de las Americas\, Houston\, TX\, 77010\, United States
ORGANIZER;CN="Regina Goins":MAILTO:abkcregina@gmail.com
END:VEVENT
BEGIN:VEVENT
DTSTART;VALUE=DATE:20231125
DTEND;VALUE=DATE:20231127
DTSTAMP:20260420T031516
CREATED:20220712T162628Z
LAST-MODIFIED:20220712T162628Z
UID:22220-1700870400-1701043199@abkcdogs.net
SUMMARY:Dracula Bully Marathon
DESCRIPTION:2 Day Event \nJudges: TBA\, TBA\, TBA\, TBA \nAmerican Bully – Standard\, Pocket\, XL\, Classic
URL:https://abkcdogs.net/events/dracula-bully-marathon-6/
LOCATION:Calea Timisorii\, Calea Timisorii\, Sanandrei\, Timis\, Romania
ORGANIZER;CN="Adrian Stoian":MAILTO:adrian.stoian@abkc.ro
END:VEVENT
BEGIN:VEVENT
DTSTART;VALUE=DATE:20231119
DTEND;VALUE=DATE:20231120
DTSTAMP:20260420T031516
CREATED:20230807T190426Z
LAST-MODIFIED:20230807T190550Z
UID:24985-1700352000-1700438399@abkcdogs.net
SUMMARY:Mundo Maya Guatemala
DESCRIPTION:Judges; TBA\, TBA\, TBA \nAmerican Bully – Standard\, Pocket\, XL\, Classic\nAPBT\nFrench Bulldog\nEnglish Bulldog\nDogo Guatemalteco\nDaschund\nJr Handler
URL:https://abkcdogs.net/events/mundo-maya-guatemala/
LOCATION:Parque De La Industria\, 8AV.2-33 Zona 9\, Guatemela\, Guatemala
END:VEVENT
BEGIN:VEVENT
DTSTART;VALUE=DATE:20231118
DTEND;VALUE=DATE:20231119
DTSTAMP:20260420T031516
CREATED:20230801T144251Z
LAST-MODIFIED:20230801T152910Z
UID:24962-1700265600-1700351999@abkcdogs.net
SUMMARY:Novosibirsk Russia Show
DESCRIPTION:Judges: TBA\, TBA \nAmerican Bully – Standard\, Pocket\, XL\, Standard\, Classic
URL:https://abkcdogs.net/events/novosibirsk-russia-show/
LOCATION:Gigant\, Novosibirsk\, Russian Federation
ORGANIZER;CN="Alena Peshneva":MAILTO:zoolux.eu@yandex.ru
END:VEVENT
BEGIN:VEVENT
DTSTART;VALUE=DATE:20231118
DTEND;VALUE=DATE:20231119
DTSTAMP:20260420T031516
CREATED:20230616T163909Z
LAST-MODIFIED:20230801T142529Z
UID:24543-1700265600-1700351999@abkcdogs.net
SUMMARY:ABKC Battle of the Bulls Sydney
DESCRIPTION:Judges: TBA\, TBA \nAmerican Bully – Standard\, Pocket\, XL\, Classic\nAm Staff\nStaffordshire Bull Terrier\nAussie Bulldog\nAmerican Bulldog\nFrench Bulldog\nJr Handler
URL:https://abkcdogs.net/events/abkc-battle-of-the-bulls-sydney/
LOCATION:Fairfield Showground\, NSW\, Australia
END:VEVENT
BEGIN:VEVENT
DTSTART;VALUE=DATE:20231111
DTEND;VALUE=DATE:20231113
DTSTAMP:20260420T031516
CREATED:20230801T143141Z
LAST-MODIFIED:20230801T143334Z
UID:24955-1699660800-1699833599@abkcdogs.net
SUMMARY:Santander III
DESCRIPTION:2 day Show \nJudges: Jonnathan Lugo\, Manuel Sanchez\, Alex Perez\, Juan Cortes \nAmerican Bully – Standard\, Pocket\, XL\, Classic\nAPBT\nAM Staff\nFrench Bulldog\nEnglish Bulldog\nDoberman\nDaschund
URL:https://abkcdogs.net/events/santander-iii/
LOCATION:Club Nautico Acuarela\, Los Santos\, Santander\, Colombia
ORGANIZER;CN="Johanna Melo Perez":MAILTO:meloperezjohanna@gmail.com
END:VEVENT
BEGIN:VEVENT
DTSTART;VALUE=DATE:20231111
DTEND;VALUE=DATE:20231112
DTSTAMP:20260420T031516
CREATED:20230724T142446Z
LAST-MODIFIED:20230724T142446Z
UID:24893-1699660800-1699747199@abkcdogs.net
SUMMARY:Oklahoma Bully Breed Expo 4
DESCRIPTION:Judges: TBA\, TBA\, TBA\, TBA \nAmerican Bully – Standard\, Pocket\, XL\, Classic\nFrench Bulldog\nShortybull\nEnglish Bulldog\nOlde English Bulldogge\nJr Handler
URL:https://abkcdogs.net/events/oklahoma-bully-breed-expo-4/
LOCATION:Shawnee Expo Center\, 1700 W. Independence\, Shawnee\, OK\, 74802\, United States
END:VEVENT
BEGIN:VEVENT
DTSTART;VALUE=DATE:20231105
DTEND;VALUE=DATE:20231106
DTSTAMP:20260420T031516
CREATED:20230830T132446Z
LAST-MODIFIED:20230830T133609Z
UID:25082-1699142400-1699228799@abkcdogs.net
SUMMARY:El Regreso Del Inca
DESCRIPTION:Judges: Pablo Liceran\, Edwin Vargas\, Jonnathan Lugo\, Aldo Paredes \nAmerican Bully – Standard\, Pocket\, XL\, Classic\nAPBT\nFrench Bulldog\nEnglish Bulldog
URL:https://abkcdogs.net/events/el-regreso-del-inca/
LOCATION:El Regreso Del Inca\, Club de Playa Certse Fap Km 26.5 Panamericana Sur\, Lurin-Lima\, Peru
ORGANIZER;CN="Pedro Jose Fernandez Martinez":MAILTO:pedrito.pf2@gmail.com
END:VEVENT
BEGIN:VEVENT
DTSTART;VALUE=DATE:20231104
DTEND;VALUE=DATE:20231106
DTSTAMP:20260420T031516
CREATED:20230605T144906Z
LAST-MODIFIED:20230606T181555Z
UID:24417-1699056000-1699228799@abkcdogs.net
SUMMARY:ABKC West Coast Bullies Road to Nationals II
DESCRIPTION:2 day Event\n8 Shows \nJudges: TBA \nAmerican Bully – Standard\, XL\, Pocket\, Classic\nShortybull\nFrench Bulldog\nOlde English Bulldogge\nJr Handler
URL:https://abkcdogs.net/events/abkc-west-coast-bullies-howl-o-ween-spooktacular/
LOCATION:Lodi Grape Festival\, 413 E Lockeford St\, Lodi\, CA\, 95241\, United States
ORGANIZER;CN="John Certeza":MAILTO:jcabkcjudge@gmail.com
END:VEVENT
BEGIN:VEVENT
DTSTART;VALUE=DATE:20231104
DTEND;VALUE=DATE:20231105
DTSTAMP:20260420T031516
CREATED:20230724T142213Z
LAST-MODIFIED:20230814T173535Z
UID:24888-1699056000-1699142399@abkcdogs.net
SUMMARY:ABKC Canada-GTA Bully Takeover
DESCRIPTION:Judges: Alex Ferraro & Luis Altamirano \nAmerican Bully – Standard\, Pocket\, XL\, Classic\nShortybull\nFrench Bulldog\nAmerican Bulldog
URL:https://abkcdogs.net/events/abkc-canada-gta-bully-takeover/
LOCATION:Tribute Communities Centre\, 99 Athol St E\, Oshawa\, Ontario\, L1H 1J8\, Canada
ORGANIZER;CN="Chanelle Motschenbacher":MAILTO:abkc.gta@gmail.com
END:VEVENT
BEGIN:VEVENT
DTSTART;VALUE=DATE:20231104
DTEND;VALUE=DATE:20231105
DTSTAMP:20260420T031516
CREATED:20230202T155629Z
LAST-MODIFIED:20230817T153217Z
UID:23775-1699056000-1699142399@abkcdogs.net
SUMMARY:The Beast of the East
DESCRIPTION:Judges: Lou Manipon & TBA \nAmerican Bully – Standard\, Pocket\, XL\, Classic\nAPBT\nAm Staff\nShortybull\nFrench Bulldog\nOlde English Bulldogge\nEnglish Bulldog\nAmerican Bulldog\nJr Handler \nWould also like to invite More Mastiff Breeds registered by the ABKC
URL:https://abkcdogs.net/events/the-beast-of-the-east/
LOCATION:Chesterfield County Fairgrounds\, 10300 Courthouse Rd\, Chesterfield\, VA\, 23832\, United States
ORGANIZER;CN="Gina Moore":MAILTO:gina.maza@gmail.com
END:VEVENT
BEGIN:VEVENT
DTSTART;VALUE=DATE:20231028
DTEND;VALUE=DATE:20231030
DTSTAMP:20260420T031516
CREATED:20230605T145416Z
LAST-MODIFIED:20230606T181817Z
UID:24420-1698451200-1698623999@abkcdogs.net
SUMMARY:ABKC The Antwerp Edition
DESCRIPTION:Judges: John Roneker\, TBA \nAmerican Bully – Standard\, Pocket\, XL\, Classic
URL:https://abkcdogs.net/events/abkc-the-antwerp-edition/
LOCATION:Armenstraatje 1/4\, Antwerpen\, 2040\, Belgium
ORGANIZER;CN="Mara De Boer":MAILTO:m.vandongeren@yahoo.nl
END:VEVENT
BEGIN:VEVENT
DTSTART;VALUE=DATE:20231028
DTEND;VALUE=DATE:20231029
DTSTAMP:20260420T031516
CREATED:20230315T140329Z
LAST-MODIFIED:20230315T140329Z
UID:23988-1698451200-1698537599@abkcdogs.net
SUMMARY:Howl-O-Ween Bully Showdown II
DESCRIPTION:Judges: TBA \nAmerican Bully – Standard\, Pocket\, XL\, Classic\nShortybull\nFrench Bulldog\nEnglish Bulldog
URL:https://abkcdogs.net/events/howl-o-ween-bully-showdown-ii/
LOCATION:Rohr Park\, 4548 Sweetwater Rd (#18 Ballfield Infield)\, Bonita\, CA\, 91902\, United States
ORGANIZER;CN="Vanessa Cuevas":MAILTO:vanessac1976@gmail.com
END:VEVENT
BEGIN:VEVENT
DTSTART;VALUE=DATE:20231028
DTEND;VALUE=DATE:20231029
DTSTAMP:20260420T031516
CREATED:20221219T185515Z
LAST-MODIFIED:20221220T125942Z
UID:23012-1698451200-1698537599@abkcdogs.net
SUMMARY:Bully Show in the KSK Pegas
DESCRIPTION:Judges: TBA\, TBA\, TBA \nAmerican Bully – Standard\, Pocket\, XL\, Classic
URL:https://abkcdogs.net/events/bully-show-in-the-ksk-pegas/
LOCATION:KSK Pegas\, Moscow\, Russian Federation
END:VEVENT
BEGIN:VEVENT
DTSTART;VALUE=DATE:20231028
DTEND;VALUE=DATE:20231029
DTSTAMP:20260420T031516
CREATED:20221213T170937Z
LAST-MODIFIED:20221213T170941Z
UID:22988-1698451200-1698537599@abkcdogs.net
SUMMARY:Bullys in the Boro VI
DESCRIPTION:Judges: TBA\, TBA\, TBA\, TBA \nAmerican Bully – Standard\, Pocket\, XL\, Classic\nAm Staff\nShortybull\nFrench Bulldog\nOlde English Bulldogge
URL:https://abkcdogs.net/events/bullys-in-the-boro-vi/
LOCATION:Bulloch County Agriculture Complex\, 44 Arena Blvd\, Statesboro\, GA\, 30458\, United States
ORGANIZER;CN="Leigh Ann Durrence":MAILTO:lateach_2000@yahoo.com
END:VEVENT
BEGIN:VEVENT
DTSTART;VALUE=DATE:20231021
DTEND;VALUE=DATE:20231022
DTSTAMP:20260420T031516
CREATED:20230724T141436Z
LAST-MODIFIED:20230724T141437Z
UID:24880-1697846400-1697932799@abkcdogs.net
SUMMARY:ABKC Fall on the Farm
DESCRIPTION:Judges: TBA\, TBA\, TBA\, TBA \nAmerican Bully – Standard\, Pocket\, XL\, Classic\nShortybull\nFrench Bulldog\nOlde English Bulldogge\nEnglish Bulldog
URL:https://abkcdogs.net/events/abkc-fall-on-the-farm/
LOCATION:Purina Farms\, 300 Checkerboard Loop\, Grey Summit\, MO\, 63039\, United States
ORGANIZER;CN="Lou Manipon":MAILTO:lou.manipon@gmail.com
END:VEVENT
BEGIN:VEVENT
DTSTART;VALUE=DATE:20231021
DTEND;VALUE=DATE:20231022
DTSTAMP:20260420T031516
CREATED:20230117T165115Z
LAST-MODIFIED:20230117T165119Z
UID:23504-1697846400-1697932799@abkcdogs.net
SUMMARY:Allentown Bully Convention 10
DESCRIPTION:Judges: TBA\, TBA\, TBA\, TBA \nAmerican Bully – Standard\, Pocket\, XL\, Classic\nAPBT\nFrench Bulldog\nOlde English Bulldog\nEnglish Bulldog\nJr Handler
URL:https://abkcdogs.net/events/allentown-bully-convention-10/
LOCATION:Allentown Fairgrounds\, Ag Hall - 302 N 17th Street\, Allentown\, PA\, 18102\, United States
END:VEVENT
END:VCALENDAR