BEGIN:VCALENDAR
VERSION:2.0
PRODID:-//THE AMERICAN BULLY KENNEL CLUB - ECPv6.15.18//NONSGML v1.0//EN
CALSCALE:GREGORIAN
METHOD:PUBLISH
X-WR-CALNAME:THE AMERICAN BULLY KENNEL CLUB
X-ORIGINAL-URL:https://abkcdogs.net
X-WR-CALDESC:Events for THE AMERICAN BULLY KENNEL CLUB
REFRESH-INTERVAL;VALUE=DURATION:PT1H
X-Robots-Tag:noindex
X-PUBLISHED-TTL:PT1H
BEGIN:VTIMEZONE
TZID:America/New_York
BEGIN:DAYLIGHT
TZOFFSETFROM:-0500
TZOFFSETTO:-0400
TZNAME:EDT
DTSTART:20220313T070000
END:DAYLIGHT
BEGIN:STANDARD
TZOFFSETFROM:-0400
TZOFFSETTO:-0500
TZNAME:EST
DTSTART:20221106T060000
END:STANDARD
BEGIN:DAYLIGHT
TZOFFSETFROM:-0500
TZOFFSETTO:-0400
TZNAME:EDT
DTSTART:20230312T070000
END:DAYLIGHT
BEGIN:STANDARD
TZOFFSETFROM:-0400
TZOFFSETTO:-0500
TZNAME:EST
DTSTART:20231105T060000
END:STANDARD
BEGIN:DAYLIGHT
TZOFFSETFROM:-0500
TZOFFSETTO:-0400
TZNAME:EDT
DTSTART:20240310T070000
END:DAYLIGHT
BEGIN:STANDARD
TZOFFSETFROM:-0400
TZOFFSETTO:-0500
TZNAME:EST
DTSTART:20241103T060000
END:STANDARD
END:VTIMEZONE
BEGIN:VEVENT
DTSTART;VALUE=DATE:20231028
DTEND;VALUE=DATE:20231029
DTSTAMP:20260420T013328
CREATED:20221219T185515Z
LAST-MODIFIED:20221220T125942Z
UID:23012-1698451200-1698537599@abkcdogs.net
SUMMARY:Bully Show in the KSK Pegas
DESCRIPTION:Judges: TBA\, TBA\, TBA \nAmerican Bully – Standard\, Pocket\, XL\, Classic
URL:https://abkcdogs.net/events/bully-show-in-the-ksk-pegas/
LOCATION:KSK Pegas\, Moscow\, Russian Federation
END:VEVENT
BEGIN:VEVENT
DTSTART;VALUE=DATE:20231028
DTEND;VALUE=DATE:20231029
DTSTAMP:20260420T013328
CREATED:20221213T170937Z
LAST-MODIFIED:20221213T170941Z
UID:22988-1698451200-1698537599@abkcdogs.net
SUMMARY:Bullys in the Boro VI
DESCRIPTION:Judges: TBA\, TBA\, TBA\, TBA \nAmerican Bully – Standard\, Pocket\, XL\, Classic\nAm Staff\nShortybull\nFrench Bulldog\nOlde English Bulldogge
URL:https://abkcdogs.net/events/bullys-in-the-boro-vi/
LOCATION:Bulloch County Agriculture Complex\, 44 Arena Blvd\, Statesboro\, GA\, 30458\, United States
ORGANIZER;CN="Leigh Ann Durrence":MAILTO:lateach_2000@yahoo.com
END:VEVENT
BEGIN:VEVENT
DTSTART;VALUE=DATE:20231021
DTEND;VALUE=DATE:20231022
DTSTAMP:20260420T013328
CREATED:20230724T141436Z
LAST-MODIFIED:20230724T141437Z
UID:24880-1697846400-1697932799@abkcdogs.net
SUMMARY:ABKC Fall on the Farm
DESCRIPTION:Judges: TBA\, TBA\, TBA\, TBA \nAmerican Bully – Standard\, Pocket\, XL\, Classic\nShortybull\nFrench Bulldog\nOlde English Bulldogge\nEnglish Bulldog
URL:https://abkcdogs.net/events/abkc-fall-on-the-farm/
LOCATION:Purina Farms\, 300 Checkerboard Loop\, Grey Summit\, MO\, 63039\, United States
ORGANIZER;CN="Lou Manipon":MAILTO:lou.manipon@gmail.com
END:VEVENT
BEGIN:VEVENT
DTSTART;VALUE=DATE:20231021
DTEND;VALUE=DATE:20231022
DTSTAMP:20260420T013328
CREATED:20230117T165115Z
LAST-MODIFIED:20230117T165119Z
UID:23504-1697846400-1697932799@abkcdogs.net
SUMMARY:Allentown Bully Convention 10
DESCRIPTION:Judges: TBA\, TBA\, TBA\, TBA \nAmerican Bully – Standard\, Pocket\, XL\, Classic\nAPBT\nFrench Bulldog\nOlde English Bulldog\nEnglish Bulldog\nJr Handler
URL:https://abkcdogs.net/events/allentown-bully-convention-10/
LOCATION:Allentown Fairgrounds\, Ag Hall - 302 N 17th Street\, Allentown\, PA\, 18102\, United States
END:VEVENT
BEGIN:VEVENT
DTSTART;VALUE=DATE:20231014
DTEND;VALUE=DATE:20231015
DTSTAMP:20260420T013328
CREATED:20231019T143838Z
LAST-MODIFIED:20231019T143840Z
UID:25434-1697241600-1697327999@abkcdogs.net
SUMMARY:Keen Bully Show Round 2
DESCRIPTION:Judges: Pablo Liceran\, Hilda Morel\, Daniel Pineiro\, Juan Cortez \nAmerican Bully – Standard\, Pocket\, XL\, Classic\nFrench Bulldog\nEnglish Bulldog\nShortybull
URL:https://abkcdogs.net/events/keen-bully-show-round-2/
LOCATION:Argentina\, Argentina
END:VEVENT
BEGIN:VEVENT
DTSTART;VALUE=DATE:20231014
DTEND;VALUE=DATE:20231015
DTSTAMP:20260420T013328
CREATED:20221112T140814Z
LAST-MODIFIED:20230605T142829Z
UID:22915-1697241600-1697327999@abkcdogs.net
SUMMARY:ABKC Double Show of Slovakia
DESCRIPTION:Judges: Gabriel Paun & Prie Roldan \nAmerican Bully – Standard\, Pocket\, Classic\, XL\nShortybull\nFrench Bulldog\nOlde English Bulldogge\nEnglish Bulldog\nJr Handler
URL:https://abkcdogs.net/events/abkc-double-show-of-slovakia-3/
LOCATION:Ranch 13\, Antionstmiska dolina\, Nemsova\, Slovakia (Slovak Republic)
ORGANIZER;CN="Vladimir Alman":MAILTO:abkcslovakia@gmail.com
END:VEVENT
BEGIN:VEVENT
DTSTART;VALUE=DATE:20231007
DTEND;VALUE=DATE:20231009
DTSTAMP:20260420T013328
CREATED:20230119T161718Z
LAST-MODIFIED:20230119T161724Z
UID:23630-1696636800-1696809599@abkcdogs.net
SUMMARY:ABKC Hampton Roads Fall Classic 2023
DESCRIPTION:2 Day Event\n6 Shows \nJudges: TBA \nAmerican Bully – Standard\, Pocket\, XL\, Classic\nAPBT\nShortybull\nFrench Bulldog\nOlde English Bulldogge\nJr Handler
URL:https://abkcdogs.net/events/abkc-hampton-roads-fall-classic-2023/
LOCATION:Franklin-South Hampton Fairgrounds\, 25374 New Market Road\, Courtland\, VA\, 23837\, United States
ORGANIZER;CN="Rolando Mata":MAILTO:abkcseasonopener@gmail.com
END:VEVENT
BEGIN:VEVENT
DTSTART;VALUE=DATE:20231007
DTEND;VALUE=DATE:20231008
DTSTAMP:20260420T013328
CREATED:20230830T131550Z
LAST-MODIFIED:20230830T131551Z
UID:25074-1696636800-1696723199@abkcdogs.net
SUMMARY:Octobully Fest 2023
DESCRIPTION:Judges: Angel De Zayas\, Raffaele Colace \nAmerican Bully – Standard\, Pocket\, XL\, Classic\nFrench Bulldog
URL:https://abkcdogs.net/events/octobully-fest-2023/
LOCATION:Avinguda Paisos Catalans S/N\, Palau De Anglesola\, Lleida\, 25243\, Spain
ATTACH;FMTTYPE=image/jpeg:https://abkcdogs.net/wp-content/uploads/2023/08/10.7.2023-Spain.jpg
ORGANIZER;CN="William Ogren":MAILTO:williamogren@hotmail.com
END:VEVENT
BEGIN:VEVENT
DTSTART;VALUE=DATE:20231007
DTEND;VALUE=DATE:20231008
DTSTAMP:20260420T013328
CREATED:20221112T133505Z
LAST-MODIFIED:20230915T141756Z
UID:22887-1696636800-1696723199@abkcdogs.net
SUMMARY:Houston Bullnanza 2
DESCRIPTION:Judges: TBA\, TBA\, TBA\, TBA \nAmerican Bully – Standard\, Pocket\, XL Classic\nShortybull\nOlde English Bulldogge\nEnglish Bulldog\nJr Handler
URL:https://abkcdogs.net/events/houston-bullnanza-2/
LOCATION:Pasadena Convention Center\, 7902 Fairmont Parkway\, Pasadena\, TX\, 77507\, United States
ORGANIZER;CN="Christina Maxwell":MAILTO:christinamaxwellabkc@gmail.com
END:VEVENT
BEGIN:VEVENT
DTSTART;VALUE=DATE:20231001
DTEND;VALUE=DATE:20231002
DTSTAMP:20260420T013328
CREATED:20230616T163434Z
LAST-MODIFIED:20230616T163435Z
UID:24539-1696118400-1696204799@abkcdogs.net
SUMMARY:Australia ABKC Bully Show
DESCRIPTION:Judge: TBA \nAmerican Bully – Standard\, Pocket\, XL\, Classic\nAm Staff\nStaffordshire Bull Terrier\nAmerican Bulldog\nAussie Bulldog\nFrench Bulldog\nJr Handler
URL:https://abkcdogs.net/events/australia-abkc-bully-show/
LOCATION:West Gate Showground\, Victoria\, Australia
END:VEVENT
BEGIN:VEVENT
DTSTART;VALUE=DATE:20230930
DTEND;VALUE=DATE:20231002
DTSTAMP:20260420T013328
CREATED:20230830T130257Z
LAST-MODIFIED:20230915T142012Z
UID:25070-1696032000-1696204799@abkcdogs.net
SUMMARY:Primavera Bull Fest
DESCRIPTION:2 day Event\n4 Shows \nJudges: Juan Cortes\, Edwin Vargas\, Quiti Rodriguez\, Alexander Acevedo \nAmerican Bully – Standard\, Pocket\, XL\, Classic\nAPBT\nFrench Bulldog\nEnglish Bulldog
URL:https://abkcdogs.net/events/primavera-bull-fest/
LOCATION:Carretera Huanchaco SN\, Trujillo\, Peru
ORGANIZER;CN="Ethan Cuevas":MAILTO:abkccolombia1@gmail.com
END:VEVENT
BEGIN:VEVENT
DTSTART;VALUE=DATE:20230930
DTEND;VALUE=DATE:20231002
DTSTAMP:20260420T013328
CREATED:20220712T162538Z
LAST-MODIFIED:20230830T124915Z
UID:22218-1696032000-1696204799@abkcdogs.net
SUMMARY:Dracula Bully Marathon
DESCRIPTION:2 Day Event\n6 Shows \nJudges: Brian Peterson\, James Aba\, John Certeza\, Nico Van Deijzen\, Roberto Giannuli\, TBA \nAmerican Bully – Standard\, Pocket\, XL\, Classic
URL:https://abkcdogs.net/events/dracula-bully-marathon-5/
LOCATION:Calea Timisorii\, Calea Timisorii\, Sanandrei\, Timis\, Romania
ORGANIZER;CN="Adrian Stoian":MAILTO:adrian.stoian@abkc.ro
END:VEVENT
BEGIN:VEVENT
DTSTART;VALUE=DATE:20230923
DTEND;VALUE=DATE:20230924
DTSTAMP:20260420T013328
CREATED:20230606T182226Z
LAST-MODIFIED:20230606T182230Z
UID:24447-1695427200-1695513599@abkcdogs.net
SUMMARY:Florida Bully Bounce Back
DESCRIPTION:Judges: TBA\, TBA\, TBA\, TBA \nAmerican Bully – Standard\, Pocket\, XL\, Classic\nAPBT\nAm Staff\nShortybull\nFrench Bulldog\nOlde English Bulldogge\nEnglish Bulldog\nJr Handler
URL:https://abkcdogs.net/events/florida-bully-bounce-back/
LOCATION:Silver Spurs Arena\, 1875 Silver Spur Lane\, Kississimmee\, FL\, 51453\, United States
ORGANIZER;CN="Robb Corn":MAILTO:robb30513@yahoo.com
END:VEVENT
BEGIN:VEVENT
DTSTART;VALUE=DATE:20230916
DTEND;VALUE=DATE:20230917
DTSTAMP:20260420T013328
CREATED:20230724T141126Z
LAST-MODIFIED:20230724T141131Z
UID:24877-1694822400-1694908799@abkcdogs.net
SUMMARY:Supa6 Bullies ABKC Genesys 2 Revenge of the Fallen
DESCRIPTION:Judges: TBA\, TBA\, TBA\, TBA \nAmerican Bully – Standard\, Pocket\, XL\, Classic\nShortybull\nFrench Bulldog\nOlde English Bulldogge\nEnglish Bulldog\nJr Handler
URL:https://abkcdogs.net/events/supa6-bullies-abkc-genesys-2-revenge-of-the-fallen/
LOCATION:In the Net\, 798 Airport Rd\, Palmyra\, PA\, 17078\, United States
ORGANIZER;CN="Mychael Brunson":MAILTO:supa6bullies@gmail.com
END:VEVENT
BEGIN:VEVENT
DTSTART;VALUE=DATE:20230916
DTEND;VALUE=DATE:20230917
DTSTAMP:20260420T013328
CREATED:20230130T153245Z
LAST-MODIFIED:20230130T153252Z
UID:23760-1694822400-1694908799@abkcdogs.net
SUMMARY:Bully Show in Russia
DESCRIPTION:Judges: Mariya Pylina & TBA \nAmerican Bully – Standard\, Pocket\, XL\, Classic
URL:https://abkcdogs.net/events/bully-show-in-russia-7/
LOCATION:VRN Expo\, Voronezh\, Russian Federation
END:VEVENT
BEGIN:VEVENT
DTSTART;VALUE=DATE:20230909
DTEND;VALUE=DATE:20230910
DTSTAMP:20260420T013328
CREATED:20230125T180544Z
LAST-MODIFIED:20230125T180550Z
UID:23704-1694217600-1694303999@abkcdogs.net
SUMMARY:East Texas Bully Roundup
DESCRIPTION:Judges: TBA\, TBA\, TBA\, TBA \nAmerican Bully – Standard\, Pocket\, XL\, Classic\nShortybull\nFrench Bulldog\nOlde English Bulldogge\nJr Handler
URL:https://abkcdogs.net/events/east-texas-bully-roundup/
LOCATION:Maude Cobb Convention Center\, 100 Grand Blvd\, Longview\, TX\, 75604\, United States
ORGANIZER;CN="Stephanie Hicks":MAILTO:stephnwitherspoon@gmail.com
END:VEVENT
BEGIN:VEVENT
DTSTART;VALUE=DATE:20230909
DTEND;VALUE=DATE:20230910
DTSTAMP:20260420T013328
CREATED:20221208T161455Z
LAST-MODIFIED:20230807T185157Z
UID:22955-1694217600-1694303999@abkcdogs.net
SUMMARY:Bohemia Show ABKC
DESCRIPTION:Judges: Maria Pulina & Nico Van Deijzen \nAmerican Bully – Standard\, Pocket\, XL\, Classic
URL:https://abkcdogs.net/events/bohemia-show-abkc-2/
LOCATION:CZech\, Mnichovo Hradiste\, Czech Republic
ORGANIZER;CN="K Lystavisti":MAILTO:abkccz@gmail.com
END:VEVENT
BEGIN:VEVENT
DTSTART;VALUE=DATE:20230903
DTEND;VALUE=DATE:20230904
DTSTAMP:20260420T013328
CREATED:20230724T141803Z
LAST-MODIFIED:20230724T141804Z
UID:24884-1693699200-1693785599@abkcdogs.net
SUMMARY:Central America Bully Bash 2
DESCRIPTION:Judges: TBA\, TBA\, TBA \nAmerican Bully – Standard\, Pocket\, XL\, Classic\nAPBT\nFrench Bulldog\nEnglish Bulldog\nBull Terrier
URL:https://abkcdogs.net/events/central-america-bully-bash-2/
LOCATION:Colonia Kennedy\, Instituto Tecnico Honduras\, Tegucigalpa\, Honduras
ORGANIZER;CN="Edgar Ayala":MAILTO:inklifework@gmail.com
END:VEVENT
BEGIN:VEVENT
DTSTART;VALUE=DATE:20230902
DTEND;VALUE=DATE:20230903
DTSTAMP:20260420T013328
CREATED:20230427T131118Z
LAST-MODIFIED:20230427T131119Z
UID:24178-1693612800-1693699199@abkcdogs.net
SUMMARY:Rocky Mountain Bully Battle Royal 2
DESCRIPTION:Judges: TBA\, TBA\, TBA\, TBA \nAmerican Bully – Standard\, Pocket\, XL\, Classic\nShortybull\nFrench Bulldog\nEnglish Bulldog\nTibetan Mastiff\nBoston Terrier
URL:https://abkcdogs.net/events/rocky-mountain-bully-battle-royal-2/
LOCATION:El Paso County Fairgrounds\, 366 10th Street\, Calhan\, CO\, 80808\, United States
ORGANIZER;CN="Lisa Pedraza":MAILTO:lisapedraza2012@yahoo.com
END:VEVENT
BEGIN:VEVENT
DTSTART;VALUE=DATE:20230902
DTEND;VALUE=DATE:20230903
DTSTAMP:20260420T013328
CREATED:20230328T134029Z
LAST-MODIFIED:20230328T135402Z
UID:24052-1693612800-1693699199@abkcdogs.net
SUMMARY:ABKC Sweden Battle of the Vikings
DESCRIPTION:Judges: Adrian Stoian & Aaron Lee \nAmerican Bully – Standard\, Classic\, XL\, Pocket
URL:https://abkcdogs.net/events/abkc-sweden-battle-of-the-vikings/
LOCATION:Taljehallen\, Rektorsvagen 2\, Sodertalje\, Sweden
ORGANIZER;CN="Ahmed Abdulrahman":MAILTO:bullytalksweden@gmail.com
END:VEVENT
BEGIN:VEVENT
DTSTART;VALUE=DATE:20230902
DTEND;VALUE=DATE:20230903
DTSTAMP:20260420T013328
CREATED:20230215T172355Z
LAST-MODIFIED:20230628T020253Z
UID:23942-1693612800-1693699199@abkcdogs.net
SUMMARY:Royal Bully Bash III
DESCRIPTION:Judges: Rolando Mata\, TBA\, TBA\, TBA \nAmerican Bully – Standard\, Pocket\, XL\, Classic\nAPBT\nAM Staff\nShortybull\nFrench Bulldog\nOlde English Bulldogge\nEnglish Bulldog\nAmerican Bulldog\nJr Handler
URL:https://abkcdogs.net/events/royal-bully-bash-iii/
LOCATION:Kentucky Exposition Center\, 937 Phillips Lane\, Louisville\, KY\, 40209\, United States
ORGANIZER;CN="Jesse Jones":MAILTO:jjsmovingsolutionsteam@gmail.com
END:VEVENT
BEGIN:VEVENT
DTSTART;VALUE=DATE:20230827
DTEND;VALUE=DATE:20230828
DTSTAMP:20260420T013328
CREATED:20230616T162737Z
LAST-MODIFIED:20230628T020553Z
UID:24535-1693094400-1693180799@abkcdogs.net
SUMMARY:Battle of the Bullies W.A.
DESCRIPTION:Judge: TBA \nAmerican Bully – Standard\, Pocket\, XL\, Classic\nFrench Bulldog\nStaffordshire Bull Terrier\nAm Staff\nAussie Bulldog\nAmerican Bulldog\nJr Handler
URL:https://abkcdogs.net/events/abkc-australia-bully-bash-victoria/
LOCATION:Claremont Showgrounds\, Victoria\, Australia
END:VEVENT
BEGIN:VEVENT
DTSTART;VALUE=DATE:20230826
DTEND;VALUE=DATE:20230827
DTSTAMP:20260420T013328
CREATED:20221207T190045Z
LAST-MODIFIED:20221207T190134Z
UID:22934-1693008000-1693094399@abkcdogs.net
SUMMARY:Labor Day Bully Showcase 3
DESCRIPTION:Judges: TBA\, TBA\, TBA\, TBA \nAmerican Bully – Standard\, Pocket\, XL\, Classic\nShortybull\nFrench Bulldog\nOlde English Bulldogge
URL:https://abkcdogs.net/events/labor-day-bully-showcase-3/
LOCATION:Columbus Trade & Convention Center\, 801 Front Ave\, Columbus\, GA\, 31901\, United States
ORGANIZER;CN="Pearlina Bodden":MAILTO:pearlinabodden@gmail.com
END:VEVENT
BEGIN:VEVENT
DTSTART;VALUE=DATE:20230820
DTEND;VALUE=DATE:20230821
DTSTAMP:20260420T013328
CREATED:20230616T160617Z
LAST-MODIFIED:20230616T160624Z
UID:24524-1692489600-1692575999@abkcdogs.net
SUMMARY:Queensland Bully Bonanza
DESCRIPTION:Judge: John Certeza \nAmerican Bully – Standard\, Pocket\, XL\, Classic\nAm Staff\nFrench Bulldog\nEnglish Bulldog\nBull Terrier\nStaffordshire Bull Terrier\nAustralian Bulldog\nJr Handler
URL:https://abkcdogs.net/events/queensland-bully-bonanza/
LOCATION:Country Paradise Parklands\, 231 Beaudesert Nerang Rd\, Queensland\, 4211\, Australia
ORGANIZER;CN="Jasmine Corkery":MAILTO:felixstowelodge@gmail.com
END:VEVENT
BEGIN:VEVENT
DTSTART;VALUE=DATE:20230812
DTEND;VALUE=DATE:20230813
DTSTAMP:20260420T013328
CREATED:20230705T162205Z
LAST-MODIFIED:20230705T162206Z
UID:24750-1691798400-1691884799@abkcdogs.net
SUMMARY:ABKC Defend the Turf North Texas Edition
DESCRIPTION:Judges: TBA\,TBA\,TBA\,TBA \nAmerican Bully – Standard\, Pocket\, XL\, Classic\nShortybull\nFrench Bulldog\nEnglish Bulldog\nJr Handler
URL:https://abkcdogs.net/events/abkc-defend-the-turf-north-texas-edition/
LOCATION:Amarillo Civic Center\, 401 S Buchanan St\, Amarillo\, TX\, 79101\, United States
ORGANIZER;CN="Robb Corn":MAILTO:robb30513@yahoo.com
END:VEVENT
BEGIN:VEVENT
DTSTART;VALUE=DATE:20230729
DTEND;VALUE=DATE:20230730
DTSTAMP:20260420T013328
CREATED:20230617T154637Z
LAST-MODIFIED:20230628T014323Z
UID:23501-1690588800-1690675199@abkcdogs.net
SUMMARY:Carolina Bully Extravaganza 7
DESCRIPTION:Judges: TBA\, TBA\, TBA\, TBA \nAmerican Bully – Standard\, Pocket\, XL\, Classic\nAPBT\nFrench Bulldog\nOlde English Bulldogge\nEnglish Bulldog\nJr Handler
URL:https://abkcdogs.net/events/carolina-bully-extravaganza-7/
LOCATION:Winston Salem Fairgrounds\, Education Building - 2886 Shorefair Drive\, Winston-Salem\, NC\, 27105\, United States
END:VEVENT
BEGIN:VEVENT
DTSTART;VALUE=DATE:20230729
DTEND;VALUE=DATE:20230730
DTSTAMP:20260420T013328
CREATED:20230616T162123Z
LAST-MODIFIED:20230616T162123Z
UID:24532-1690588800-1690675199@abkcdogs.net
SUMMARY:Cajun Bully Showdown
DESCRIPTION:Judges: TBA\, TBA\, TBA\, TBA \nAmerican Bully – Standard\, XL\, Pocket\, Classic\nShortybull\nFrench Bulldog\nOlde English Bulldogge\nEnglish Bulldog
URL:https://abkcdogs.net/events/cajun-bully-showdown/
LOCATION:Louisiana State Fairgrounds\, 3701 Hudson Ave\, Shreveport\, LA\, 71109\, United States
ORGANIZER;CN="Robb Corn":MAILTO:robb30513@yahoo.com
END:VEVENT
BEGIN:VEVENT
DTSTART;VALUE=DATE:20230723
DTEND;VALUE=DATE:20230724
DTSTAMP:20260420T013328
CREATED:20230705T161731Z
LAST-MODIFIED:20230720T181229Z
UID:24745-1690070400-1690156799@abkcdogs.net
SUMMARY:Bully Game Legends
DESCRIPTION:Judges: Quiti Rodriguez\, Val Macedo\, Roberto Guzman \nAmerican Bully – Standard\, Pocket\, XL\, Classic\nAPBT\nFrench Bulldog
URL:https://abkcdogs.net/events/bully-game-legends/
LOCATION:Feria Nacional De Durango\, Durango\, Mexico
ORGANIZER;CN="Jaime Carrola":MAILTO:mexicalibullyz@gmail.com
END:VEVENT
BEGIN:VEVENT
DTSTART;VALUE=DATE:20230722
DTEND;VALUE=DATE:20230723
DTSTAMP:20260420T013328
CREATED:20230105T170513Z
LAST-MODIFIED:20230720T181935Z
UID:23062-1689984000-1690070399@abkcdogs.net
SUMMARY:Bully Show in Russia
DESCRIPTION:Judges: Pablo Liceran\, Jonnathon Lugo\, Ekaterina Efimenko \nAmerican Bully – Standard\, Pocket\, XL\, Classic
URL:https://abkcdogs.net/events/bully-show-in-russia-5/
LOCATION:Tekct\, Moscow\, Russian Federation
END:VEVENT
BEGIN:VEVENT
DTSTART;VALUE=DATE:20230716
DTEND;VALUE=DATE:20230717
DTSTAMP:20260420T013328
CREATED:20230105T125417Z
LAST-MODIFIED:20230105T125425Z
UID:23055-1689465600-1689551999@abkcdogs.net
SUMMARY:Bully Bonanza
DESCRIPTION:Judges: TBA\, TBA \nAmerican Bully – Standard\, Pocket\, XL\, Classic\nAm Staff\nFrench Bulldog\nEnglish Bulldog\nBull Terrier\nStaffordshire Bull Terrier\nBoston Terrier\nJr Handler
URL:https://abkcdogs.net/events/bully-bonanza/
LOCATION:PIA Centre\, Ward Street\, Peukekohe/Auckland\, 2120\, New Zealand
ORGANIZER;CN="Jasmine Corkery":MAILTO:felixstowelodge@gmail.com
END:VEVENT
END:VCALENDAR