BEGIN:VCALENDAR
VERSION:2.0
PRODID:-//THE AMERICAN BULLY KENNEL CLUB - ECPv6.15.18//NONSGML v1.0//EN
CALSCALE:GREGORIAN
METHOD:PUBLISH
X-WR-CALNAME:THE AMERICAN BULLY KENNEL CLUB
X-ORIGINAL-URL:https://abkcdogs.net
X-WR-CALDESC:Events for THE AMERICAN BULLY KENNEL CLUB
REFRESH-INTERVAL;VALUE=DURATION:PT1H
X-Robots-Tag:noindex
X-PUBLISHED-TTL:PT1H
BEGIN:VTIMEZONE
TZID:America/New_York
BEGIN:DAYLIGHT
TZOFFSETFROM:-0500
TZOFFSETTO:-0400
TZNAME:EDT
DTSTART:20210314T070000
END:DAYLIGHT
BEGIN:STANDARD
TZOFFSETFROM:-0400
TZOFFSETTO:-0500
TZNAME:EST
DTSTART:20211107T060000
END:STANDARD
BEGIN:DAYLIGHT
TZOFFSETFROM:-0500
TZOFFSETTO:-0400
TZNAME:EDT
DTSTART:20220313T070000
END:DAYLIGHT
BEGIN:STANDARD
TZOFFSETFROM:-0400
TZOFFSETTO:-0500
TZNAME:EST
DTSTART:20221106T060000
END:STANDARD
BEGIN:DAYLIGHT
TZOFFSETFROM:-0500
TZOFFSETTO:-0400
TZNAME:EDT
DTSTART:20230312T070000
END:DAYLIGHT
BEGIN:STANDARD
TZOFFSETFROM:-0400
TZOFFSETTO:-0500
TZNAME:EST
DTSTART:20231105T060000
END:STANDARD
BEGIN:DAYLIGHT
TZOFFSETFROM:-0500
TZOFFSETTO:-0400
TZNAME:EDT
DTSTART:20240310T070000
END:DAYLIGHT
BEGIN:STANDARD
TZOFFSETFROM:-0400
TZOFFSETTO:-0500
TZNAME:EST
DTSTART:20241103T060000
END:STANDARD
END:VTIMEZONE
BEGIN:VTIMEZONE
TZID:UTC
BEGIN:STANDARD
TZOFFSETFROM:+0000
TZOFFSETTO:+0000
TZNAME:UTC
DTSTART:20220101T000000
END:STANDARD
END:VTIMEZONE
BEGIN:VEVENT
DTSTART;VALUE=DATE:20230225
DTEND;VALUE=DATE:20230226
DTSTAMP:20260420T150227
CREATED:20220927T125046Z
LAST-MODIFIED:20220927T125052Z
UID:22751-1677283200-1677369599@abkcdogs.net
SUMMARY:Dual in the Desert III
DESCRIPTION:Judges: TBA\, TBA\, TBA\, TBA \nAmerican Bully –  Standard\, Pocket\, XL\, Classic\nFrench Bulldog\nShortybull\nEnglish Bulldog\nOlde English Bulldogge
URL:https://abkcdogs.net/events/dual-in-the-desert-iii/
LOCATION:Royal Arabians\, 1660 N Lindsay Rd\, Mesa\, AZ\, 85213\, United States
END:VEVENT
BEGIN:VEVENT
DTSTART;VALUE=DATE:20230218
DTEND;VALUE=DATE:20230219
DTSTAMP:20260420T150227
CREATED:20220920T124706Z
LAST-MODIFIED:20220920T124710Z
UID:22736-1676678400-1676764799@abkcdogs.net
SUMMARY:Arlington Bully Classic
DESCRIPTION:Judges: TBA\, TBA\, TBA\, TBA \nAmerican Bully – Standard\, Classic\, XL\, Pocket\nAPBT\nShortybull\nFrench Bulldog\nOlde English Bulldogge\nEnglish Bulldog\nBull Terrier\nJr Handler
URL:https://abkcdogs.net/events/arlington-bully-classic/
LOCATION:Arlington Convention Center\, 1200 Ballpark Way\, Arlington\, TX\, 76011\, United States
ORGANIZER;CN="Christina Maxwell":MAILTO:christinamaxwellabkc@gmail.com
END:VEVENT
BEGIN:VEVENT
DTSTART;VALUE=DATE:20230211
DTEND;VALUE=DATE:20230213
DTSTAMP:20260420T150227
CREATED:20221112T135341Z
LAST-MODIFIED:20221207T185730Z
UID:22904-1676073600-1676246399@abkcdogs.net
SUMMARY:Bullytine's Day Show
DESCRIPTION:2 Day Event \nJudges: TBA\, TBA\, TBA\, TBA\, TBA\, TBA\, TBA\, TBA \nAmerican Bully – Standard\, Classic\, XL\, Pocket\nShortybull\nFrench Bulldog\nEnglish Bulldog
URL:https://abkcdogs.net/events/bullytines-day-show/
LOCATION:California\, 250 W Ross Avenue\, El Centro\, CA\, 92243\, United States
ORGANIZER;CN="Vanessa Cuevas":MAILTO:vanessac1976@gmail.com
END:VEVENT
BEGIN:VEVENT
DTSTART;VALUE=DATE:20230205
DTEND;VALUE=DATE:20230206
DTSTAMP:20260420T150227
CREATED:20221212T152625Z
LAST-MODIFIED:20221212T152628Z
UID:22979-1675555200-1675641599@abkcdogs.net
SUMMARY:Bully Show in Russia
DESCRIPTION:Judges: Ekaterina Efimenko & Marina Timofeeva \nAmerican Bully – Standard\, Pocket\, XL\, Classic
URL:https://abkcdogs.net/events/bully-show-in-russia-4/
LOCATION:Novosibirsk\, Novosibirsk\, Russian Federation
END:VEVENT
BEGIN:VEVENT
DTSTART;VALUE=DATE:20230128
DTEND;VALUE=DATE:20230129
DTSTAMP:20260420T150227
CREATED:20220427T134617Z
LAST-MODIFIED:20221212T150331Z
UID:21676-1674864000-1674950399@abkcdogs.net
SUMMARY:Peace Love Bully Fest 11
DESCRIPTION:Judges: TBA\, TBA\, TBA\, TBA \nAmerican Bully – Standard\, XL\, Pocket\, Classic\nAPBT\nShortybull\nFrench Bulldog\nOlde English Bulldogge\nEnglish Bulldog\nSave-A-Bully\nJr Handler
URL:https://abkcdogs.net/events/peace-love-bully-fest-11/
LOCATION:Allentown Fairgrounds\, Ag Hall - 302 N 17th Street\, Allentown\, PA\, 18102\, United States
END:VEVENT
BEGIN:VEVENT
DTSTART;VALUE=DATE:20230121
DTEND;VALUE=DATE:20230122
DTSTAMP:20260420T150227
CREATED:20221208T160322Z
LAST-MODIFIED:20221208T160351Z
UID:22939-1674259200-1674345599@abkcdogs.net
SUMMARY:Euronationals 2023
DESCRIPTION:Judges: Alex Ferraro & Nico Christino \nAmerican Bully – Standard\, Pocket\, XL\, Classic\nFrench Bulldog
URL:https://abkcdogs.net/events/euronationals-2023/
LOCATION:Zamora\, Carr.de la Aldehuela\, 25\, Zamora\, 49022\, Spain
ORGANIZER;CN="William Ogren":MAILTO:williamogren@hotmail.com
END:VEVENT
BEGIN:VEVENT
DTSTART;VALUE=DATE:20230121
DTEND;VALUE=DATE:20230122
DTSTAMP:20260420T150227
CREATED:20220815T191208Z
LAST-MODIFIED:20220815T191212Z
UID:22568-1674259200-1674345599@abkcdogs.net
SUMMARY:Florida Bully Bullnaza
DESCRIPTION:Judges: TBA\, TBA\, TBA\, TBA \nAmerican Bully – Standard\, Pocket\, XL\, Classic\nShortybull\nFrench Bulldog\nEnglish Bulldog\nOlde English Bulldogge\nJr Handler
URL:https://abkcdogs.net/events/florida-bully-bullnaza/
LOCATION:Osceola Heritage Park\, 1875 Silver Spur Ln\, Kissimmee\, FL\, 34744\, United States
ORGANIZER;CN="Christina Maxwell":MAILTO:christinamaxwellabkc@gmail.com
END:VEVENT
BEGIN:VEVENT
DTSTART;VALUE=DATE:20230121
DTEND;VALUE=DATE:20230122
DTSTAMP:20260420T150227
CREATED:20220808T175525Z
LAST-MODIFIED:20220808T175528Z
UID:22447-1674259200-1674345599@abkcdogs.net
SUMMARY:East Texas Bully Classic II
DESCRIPTION:Judges: Nico Christino\, TBA\, TBA\, TBA \nAmerican Bully – Standard\, Pocket\, XL\, Classic\nShortybull\nFrench Bulldog\nOlde English Bulldogge\nJr Handler
URL:https://abkcdogs.net/events/east-texas-bully-classic-ii/
LOCATION:Maude Cobb Convention Center\, 100 Grand Blvd\, Longview\, TX\, 75604\, United States
ORGANIZER;CN="Stephanie Hicks":MAILTO:stephnwitherspoon@gmail.com
END:VEVENT
BEGIN:VEVENT
DTSTART;VALUE=DATE:20230121
DTEND;VALUE=DATE:20230122
DTSTAMP:20260420T150227
CREATED:20220330T134316Z
LAST-MODIFIED:20230117T165305Z
UID:21361-1674259200-1674345599@abkcdogs.net
SUMMARY:Las Vegas Bully Invitationals XI
DESCRIPTION:CANCELLED
URL:https://abkcdogs.net/events/las-vegas-bully-invitationals-xi/
LOCATION:CANCELLED
END:VEVENT
BEGIN:VEVENT
DTSTART;VALUE=DATE:20230114
DTEND;VALUE=DATE:20230116
DTSTAMP:20260420T150227
CREATED:20220330T134018Z
LAST-MODIFIED:20221207T185616Z
UID:21357-1673654400-1673827199@abkcdogs.net
SUMMARY:2023 ABKC Season Opener
DESCRIPTION:2 Day Event\n6 Shows \nJudges: TBA \nAmerican Bully – Standard\, Pocket\, XL\, Classic\nAPBT\nShortybull\nFrench Bulldog\nOlde English Bulldogge\nJr Handler
URL:https://abkcdogs.net/events/2023-abkc-season-opener/
LOCATION:Columbus Trade & Convention Center\, 801 Front Ave\, Columbus\, GA\, 31901\, United States
ORGANIZER;CN="Rolando Mata":MAILTO:abkcseasonopener@gmail.com
END:VEVENT
BEGIN:VEVENT
DTSTART;VALUE=DATE:20230107
DTEND;VALUE=DATE:20230108
DTSTAMP:20260420T150227
CREATED:20220117T221624Z
LAST-MODIFIED:20220808T180437Z
UID:20327-1673049600-1673135999@abkcdogs.net
SUMMARY:Central Cali Bully Showdown 8
DESCRIPTION:Judges: TBA\, TBA\, TBA\, TBA \nAmerican Bully- Standard\, Pocket\, XL\, Classic\nAmerican Bulldog\nShortybull\nFrench Bulldog\nEnglish Bulldog\nJr Handler
URL:https://abkcdogs.net/events/central-cali-bully-showdown-8/
LOCATION:Visalia Marriott at the Convention Center\, 303 E Acequia\, Visalia\, CA\, 93291\, United States
END:VEVENT
BEGIN:VEVENT
DTSTART;VALUE=DATE:20221231
DTEND;VALUE=DATE:20230101
DTSTAMP:20260420T150227
CREATED:20221017T131219Z
LAST-MODIFIED:20221017T131223Z
UID:22764-1672444800-1672531199@abkcdogs.net
SUMMARY:Shreveport New Years Eve Bash
DESCRIPTION:Judges: TBA\, TBA\, TBA\, TBA \nAmerican Bully – Standard\, Pocket\, Xl\, Classic\nShortybull\nFrench Bulldog\nOlde English Bulldogge\nEnglish Bulldog\nJr Handler
URL:https://abkcdogs.net/events/shreveport-new-years-eve-bash/
LOCATION:Louisiana State Fairgrounds\, 3701 Hudson Ave\, Shreveport\, LA\, 71109\, United States
ORGANIZER;CN="Robb Corn":MAILTO:robb30513@yahoo.com
END:VEVENT
BEGIN:VEVENT
DTSTART;VALUE=DATE:20221210
DTEND;VALUE=DATE:20221211
DTSTAMP:20260420T150227
CREATED:20220824T144906Z
LAST-MODIFIED:20220824T144910Z
UID:22641-1670630400-1670716799@abkcdogs.net
SUMMARY:Bully Show in Russia
DESCRIPTION:Judges: Ragim Magh & Mauricio Campas \nAmerican Bully – Standard\, Pocket\, XL\, Classic
URL:https://abkcdogs.net/events/bully-show-in-russia-3/
LOCATION:Moscow\, 32\, km MKAD TD\, China Tawn\, Russian Federation
END:VEVENT
BEGIN:VEVENT
DTSTART;VALUE=DATE:20221203
DTEND;VALUE=DATE:20221204
DTSTAMP:20260420T150227
CREATED:20220712T154836Z
LAST-MODIFIED:20221108T181931Z
UID:22199-1670025600-1670111999@abkcdogs.net
SUMMARY:2022 ABKC Nationals
DESCRIPTION:Judges:\nLou Manipon (Virginia)- American Bullies\nDamir Markov (Serbia)- Multi Breeds & Jr Handler \nAmerican Bully – Standard\, Classic\, Pocket\, XL\nShortybull\nFrench Bulldog\nEnglish Bulldog\nOlde English Bulldogge\nAPBT\nAm Staff\nBull Terrier \nJr Handler \n**TOP DOG AWARDS – American Bully\, Shortybull\, French Bulldog\, English Bulldog\, Olde English Bulldogge\, APBT & AM Staff\n*TOP JR HANDLER  \nNo 3-6 month old classes for breeds\nNo Half Pint or Limited Jr Handler classes\nAll classes at Nationals are pointed classes \nALL DOGS MUST BE ABKC REGISTERED\nYOU MUST HAVE A CRATE AND BOOTH SPACE IF YOU ARE BRINGING A DOG\nNO SELLING PUPPIES AT THIS EVENT \nPre Registration Links\nAll Breeds – https://www.emailmeform.com/builder/emf/PreReg/ABKCNationals\nJr Handler – https://www.emailmeform.com/builder/emf/PreReg/NationalsJrs \nBooth Purchase Link\nhttps://ABKCNationalsBooths.eventbrite.com
URL:https://abkcdogs.net/events/2022-abkc-nationals/
LOCATION:George R Brown Convention Center\, 1001 Avenida de las Americas\, Houston\, TX\, 77010\, United States
ORGANIZER;CN="Regina Goins":MAILTO:abkcregina@gmail.com
END:VEVENT
BEGIN:VEVENT
DTSTART;VALUE=DATE:20221120
DTEND;VALUE=DATE:20221121
DTSTAMP:20260420T150227
CREATED:20221112T133951Z
LAST-MODIFIED:20221112T134001Z
UID:22890-1668902400-1668988799@abkcdogs.net
SUMMARY:Show Argentina 52 y 53 - Final Del 2022
DESCRIPTION:Judges:\nTBA\, TBA \nAmerican Bully – Standard\, Pocket\, XL\, Classic\nShortybull\nFrench Bulldog\nAPBT\nEnglish Bulldog\nAmerican Bulldog
URL:https://abkcdogs.net/events/show-argentina-52-y-53-final-del-2022/
LOCATION:Ch\, Chacras Del Ruca Yagua\, Florencio Varela\, P.B.A.\, 1878\, Argentina
ORGANIZER;CN="Mauricio Campas":MAILTO:rucayagua@gmail.com
END:VEVENT
BEGIN:VEVENT
DTSTART;VALUE=DATE:20221112
DTEND;VALUE=DATE:20221114
DTSTAMP:20260420T150227
CREATED:20220808T180922Z
LAST-MODIFIED:20220808T180928Z
UID:22453-1668211200-1668383999@abkcdogs.net
SUMMARY:1 World War ABKC Show
DESCRIPTION:2 Day Show \nJudges: John Certeza\, Chris Moore\, Aldo Paredes\, Bryan Romero \nAmerican Bully – Standard\, Pocket\, XL\, Classic\nAPBT\nFrench Bulldog\nEnglish Bulldog\nDaschund
URL:https://abkcdogs.net/events/1-world-war-abkc-show/
LOCATION:Circulo de Sub Oficiales de las Fuerzas Militares\, Bogota\, Colombia
END:VEVENT
BEGIN:VEVENT
DTSTART;VALUE=DATE:20221112
DTEND;VALUE=DATE:20221113
DTSTAMP:20260420T150227
CREATED:20221112T133121Z
LAST-MODIFIED:20221112T133127Z
UID:22881-1668211200-1668297599@abkcdogs.net
SUMMARY:United Mindango ABKC Bully Circuit Show: Butuan League
DESCRIPTION:Judges: Alex Perez & Quiti Rodriguez \nAmerican Bully – Standard\, Pocket\, XL\, Classic
URL:https://abkcdogs.net/events/united-mindango-abkc-bully-circuit-show-butuan-league/
LOCATION:Oasis Hotel Convention Center\, Butuan City\, Caraga\, 8600\, Philippines
ORGANIZER;CN="Val Marquez":MAILTO:valgerand.marquez@gmail.com
END:VEVENT
BEGIN:VEVENT
DTSTART;VALUE=DATE:20221112
DTEND;VALUE=DATE:20221113
DTSTAMP:20260420T150227
CREATED:20220916T155641Z
LAST-MODIFIED:20221112T132616Z
UID:22723-1668211200-1668297599@abkcdogs.net
SUMMARY:ABKC Southeast Bully Spectacular
DESCRIPTION:Judges: TBA\, TBA\, TBA\, TBA \nAmerican Bully – Standard\, Pocket\, XL\, Classic\nAm Staff\nShortybull\nFrench Bulldog\nOlde English Bulldogge\nEnglish Bulldog\nJr Handler
URL:https://abkcdogs.net/events/abkc-southeast-bully-spectacular/
LOCATION:Osceola Heritage Park\, 1875 Silver Spur Ln\, Kissimmee\, FL\, 34744\, United States
ORGANIZER;CN="Robb Corn":MAILTO:robb30513@yahoo.com
END:VEVENT
BEGIN:VEVENT
DTSTART;VALUE=DATE:20221112
DTEND;VALUE=DATE:20221113
DTSTAMP:20260420T150227
CREATED:20220712T163305Z
LAST-MODIFIED:20221112T132323Z
UID:22222-1668211200-1668297599@abkcdogs.net
SUMMARY:Supa6 Bullies Presents War of the Bulls
DESCRIPTION:Judges: TBA\, TBA\, TBA\, TBA \nAmerican Bully- Standard\, Pocket\, XL\, Classic\nAPBT\nShortybull\nFrench Bulldog\nOlde English Bulldogge\nEnglish Bulldog\nJr Handler
URL:https://abkcdogs.net/events/supa6-bullies-presents-war-of-the-bulls/
LOCATION:York Expo Center\, 334 Carlisle Ave - Horticulture Building\, York\, PA\, 17404\, United States
ORGANIZER;CN="Mychael Brunson":MAILTO:supa6bullies@gmail.com
END:VEVENT
BEGIN:VEVENT
DTSTART;VALUE=DATE:20221112
DTEND;VALUE=DATE:20221113
DTSTAMP:20260420T150227
CREATED:20220712T152417Z
LAST-MODIFIED:20220712T154752Z
UID:22184-1668211200-1668297599@abkcdogs.net
SUMMARY:Oklahoma Bully Breed Expo 3
DESCRIPTION:Judges: TBA \nAmerican Bully – Standard\, Pocket\, XL\, Classic\nFrench Bulldog\nEnglish Bulldog\nOlde English Bulldog\nShortyBull\nJr Handler
URL:https://abkcdogs.net/events/oklahoma-bully-breed-expo-3/
LOCATION:Shawnee Expo Center\, 1700 W. Independence\, Shawnee\, OK\, 74802\, United States
END:VEVENT
BEGIN:VEVENT
DTSTART;VALUE=DATE:20221106
DTEND;VALUE=DATE:20221107
DTSTAMP:20260420T150227
CREATED:20220629T113449Z
LAST-MODIFIED:20220916T154407Z
UID:22175-1667692800-1667779199@abkcdogs.net
SUMMARY:1st Memorial Dan Boston Grand Prix Bully
DESCRIPTION:Judges: TBA & TBA \nAmerican Bully – Standard\, Pocket\, XL\, Classic
URL:https://abkcdogs.net/events/1st-memorial-dan-boston-grand-prix-bully/
LOCATION:Pontedera\, Pontedera\, 56016\, Italy
ORGANIZER;CN="Simona Poli":MAILTO:simonabullys@gmail.com
END:VEVENT
BEGIN:VEVENT
DTSTART;VALUE=DATE:20221105
DTEND;VALUE=DATE:20221107
DTSTAMP:20260420T150227
CREATED:20220712T161523Z
LAST-MODIFIED:20221026T133634Z
UID:22207-1667606400-1667779199@abkcdogs.net
SUMMARY:ABKC Hampton Roads Fall Classic 2022 - CANCELLED
DESCRIPTION:CANCELLED
URL:https://abkcdogs.net/events/abkc-hampton-roads-fall-classic-2022/
LOCATION:CANCELLED
ORGANIZER;CN="Rolando Mata":MAILTO:abkcseasonopener@gmail.com
END:VEVENT
BEGIN:VEVENT
DTSTART;VALUE=DATE:20221105
DTEND;VALUE=DATE:20221106
DTSTAMP:20260420T150227
CREATED:20220317T152252Z
LAST-MODIFIED:20220629T113711Z
UID:21151-1667606400-1667692799@abkcdogs.net
SUMMARY:ABKC Russia
DESCRIPTION:Judges: Damir Markov\, Anna Karuna \nAmerican Bully – Standard\, Pocket\, XL\, Classic
URL:https://abkcdogs.net/events/royal-bully-show/
LOCATION:St Petersburg\, 196140 Petersburg Hwy\, Saint Petersburg\, LO\, 190040\, Russian Federation
ORGANIZER;CN="Ekaterina Chirkova":MAILTO:bbkennel@yandex.ru
END:VEVENT
BEGIN:VEVENT
DTSTART;VALUE=DATE:20221030
DTEND;VALUE=DATE:20221031
DTSTAMP:20260420T150227
CREATED:20220916T160711Z
LAST-MODIFIED:20220916T160715Z
UID:22731-1667088000-1667174399@abkcdogs.net
SUMMARY:Caribbean Summer Show ABKC
DESCRIPTION:Judges: Chris White\, Juan Cortes\, TBA \nAmerican Bully – Standard\, Pocket\, XL\, Classic\nAPBT\nFrench Bulldog\nEnglish Bulldog\nDachshund\nTibetan Mastiff
URL:https://abkcdogs.net/events/caribbean-summer-show-abkc/
LOCATION:Mediterrane\, Calle 8 #13 - 175 Sabanilla\, Puerto Colombia-Barranquilla\, Colombia
ORGANIZER;CN="Edilberto Martinez":MAILTO:abkccolombia1@gmail.com
END:VEVENT
BEGIN:VEVENT
DTSTART;VALUE=DATE:20221029
DTEND;VALUE=DATE:20221030
DTSTAMP:20260420T150227
CREATED:20220330T133413Z
LAST-MODIFIED:20220801T121015Z
UID:21354-1667001600-1667087999@abkcdogs.net
SUMMARY:Howl-O-Ween Showdown
DESCRIPTION:Judges: Ryan McCawley\, Brian Peterson\, Alex Perez\, Jonathan Lugo \nAmerican Bully – Standard\, Pocket\, Xl\, Classic\nShortybull\nFrench Bulldog
URL:https://abkcdogs.net/events/howl-o-ween-showdown/
LOCATION:Rohr Park\, 4548 Sweetwater Rd (#18 Ballfield Infield)\, Bonita\, CA\, 91902\, United States
ORGANIZER;CN="Vanessa Cuevas":MAILTO:vanessac1976@gmail.com
END:VEVENT
BEGIN:VEVENT
DTSTART;VALUE=DATE:20221029
DTEND;VALUE=DATE:20221030
DTSTAMP:20260420T150227
CREATED:20220201T154517Z
LAST-MODIFIED:20220415T115917Z
UID:20798-1667001600-1667087999@abkcdogs.net
SUMMARY:Superior Bullys - Bullys in the Boro IV
DESCRIPTION:Judges:\nTBA\, TBA\, TBA\, TBA \nBreeds:\nAmerican Bully – Standard\, Pocket\, XL\, Classic\nAPBT\nShortybull\nFrench Bulldog\nEnglish Bulldog\nOlde English Bulldogge
URL:https://abkcdogs.net/events/superior-bullys-bullys-in-the-boro-iv/
LOCATION:Bulloch County Agriculture Complex\, 44 Arena Blvd\, Statesboro\, GA\, 30458\, United States
ORGANIZER;CN="Leigh Ann Durrence":MAILTO:lateach_2000@yahoo.com
END:VEVENT
BEGIN:VEVENT
DTSTART;VALUE=DATE:20221022
DTEND;VALUE=DATE:20221024
DTSTAMP:20260420T150227
CREATED:20221017T132448Z
LAST-MODIFIED:20221017T133526Z
UID:22773-1666396800-1666569599@abkcdogs.net
SUMMARY:Maskoteka ABKC
DESCRIPTION:2 Day Event \nJudges: Ragim Simone\, Errol Bodden\, Monsorat McField\, Damir Markov\, Juan Cortez \nAmerican Bully – Standard\, Pocket\, XL\, Classic\nFrench Bulldog\nEnglish Bulldog\nDachshund\nTibetan Mastiff
URL:https://abkcdogs.net/events/maskoteka-abkc/
LOCATION:Lima\, Lima\, Peru
ORGANIZER;CN="Javier Zabaleta":MAILTO:abkccolombia1@gmail.com
END:VEVENT
BEGIN:VEVENT
DTSTART;VALUE=DATE:20221015
DTEND;VALUE=DATE:20221016
DTSTAMP:20260420T150227
CREATED:20220824T144645Z
LAST-MODIFIED:20220824T144647Z
UID:22638-1665792000-1665878399@abkcdogs.net
SUMMARY:ABKC Russia
DESCRIPTION:Judges: Maria Pulina & Anna Karyna \nAmerican Bully – Standard\, Pocket\, XL\, Classic
URL:https://abkcdogs.net/events/abkc-russia-3/
LOCATION:Ekaterinburg\, Russian Federation
END:VEVENT
BEGIN:VEVENT
DTSTART;VALUE=DATE:20221015
DTEND;VALUE=DATE:20221016
DTSTAMP:20260420T150227
CREATED:20220607T132258Z
LAST-MODIFIED:20220607T132309Z
UID:21874-1665792000-1665878399@abkcdogs.net
SUMMARY:Bully Breed Festival
DESCRIPTION:Judges: Nico Van Deijzen & William Ogren \nAmerican Bully – Standard\, Pocket\, XL\, Classic\nJr Handler
URL:https://abkcdogs.net/events/bully-breed-festival/
LOCATION:Metrotent\, Pasig City\, Philippines
ORGANIZER;CN="Christian Jeus Gonzales":MAILTO:cj_jeus@yahoo.com
END:VEVENT
BEGIN:VEVENT
DTSTART;VALUE=DATE:20221015
DTEND;VALUE=DATE:20221016
DTSTAMP:20260420T150227
CREATED:20220302T161747Z
LAST-MODIFIED:20220916T154710Z
UID:21044-1665792000-1665878399@abkcdogs.net
SUMMARY:Northeast Bully Reunion 4
DESCRIPTION:Judges: TBA\, TBA\, TBA\, TBA \nAmerican Bully – Standard\, Pocket\, XL\, Classic\nShortybull\nFrench Bulldog\nEnglish Bulldog\nOlde English Bulldogge\nJr Handlers
URL:https://abkcdogs.net/events/northeast-bully-reunion-4/
LOCATION:Salem County Fairgrounds\, 735 Harding Hwy\, Pilesgrove\, NJ\, 08098\, United States
ORGANIZER;CN="Latasha Quevedo":MAILTO:loyaltyloverespect@yahoo.com
END:VEVENT
END:VCALENDAR