BEGIN:VCALENDAR
VERSION:2.0
PRODID:-//THE AMERICAN BULLY KENNEL CLUB - ECPv6.15.18//NONSGML v1.0//EN
CALSCALE:GREGORIAN
METHOD:PUBLISH
X-WR-CALNAME:THE AMERICAN BULLY KENNEL CLUB
X-ORIGINAL-URL:https://abkcdogs.net
X-WR-CALDESC:Events for THE AMERICAN BULLY KENNEL CLUB
REFRESH-INTERVAL;VALUE=DURATION:PT1H
X-Robots-Tag:noindex
X-PUBLISHED-TTL:PT1H
BEGIN:VTIMEZONE
TZID:America/New_York
BEGIN:DAYLIGHT
TZOFFSETFROM:-0500
TZOFFSETTO:-0400
TZNAME:EDT
DTSTART:20210314T070000
END:DAYLIGHT
BEGIN:STANDARD
TZOFFSETFROM:-0400
TZOFFSETTO:-0500
TZNAME:EST
DTSTART:20211107T060000
END:STANDARD
BEGIN:DAYLIGHT
TZOFFSETFROM:-0500
TZOFFSETTO:-0400
TZNAME:EDT
DTSTART:20220313T070000
END:DAYLIGHT
BEGIN:STANDARD
TZOFFSETFROM:-0400
TZOFFSETTO:-0500
TZNAME:EST
DTSTART:20221106T060000
END:STANDARD
BEGIN:DAYLIGHT
TZOFFSETFROM:-0500
TZOFFSETTO:-0400
TZNAME:EDT
DTSTART:20230312T070000
END:DAYLIGHT
BEGIN:STANDARD
TZOFFSETFROM:-0400
TZOFFSETTO:-0500
TZNAME:EST
DTSTART:20231105T060000
END:STANDARD
END:VTIMEZONE
BEGIN:VEVENT
DTSTART;VALUE=DATE:20221112
DTEND;VALUE=DATE:20221113
DTSTAMP:20260421T003759
CREATED:20220712T152417Z
LAST-MODIFIED:20220712T154752Z
UID:22184-1668211200-1668297599@abkcdogs.net
SUMMARY:Oklahoma Bully Breed Expo 3
DESCRIPTION:Judges: TBA \nAmerican Bully – Standard\, Pocket\, XL\, Classic\nFrench Bulldog\nEnglish Bulldog\nOlde English Bulldog\nShortyBull\nJr Handler
URL:https://abkcdogs.net/events/oklahoma-bully-breed-expo-3/
LOCATION:Shawnee Expo Center\, 1700 W. Independence\, Shawnee\, OK\, 74802\, United States
END:VEVENT
BEGIN:VEVENT
DTSTART;VALUE=DATE:20221106
DTEND;VALUE=DATE:20221107
DTSTAMP:20260421T003759
CREATED:20220629T113449Z
LAST-MODIFIED:20220916T154407Z
UID:22175-1667692800-1667779199@abkcdogs.net
SUMMARY:1st Memorial Dan Boston Grand Prix Bully
DESCRIPTION:Judges: TBA & TBA \nAmerican Bully – Standard\, Pocket\, XL\, Classic
URL:https://abkcdogs.net/events/1st-memorial-dan-boston-grand-prix-bully/
LOCATION:Pontedera\, Pontedera\, 56016\, Italy
ORGANIZER;CN="Simona Poli":MAILTO:simonabullys@gmail.com
END:VEVENT
BEGIN:VEVENT
DTSTART;VALUE=DATE:20221105
DTEND;VALUE=DATE:20221107
DTSTAMP:20260421T003759
CREATED:20220712T161523Z
LAST-MODIFIED:20221026T133634Z
UID:22207-1667606400-1667779199@abkcdogs.net
SUMMARY:ABKC Hampton Roads Fall Classic 2022 - CANCELLED
DESCRIPTION:CANCELLED
URL:https://abkcdogs.net/events/abkc-hampton-roads-fall-classic-2022/
LOCATION:CANCELLED
ORGANIZER;CN="Rolando Mata":MAILTO:abkcseasonopener@gmail.com
END:VEVENT
BEGIN:VEVENT
DTSTART;VALUE=DATE:20221105
DTEND;VALUE=DATE:20221106
DTSTAMP:20260421T003759
CREATED:20220317T152252Z
LAST-MODIFIED:20220629T113711Z
UID:21151-1667606400-1667692799@abkcdogs.net
SUMMARY:ABKC Russia
DESCRIPTION:Judges: Damir Markov\, Anna Karuna \nAmerican Bully – Standard\, Pocket\, XL\, Classic
URL:https://abkcdogs.net/events/royal-bully-show/
LOCATION:St Petersburg\, 196140 Petersburg Hwy\, Saint Petersburg\, LO\, 190040\, Russian Federation
ORGANIZER;CN="Ekaterina Chirkova":MAILTO:bbkennel@yandex.ru
END:VEVENT
BEGIN:VEVENT
DTSTART;VALUE=DATE:20221030
DTEND;VALUE=DATE:20221031
DTSTAMP:20260421T003759
CREATED:20220916T160711Z
LAST-MODIFIED:20220916T160715Z
UID:22731-1667088000-1667174399@abkcdogs.net
SUMMARY:Caribbean Summer Show ABKC
DESCRIPTION:Judges: Chris White\, Juan Cortes\, TBA \nAmerican Bully – Standard\, Pocket\, XL\, Classic\nAPBT\nFrench Bulldog\nEnglish Bulldog\nDachshund\nTibetan Mastiff
URL:https://abkcdogs.net/events/caribbean-summer-show-abkc/
LOCATION:Mediterrane\, Calle 8 #13 - 175 Sabanilla\, Puerto Colombia-Barranquilla\, Colombia
ORGANIZER;CN="Edilberto Martinez":MAILTO:abkccolombia1@gmail.com
END:VEVENT
BEGIN:VEVENT
DTSTART;VALUE=DATE:20221029
DTEND;VALUE=DATE:20221030
DTSTAMP:20260421T003759
CREATED:20220330T133413Z
LAST-MODIFIED:20220801T121015Z
UID:21354-1667001600-1667087999@abkcdogs.net
SUMMARY:Howl-O-Ween Showdown
DESCRIPTION:Judges: Ryan McCawley\, Brian Peterson\, Alex Perez\, Jonathan Lugo \nAmerican Bully – Standard\, Pocket\, Xl\, Classic\nShortybull\nFrench Bulldog
URL:https://abkcdogs.net/events/howl-o-ween-showdown/
LOCATION:Rohr Park\, 4548 Sweetwater Rd (#18 Ballfield Infield)\, Bonita\, CA\, 91902\, United States
ORGANIZER;CN="Vanessa Cuevas":MAILTO:vanessac1976@gmail.com
END:VEVENT
BEGIN:VEVENT
DTSTART;VALUE=DATE:20221029
DTEND;VALUE=DATE:20221030
DTSTAMP:20260421T003759
CREATED:20220201T154517Z
LAST-MODIFIED:20220415T115917Z
UID:20798-1667001600-1667087999@abkcdogs.net
SUMMARY:Superior Bullys - Bullys in the Boro IV
DESCRIPTION:Judges:\nTBA\, TBA\, TBA\, TBA \nBreeds:\nAmerican Bully – Standard\, Pocket\, XL\, Classic\nAPBT\nShortybull\nFrench Bulldog\nEnglish Bulldog\nOlde English Bulldogge
URL:https://abkcdogs.net/events/superior-bullys-bullys-in-the-boro-iv/
LOCATION:Bulloch County Agriculture Complex\, 44 Arena Blvd\, Statesboro\, GA\, 30458\, United States
ORGANIZER;CN="Leigh Ann Durrence":MAILTO:lateach_2000@yahoo.com
END:VEVENT
BEGIN:VEVENT
DTSTART;VALUE=DATE:20221022
DTEND;VALUE=DATE:20221024
DTSTAMP:20260421T003759
CREATED:20221017T132448Z
LAST-MODIFIED:20221017T133526Z
UID:22773-1666396800-1666569599@abkcdogs.net
SUMMARY:Maskoteka ABKC
DESCRIPTION:2 Day Event \nJudges: Ragim Simone\, Errol Bodden\, Monsorat McField\, Damir Markov\, Juan Cortez \nAmerican Bully – Standard\, Pocket\, XL\, Classic\nFrench Bulldog\nEnglish Bulldog\nDachshund\nTibetan Mastiff
URL:https://abkcdogs.net/events/maskoteka-abkc/
LOCATION:Lima\, Lima\, Peru
ORGANIZER;CN="Javier Zabaleta":MAILTO:abkccolombia1@gmail.com
END:VEVENT
BEGIN:VEVENT
DTSTART;VALUE=DATE:20221015
DTEND;VALUE=DATE:20221016
DTSTAMP:20260421T003759
CREATED:20220824T144645Z
LAST-MODIFIED:20220824T144647Z
UID:22638-1665792000-1665878399@abkcdogs.net
SUMMARY:ABKC Russia
DESCRIPTION:Judges: Maria Pulina & Anna Karyna \nAmerican Bully – Standard\, Pocket\, XL\, Classic
URL:https://abkcdogs.net/events/abkc-russia-3/
LOCATION:Ekaterinburg\, Russian Federation
END:VEVENT
BEGIN:VEVENT
DTSTART;VALUE=DATE:20221015
DTEND;VALUE=DATE:20221016
DTSTAMP:20260421T003759
CREATED:20220607T132258Z
LAST-MODIFIED:20220607T132309Z
UID:21874-1665792000-1665878399@abkcdogs.net
SUMMARY:Bully Breed Festival
DESCRIPTION:Judges: Nico Van Deijzen & William Ogren \nAmerican Bully – Standard\, Pocket\, XL\, Classic\nJr Handler
URL:https://abkcdogs.net/events/bully-breed-festival/
LOCATION:Metrotent\, Pasig City\, Philippines
ORGANIZER;CN="Christian Jeus Gonzales":MAILTO:cj_jeus@yahoo.com
END:VEVENT
BEGIN:VEVENT
DTSTART;VALUE=DATE:20221015
DTEND;VALUE=DATE:20221016
DTSTAMP:20260421T003759
CREATED:20220302T161747Z
LAST-MODIFIED:20220916T154710Z
UID:21044-1665792000-1665878399@abkcdogs.net
SUMMARY:Northeast Bully Reunion 4
DESCRIPTION:Judges: TBA\, TBA\, TBA\, TBA \nAmerican Bully – Standard\, Pocket\, XL\, Classic\nShortybull\nFrench Bulldog\nEnglish Bulldog\nOlde English Bulldogge\nJr Handlers
URL:https://abkcdogs.net/events/northeast-bully-reunion-4/
LOCATION:Salem County Fairgrounds\, 735 Harding Hwy\, Pilesgrove\, NJ\, 08098\, United States
ORGANIZER;CN="Latasha Quevedo":MAILTO:loyaltyloverespect@yahoo.com
END:VEVENT
BEGIN:VEVENT
DTSTART;VALUE=DATE:20221009
DTEND;VALUE=DATE:20221010
DTSTAMP:20260421T003759
CREATED:20221002T124308Z
LAST-MODIFIED:20221002T124315Z
UID:22755-1665273600-1665359999@abkcdogs.net
SUMMARY:ABKC Thailand Strong
DESCRIPTION:Judge: John Enerva \nAmerican Bully  Standard\, Pocket\, XL\, Classic
URL:https://abkcdogs.net/events/abkc-thailand-strong/
LOCATION:Bangkok\, Bangkok\, Thailand
ORGANIZER;CN="Apinya Anukularmphai":MAILTO:apinyatig@gmail.com
END:VEVENT
BEGIN:VEVENT
DTSTART;VALUE=DATE:20221009
DTEND;VALUE=DATE:20221010
DTSTAMP:20260421T003759
CREATED:20220531T192828Z
LAST-MODIFIED:20220801T120626Z
UID:21861-1665273600-1665359999@abkcdogs.net
SUMMARY:ABKC Bully Explosion Australia
DESCRIPTION:Judges: Cindy Mccloskey\, Regina Goins \nAmerican Bully – Standard\, Pocket\, XL\, Classic\nFrench Bulldog\nEnglish Bulldog\nAmerican Bulldog\nBull Terrier\nSave-A-Bully\nJunior Handler
URL:https://abkcdogs.net/events/abkc-bully-explosion-australia/
LOCATION:Australia\, 443 Smithfield Road\, Prairiewood\, NSW\, 2176\, Australia
END:VEVENT
BEGIN:VEVENT
DTSTART;VALUE=DATE:20221008
DTEND;VALUE=DATE:20221009
DTSTAMP:20260421T003759
CREATED:20220920T125511Z
LAST-MODIFIED:20220920T125632Z
UID:22744-1665187200-1665273599@abkcdogs.net
SUMMARY:10th Bully Show
DESCRIPTION:Judges: Bart De Croo & Adrian Stoian \nAmerican Bully – Standard\, Pocket\, XL\, Classic\nFrench Bulldog
URL:https://abkcdogs.net/events/10th-bully-show/
LOCATION:Fuente El Saz de Jarama\, Madrid\, 28140\, Spain
ORGANIZER;CN="William Ogren":MAILTO:williamogren@hotmail.com
END:VEVENT
BEGIN:VEVENT
DTSTART;VALUE=DATE:20221008
DTEND;VALUE=DATE:20221009
DTSTAMP:20260421T003759
CREATED:20220712T154700Z
LAST-MODIFIED:20220712T154706Z
UID:22193-1665187200-1665273599@abkcdogs.net
SUMMARY:ABKC Rocky Mountain Classic
DESCRIPTION:Judges: Tony Gold\, TBA\, TBA\, TBA \nAmerican Bully – Standard\, Pocket\, XL\, Classic\nShortybull\nFrench Bulldog\nEnglish Bulldog\nBoston Terrier\nTibetan Mastiff\nJr Handler
URL:https://abkcdogs.net/events/abkc-rocky-mountain-classic/
LOCATION:El Paso County Fairgrounds\, 366 10th Street\, Calhan\, CO\, 80808\, United States
END:VEVENT
BEGIN:VEVENT
DTSTART;VALUE=DATE:20221002
DTEND;VALUE=DATE:20221003
DTSTAMP:20260421T003759
CREATED:20220920T125152Z
LAST-MODIFIED:20220920T125159Z
UID:22739-1664668800-1664755199@abkcdogs.net
SUMMARY:Keen Bully Show
DESCRIPTION:Judges: Mauricio Campas\, Pablo Liceran\, Daniel Pineiro \nAmerican Bully – Standard\, Classic\, Pocket\, XL\nAPBT\nFrench Bulldog\nEnglish Bulldog\nDachshund
URL:https://abkcdogs.net/events/keen-bully-show/
LOCATION:San Carlos S/N\, San Carlos S/N\, Carlos Keen\, Lujan\, 6701\, Argentina
ORGANIZER;CN="Adrian Capaldi":MAILTO:adriancapaldi1@hotmail.com
END:VEVENT
BEGIN:VEVENT
DTSTART;VALUE=DATE:20221001
DTEND;VALUE=DATE:20221003
DTSTAMP:20260421T003759
CREATED:20220302T163926Z
LAST-MODIFIED:20220607T131936Z
UID:21047-1664582400-1664755199@abkcdogs.net
SUMMARY:Dracula Bully Marathon
DESCRIPTION:2 Day Event\nJudges: TBA\, TBA\, TBA\, TBA \nAmerican Bully- Standard\, Pocket\, XL\, Classic\nShortybull\nOlde English Bulldogge
URL:https://abkcdogs.net/events/dracula-bully-marathon-2/
LOCATION:Biarena Complex\, Jud. Timis\, Loc. Sanandrei\, Romania
ORGANIZER;CN="Adrian Stoian":MAILTO:adrian.stoian@abkc.ro
END:VEVENT
BEGIN:VEVENT
DTSTART;VALUE=DATE:20221001
DTEND;VALUE=DATE:20221002
DTSTAMP:20260421T003759
CREATED:20220302T165214Z
LAST-MODIFIED:20220815T193245Z
UID:21049-1664582400-1664668799@abkcdogs.net
SUMMARY:ABKC Birmingham Bully Stampede
DESCRIPTION:Judges: TBA\, TBA\, TBA\, TBA \nAmerican Bully – Standard\, Pocket\, XL\, Classic\nShortybull\nFrench Bulldog\nOlde English Bulldogge\nEnglish Bulldog\nJr Handler
URL:https://abkcdogs.net/events/abkc-birmingham-bully-stampede/
LOCATION:BJCC – Birmingham Jefferson Convention Complex\, 1 Richard Arrington Jr Blvd N\, Birmingham\, AL\, 35203\, United States
ORGANIZER;CN="Robb Corn":MAILTO:robb30513@yahoo.com
END:VEVENT
BEGIN:VEVENT
DTSTART;VALUE=DATE:20220924
DTEND;VALUE=DATE:20220926
DTSTAMP:20260421T003759
CREATED:20220916T160154Z
LAST-MODIFIED:20220916T160203Z
UID:22726-1663977600-1664150399@abkcdogs.net
SUMMARY:Copa Inca
DESCRIPTION:2 Day Event \nJudges: Mauricio Campas\, Juan Cortes\, Alex Acevedo\, TBA\, TBA \nAmerican Bully – Standard\, Pocket\, XL\, Classic\nAPBT\nFrench Bulldog\nEnglish Bulldog\nDachshund\nTibetan Mastiff
URL:https://abkcdogs.net/events/copa-inca/
LOCATION:Trujillo\, Peru
ORGANIZER;CN="Ethan Cuevas":MAILTO:abkccolombia1@gmail.com
END:VEVENT
BEGIN:VEVENT
DTSTART;VALUE=DATE:20220924
DTEND;VALUE=DATE:20220925
DTSTAMP:20260421T003759
CREATED:20220607T134035Z
LAST-MODIFIED:20220607T134042Z
UID:21883-1663977600-1664063999@abkcdogs.net
SUMMARY:Bully Show in Russia
DESCRIPTION:Judges: Damir Markov & Mariya Pylina \nAmerican Bully – Standard\, Pocket\, XL\, Classic
URL:https://abkcdogs.net/events/bully-show-in-russia-2/
LOCATION:Novosibirsk\, Novosibirsk\, Russian Federation
END:VEVENT
BEGIN:VEVENT
DTSTART;VALUE=DATE:20220917
DTEND;VALUE=DATE:20220919
DTSTAMP:20260421T003759
CREATED:20220808T182018Z
LAST-MODIFIED:20220808T182023Z
UID:22458-1663372800-1663545599@abkcdogs.net
SUMMARY:Maya Bully Fest Fiesta Del Mayab
DESCRIPTION:2 Day Show \nJudges: Quiti Rodriguez\, John Certeza\, John Roneker\, Juan Cortes\, Nico Christino \nAmerican Bully – Standard\, Pocket\, XL\, Classic\nFrench Bulldog\nBull Terrier
URL:https://abkcdogs.net/events/maya-bully-fest-fiesta-del-mayab/
LOCATION:Merida\, Merida\, Yucatan\, Mexico
ORGANIZER;CN="Manuel Del Carmen Chi Chable":MAILTO:manuelchable1974@hotmail.com
END:VEVENT
BEGIN:VEVENT
DTSTART;VALUE=DATE:20220917
DTEND;VALUE=DATE:20220918
DTSTAMP:20260421T003759
CREATED:20220427T142208Z
LAST-MODIFIED:20220427T142211Z
UID:21694-1663372800-1663459199@abkcdogs.net
SUMMARY:Supa6 Bullies ABKC Bulltember
DESCRIPTION:Judges: Lou Manipon\, TBA\, TBA\, TBA \nAmerican Bully – Standard\, Pocket\, XL\, Classic\nFrench Bulldog\nOlde English Bulldogge\nEnglish Bulldog\nJr. Handler
URL:https://abkcdogs.net/events/supa6-bullies-abkc-bulltember/
LOCATION:C3 Sports Complex\, 200 Ellis Place\, State College\, PA\, 16801\, United States
ORGANIZER;CN="Mychael Brunson":MAILTO:supa6bullies@gmail.com
END:VEVENT
BEGIN:VEVENT
DTSTART;VALUE=DATE:20220917
DTEND;VALUE=DATE:20220918
DTSTAMP:20260421T003759
CREATED:20220201T190817Z
LAST-MODIFIED:20220801T120742Z
UID:20854-1663372800-1663459199@abkcdogs.net
SUMMARY:IL Bully Jamboree
DESCRIPTION:POSTPONED
URL:https://abkcdogs.net/events/il-bully-jamboree/
LOCATION:Postedponed
ORGANIZER;CN="Regina Goins":MAILTO:abkcregina@gmail.com
END:VEVENT
BEGIN:VEVENT
DTSTART;VALUE=DATE:20220917
DTEND;VALUE=DATE:20220918
DTSTAMP:20260421T003759
CREATED:20220201T190334Z
LAST-MODIFIED:20220916T153110Z
UID:20851-1663372800-1663459199@abkcdogs.net
SUMMARY:Tournament of Champions American Bully Show
DESCRIPTION:Judges: Bryan Romero\, Brooke Romero\, Cindy McCloskey\, Anthony Villareal \nAmerican Bully- Standard\, Pocket\, XL\, Classic\nAPBT\nAm Staff\nShortybull\nFrench Bulldog\nEnglish Bulldog\nOlde English Bulldog\nJr Handler
URL:https://abkcdogs.net/events/vegas-bully-classic-ii/
LOCATION:Santa Fe Hotel & Casino\, 4949 N Rancho Dr\, Las Vegas\, NV\, 89130\, United States
END:VEVENT
BEGIN:VEVENT
DTSTART;VALUE=DATE:20220917
DTEND;VALUE=DATE:20220918
DTSTAMP:20260421T003759
CREATED:20220201T153840Z
LAST-MODIFIED:20220415T120242Z
UID:20792-1663372800-1663459199@abkcdogs.net
SUMMARY:Bohemia Show
DESCRIPTION:For More Information:\n42 0725423044\nabkccz@gmail.com \nJudges: Ragim Magh & Bart De Croo\nAmerican Bully – Standard\, Pocket\, XL\, Classic
URL:https://abkcdogs.net/events/bohemia-show-2/
LOCATION:Vystaviste Kromeriz\, Kromeriz\, 76701\, Czech Republic
ORGANIZER;CN="Marketa Schwalbe":MAILTO:abkccz@gmail.com
END:VEVENT
BEGIN:VEVENT
DTSTART;VALUE=DATE:20220910
DTEND;VALUE=DATE:20220912
DTSTAMP:20260421T003759
CREATED:20220531T191503Z
LAST-MODIFIED:20220531T191507Z
UID:21852-1662768000-1662940799@abkcdogs.net
SUMMARY:ABKC Holland 2022
DESCRIPTION:This is a 2 day show\nSept 10 & 11\, 2022 \nJudges: Ivan Miron\, Monsorat McField\, Rolando Mata\, TBA \nAmerican Bully – Standard\, Pocket\, XL\, Classic
URL:https://abkcdogs.net/events/abkc-holland-2022/
LOCATION:Sporthal 1\, Lekdijk oost 15A\, Wijk bij duurstede\, 3961\, Netherlands
ORGANIZER;CN="Edwin Handigman":MAILTO:pvt1983@hotmail.com
END:VEVENT
BEGIN:VEVENT
DTSTART;VALUE=DATE:20220910
DTEND;VALUE=DATE:20220911
DTSTAMP:20260421T003759
CREATED:20220427T140643Z
LAST-MODIFIED:20220427T140645Z
UID:21686-1662768000-1662854399@abkcdogs.net
SUMMARY:Houston Bullyrade
DESCRIPTION:Judges: TBA\, TBA\, TBA\, TBA \nAmerican Bully – Standard\, Pocket\, XL\, Classic\nShortybull\nFrench Bulldog\nOlde English Bulldogge\nEnglish Bulldog\nJr Handler
URL:https://abkcdogs.net/events/houston-bullyrade/
LOCATION:Pasadena Convention Center\, 7902 Fairmont Parkway\, Pasadena\, TX\, 77507\, United States
ORGANIZER;CN="Robb Corn":MAILTO:robb30513@yahoo.com
END:VEVENT
BEGIN:VEVENT
DTSTART;VALUE=DATE:20220904
DTEND;VALUE=DATE:20220905
DTSTAMP:20260421T003800
CREATED:20220815T190713Z
LAST-MODIFIED:20220815T192658Z
UID:22560-1662249600-1662335999@abkcdogs.net
SUMMARY:Independencia Show Guatemala
DESCRIPTION:Judges: Alex Perez & Juan Cortez \nAmerican Bully – Standard\, XL\, Pocket\, Classic\nAPBT\nFrench Bulldog\nEnglish Bulldog\nDogo Guatemalteco
URL:https://abkcdogs.net/events/independencia-show-guatemala/
LOCATION:Parque de la Industria Salon 10\, Guatemala
ORGANIZER;CN="Eddie Gaitan":MAILTO:abkcguatemala@gmail.com
END:VEVENT
BEGIN:VEVENT
DTSTART;VALUE=DATE:20220903
DTEND;VALUE=DATE:20220904
DTSTAMP:20260421T003800
CREATED:20220201T153624Z
LAST-MODIFIED:20220815T193148Z
UID:20787-1662163200-1662249599@abkcdogs.net
SUMMARY:Labor Day Bully Showcase II
DESCRIPTION:For More Information:\n510-435-7945\npearlinabodden@gmail.com \nJudges: TBA\, TBA\, TBA\, TBA\nAmerican Bully – Standard\, Pocket\, XL\, Classic\nAPBT\nShortybull\nFrench Bulldog\nEnglish Bulldog\nOlde English Bulldogge
URL:https://abkcdogs.net/events/labor-day-bully-showcase-ii/
LOCATION:Columbus Trade & Convention Center\, 801 Front Ave\, Columbus\, GA\, 31901\, United States
ORGANIZER;CN="Pearlina Bodden":MAILTO:pearlinabodden@gmail.com
END:VEVENT
BEGIN:VEVENT
DTSTART;VALUE=DATE:20220828
DTEND;VALUE=DATE:20220829
DTSTAMP:20260421T003800
CREATED:20220408T192323Z
LAST-MODIFIED:20220615T130707Z
UID:21435-1661644800-1661731199@abkcdogs.net
SUMMARY:CeBully Mania: Come out and Play
DESCRIPTION:Judges: Ragim Magh & Monsorat McField \nAmerican Bully – Standard\, Pocket\, XL\, Classic
URL:https://abkcdogs.net/events/cebully-mania-come-out-and-play/
LOCATION:IC3 Convention Center\, 23 Minore Park\, Pope John Paul II Avenue corner Cardinal Rosales Avenue\, Cebu City\, Brgy.Luz
ORGANIZER;CN="Jacques Angelvin Angel":MAILTO:khalvisbullies@gmail.com
END:VEVENT
END:VCALENDAR