BEGIN:VCALENDAR
VERSION:2.0
PRODID:-//THE AMERICAN BULLY KENNEL CLUB - ECPv6.15.18//NONSGML v1.0//EN
CALSCALE:GREGORIAN
METHOD:PUBLISH
X-ORIGINAL-URL:https://abkcdogs.net
X-WR-CALDESC:Events for THE AMERICAN BULLY KENNEL CLUB
REFRESH-INTERVAL;VALUE=DURATION:PT1H
X-Robots-Tag:noindex
X-PUBLISHED-TTL:PT1H
BEGIN:VTIMEZONE
TZID:America/New_York
BEGIN:DAYLIGHT
TZOFFSETFROM:-0500
TZOFFSETTO:-0400
TZNAME:EDT
DTSTART:20250309T070000
END:DAYLIGHT
BEGIN:STANDARD
TZOFFSETFROM:-0400
TZOFFSETTO:-0500
TZNAME:EST
DTSTART:20251102T060000
END:STANDARD
BEGIN:DAYLIGHT
TZOFFSETFROM:-0500
TZOFFSETTO:-0400
TZNAME:EDT
DTSTART:20260308T070000
END:DAYLIGHT
BEGIN:STANDARD
TZOFFSETFROM:-0400
TZOFFSETTO:-0500
TZNAME:EST
DTSTART:20261101T060000
END:STANDARD
BEGIN:DAYLIGHT
TZOFFSETFROM:-0500
TZOFFSETTO:-0400
TZNAME:EDT
DTSTART:20270314T070000
END:DAYLIGHT
BEGIN:STANDARD
TZOFFSETFROM:-0400
TZOFFSETTO:-0500
TZNAME:EST
DTSTART:20271107T060000
END:STANDARD
END:VTIMEZONE
BEGIN:VEVENT
DTSTART;VALUE=DATE:20260228
DTEND;VALUE=DATE:20260302
DTSTAMP:20260419T105656
CREATED:20260213T160036Z
LAST-MODIFIED:20260213T160759Z
UID:29358-1772236800-1772409599@abkcdogs.net
SUMMARY:Ro-ABKC-Mania
DESCRIPTION:2 Day Event\n8 Shows \nJudges: Rolando Mata\, Jamie Villagomez\, Cindy McCloskey\, Ivan Miron\, Adrian Stoian\, Ania Mermer-Wysocka\, Gavrilescu Razvan\, TBA \nAmerican Bully\nFrench Bulldog\nEnglish Bulldog\nShortybull
URL:https://abkcdogs.net/events/ro-abkc-mania-4/
LOCATION:Calea Timisorii\, Calea Timisorii\, Sanandrei\, Timis\, Romania
ORGANIZER;CN="Gabriel Paun":MAILTO:paunseditionkennel@gmail.com
END:VEVENT
BEGIN:VEVENT
DTSTART;VALUE=DATE:20260307
DTEND;VALUE=DATE:20260309
DTSTAMP:20260419T105656
CREATED:20260303T143402Z
LAST-MODIFIED:20260303T143405Z
UID:29572-1772841600-1773014399@abkcdogs.net
SUMMARY:Carolina Bully Classic 8
DESCRIPTION:2 Day Event\n6 Shows \nJudges: Lou Manipon\, Jamie Villagomez\, Chris Moore\, Gina Moore\, John Roneker\, Daniel Broggin \nAmerican Bully\nShortybull\nFrench Bulldog\nOlde English Bulldogge\nEnglish Bulldog\nPoodle\nCane Corso
URL:https://abkcdogs.net/events/carolina-bully-classic-8/
LOCATION:Bill Sapp Recreation Center\, 1100 N. Cedar Street\, Lumberton\, NC\, 28358\, United States
ATTACH;FMTTYPE=image/jpeg:https://abkcdogs.net/wp-content/uploads/2026/03/3.7-nc.jpg
ORGANIZER;CN="Anthony Gray":MAILTO:superiorbullykennel@yahoo.com
END:VEVENT
BEGIN:VEVENT
DTSTART;VALUE=DATE:20260308
DTEND;VALUE=DATE:20260309
DTSTAMP:20260419T105656
CREATED:20251022T160419Z
LAST-MODIFIED:20251022T160422Z
UID:28792-1772928000-1773014399@abkcdogs.net
SUMMARY:The Next Chapter - ABKC Australia Show 2026
DESCRIPTION:Judge: TBA \nAmerican Bully\nAm Staff\nFrench Bulldog\nEnglish Bulldog\nAmerican Bulldog\nPug\nJr Handler
URL:https://abkcdogs.net/events/the-next-chapter-abkc-australia-show-2026/
LOCATION:Distillery Road Market\, 124 Distillery Road\, Eagleby\, QLD\, 4207\, Australia
ATTACH;FMTTYPE=image/jpeg:https://abkcdogs.net/wp-content/uploads/2025/10/3.8.26-Austalia.jpeg
ORGANIZER;CN="Courtney Keymes":MAILTO:courtneykeymes9@gmail.com
END:VEVENT
BEGIN:VEVENT
DTSTART;VALUE=DATE:20260314
DTEND;VALUE=DATE:20260315
DTSTAMP:20260419T105656
CREATED:20251119T182227Z
LAST-MODIFIED:20260225T131258Z
UID:28981-1773446400-1773532799@abkcdogs.net
SUMMARY:ABKC Australia
DESCRIPTION:Judges: Alex Ferraro \nAmerican Bully\nAm Staff\nFrench Bulldog\nEnglish Bulldog\nAmerican Bulldog\nBull Terrier\nAussie Bulldog\nPug\nJr Handler
URL:https://abkcdogs.net/events/abkc-australia/
LOCATION:Richmond Race Track\, 312 Londonderry Rd\, Londonderry\, 2753\, Australia
END:VEVENT
BEGIN:VEVENT
DTSTART;VALUE=DATE:20260314
DTEND;VALUE=DATE:20260315
DTSTAMP:20260419T105656
CREATED:20251219T182843Z
LAST-MODIFIED:20251219T182914Z
UID:29055-1773446400-1773532799@abkcdogs.net
SUMMARY:Oklahoma Shamrock Bully Fest 4
DESCRIPTION:Judges: TBA\, TBA\, TBA\, TBA \nAmerican Bully\nFrench Bulldog\nShortybull\nEnglish Bulldog\nOlde English Bulldogge\nAPBT\nJr Handler
URL:https://abkcdogs.net/events/oklahoma-shamrock-bully-fest-4/
LOCATION:Shawnee Expo Center\, 1700 W. Independence\, Shawnee\, OK\, 74802\, United States
ATTACH;FMTTYPE=image/jpeg:https://abkcdogs.net/wp-content/uploads/2025/12/5.14.26-OK.jpg
END:VEVENT
BEGIN:VEVENT
DTSTART;VALUE=DATE:20260314
DTEND;VALUE=DATE:20260315
DTSTAMP:20260419T105656
CREATED:20260213T162750Z
LAST-MODIFIED:20260213T162750Z
UID:29378-1773446400-1773532799@abkcdogs.net
SUMMARY:MexicaliBully Show
DESCRIPTION:Judges:  Alex Perez\, Felix Betancourt\, Servin Villanueva \nAmerican Bully\nAPBT\nAM Staff\nShortybull\nFrench Bulldog\nEnglish Bulldog
URL:https://abkcdogs.net/events/mexicalibully-show/
LOCATION:Parque Vicente Guerrero\, Mexicali\, Mexico
ATTACH;FMTTYPE=image/jpeg:https://abkcdogs.net/wp-content/uploads/2026/02/show-mexicali.jpeg
ORGANIZER;CN="Roberto Garcia":MAILTO:mexicalibullyz@gmail.com
END:VEVENT
BEGIN:VEVENT
DTSTART;VALUE=DATE:20260314
DTEND;VALUE=DATE:20260316
DTSTAMP:20260419T105656
CREATED:20260224T152600Z
LAST-MODIFIED:20260224T152604Z
UID:29401-1773446400-1773619199@abkcdogs.net
SUMMARY:ABKC Medieval Bully Show
DESCRIPTION:2 Day Event\n4 Shows \nJudges: Edwin Vargas\, Mara de Boer\, Sergio Pelayo\, TBA \nAmerican Bully\nAPBT\nFrench Bulldog
URL:https://abkcdogs.net/events/abkc-medieval-bully-show/
LOCATION:Camino de Torralba de Oropessa S/N\, C. Ferial\, Oropesa\, Toledo\, 45560\, Spain
ATTACH;FMTTYPE=image/jpeg:https://abkcdogs.net/wp-content/uploads/2026/02/Medieval-Bully-Show.jpg
ORGANIZER;CN="Santiago Avila":MAILTO:williamogren@hotmail.com
END:VEVENT
BEGIN:VEVENT
DTSTART;VALUE=DATE:20260321
DTEND;VALUE=DATE:20260322
DTSTAMP:20260419T105656
CREATED:20250410T152854Z
LAST-MODIFIED:20250827T154629Z
UID:28003-1774051200-1774137599@abkcdogs.net
SUMMARY:ABKC Jacksonville Bully Showdown 6
DESCRIPTION:Judges: TBA\, TBA\, TBA\, TBA \nAmerican Bully\nShortybull\nFrench Bulldog\nJr Handler
URL:https://abkcdogs.net/events/abkc-jacksonville-bully-showdown-6/
LOCATION:Prime Osborn Convention Center\, 1000 Water Street\, Jacksonville\, FL\, 32204\, United States
ATTACH;FMTTYPE=image/jpeg:https://abkcdogs.net/wp-content/uploads/2025/04/jacksonville-26.jpeg
ORGANIZER;CN="Prie & Julian Roldan":MAILTO:prielifefit@gmail.com
END:VEVENT
BEGIN:VEVENT
DTSTART;VALUE=DATE:20260321
DTEND;VALUE=DATE:20260322
DTSTAMP:20260419T105656
CREATED:20260105T152341Z
LAST-MODIFIED:20260105T152411Z
UID:29137-1774051200-1774137599@abkcdogs.net
SUMMARY:ABKC Russia Show
DESCRIPTION:Judges: TBA\, TBA\, TBA \nAmerican Bully
URL:https://abkcdogs.net/events/abkc-russia-show-7/
LOCATION:Ekaterinburg\, Russian Federation
ATTACH;FMTTYPE=image/png:https://abkcdogs.net/wp-content/uploads/2026/01/3.1.26-Russia.png
END:VEVENT
BEGIN:VEVENT
DTSTART;VALUE=DATE:20260328
DTEND;VALUE=DATE:20260329
DTSTAMP:20260419T105656
CREATED:20260224T153100Z
LAST-MODIFIED:20260324T122920Z
UID:29408-1774656000-1774742399@abkcdogs.net
SUMMARY:Battle of the North
DESCRIPTION:Judges: TBA\, TBA\, TBA\, TBA \nAmerican Bully\nJr Handler
URL:https://abkcdogs.net/events/battle-of-the-north/
LOCATION:Lastvagen 9\, 247 64 Verberod\, Sweden
ATTACH;FMTTYPE=image/jpeg:https://abkcdogs.net/wp-content/uploads/2026/02/sweden-3.28.26.jpg
ORGANIZER;CN="Ahmad Zein":MAILTO:gizzearamis@icloud.com
END:VEVENT
BEGIN:VEVENT
DTSTART;VALUE=DATE:20260328
DTEND;VALUE=DATE:20260329
DTSTAMP:20260419T105656
CREATED:20260323T190153Z
LAST-MODIFIED:20260323T190216Z
UID:29684-1774656000-1774742399@abkcdogs.net
SUMMARY:Bulls & Brews III
DESCRIPTION:Judges: Susan Fedorsha\, Cindy McCloskey\, Vanessa Cuevas \nAmerican Bully\nFrench Bulldog
URL:https://abkcdogs.net/events/bulls-brews-iii/
LOCATION:Casey Moore Oyster House\, 850 S. Ash Ave.\, Tempe\, AZ\, 85281\, United States
ATTACH;FMTTYPE=image/jpeg:https://abkcdogs.net/wp-content/uploads/2026/03/3.28.26-az.jpg
END:VEVENT
BEGIN:VEVENT
DTSTART;VALUE=DATE:20260329
DTEND;VALUE=DATE:20260330
DTSTAMP:20260419T105656
CREATED:20260213T161211Z
LAST-MODIFIED:20260213T161211Z
UID:29364-1774742400-1774828799@abkcdogs.net
SUMMARY:Regionales ABKC 2026
DESCRIPTION:Judges: TBA\, TBA\, TBA \nAmerican Bully\nAPBT\nFrench Bulldog\nEnglish Bulldog\nDachshund\nNeapolitan Mastiff\nDoberman\nCane Corso
URL:https://abkcdogs.net/events/regionales-abkc-2026/
LOCATION:Centro De Eventos Autopista\, Calle 80\, Bogota\, Colombia
ATTACH;FMTTYPE=image/jpeg:https://abkcdogs.net/wp-content/uploads/2026/02/BANNER-COLOMBIA.jpeg
END:VEVENT
END:VCALENDAR