BEGIN:VCALENDAR
VERSION:2.0
PRODID:-//THE AMERICAN BULLY KENNEL CLUB - ECPv6.15.18//NONSGML v1.0//EN
CALSCALE:GREGORIAN
METHOD:PUBLISH
X-WR-CALNAME:THE AMERICAN BULLY KENNEL CLUB
X-ORIGINAL-URL:https://abkcdogs.net
X-WR-CALDESC:Events for THE AMERICAN BULLY KENNEL CLUB
REFRESH-INTERVAL;VALUE=DURATION:PT1H
X-Robots-Tag:noindex
X-PUBLISHED-TTL:PT1H
BEGIN:VTIMEZONE
TZID:America/New_York
BEGIN:DAYLIGHT
TZOFFSETFROM:-0500
TZOFFSETTO:-0400
TZNAME:EDT
DTSTART:20250309T070000
END:DAYLIGHT
BEGIN:STANDARD
TZOFFSETFROM:-0400
TZOFFSETTO:-0500
TZNAME:EST
DTSTART:20251102T060000
END:STANDARD
BEGIN:DAYLIGHT
TZOFFSETFROM:-0500
TZOFFSETTO:-0400
TZNAME:EDT
DTSTART:20260308T070000
END:DAYLIGHT
BEGIN:STANDARD
TZOFFSETFROM:-0400
TZOFFSETTO:-0500
TZNAME:EST
DTSTART:20261101T060000
END:STANDARD
BEGIN:DAYLIGHT
TZOFFSETFROM:-0500
TZOFFSETTO:-0400
TZNAME:EDT
DTSTART:20270314T070000
END:DAYLIGHT
BEGIN:STANDARD
TZOFFSETFROM:-0400
TZOFFSETTO:-0500
TZNAME:EST
DTSTART:20271107T060000
END:STANDARD
END:VTIMEZONE
BEGIN:VEVENT
DTSTART;VALUE=DATE:20260607
DTEND;VALUE=DATE:20260608
DTSTAMP:20260419T121448
CREATED:20260317T132335Z
LAST-MODIFIED:20260317T132337Z
UID:29649-1780790400-1780876799@abkcdogs.net
SUMMARY:ABKC Australia Sydney Spectacular
DESCRIPTION:Judge: TBA \nAmerican Bully\nFrench Bulldog\nEnglish Bulldog\nPug\nAussie Bulldog\nJr Handler
URL:https://abkcdogs.net/events/abkc-australia-sydney-spectacular/
LOCATION:Richmond Race Track\, 312 Londonderry Rd\, Londonderry\, 2753\, Australia
END:VEVENT
BEGIN:VEVENT
DTSTART;VALUE=DATE:20260620
DTEND;VALUE=DATE:20260621
DTSTAMP:20260419T121448
CREATED:20251002T163810Z
LAST-MODIFIED:20251002T163810Z
UID:28727-1781913600-1781999999@abkcdogs.net
SUMMARY:Allentown Bully Extravaganza 15
DESCRIPTION:Judges: TBA\, TBA\, TBA\, TBA \nAmerican Bully – Standard\, Pocket\, XL\, Classic\nShortybull\nFrench Bulldog\nOlde English Bulldogge\nEnglish Bulldog\nJr Handler
URL:https://abkcdogs.net/events/allentown-bully-extravaganza-15/
LOCATION:Allentown Fairgrounds\, Ag Hall - 302 N 17th Street\, Allentown\, PA\, 18102\, United States
END:VEVENT
BEGIN:VEVENT
DTSTART;VALUE=DATE:20260627
DTEND;VALUE=DATE:20260629
DTSTAMP:20260419T121448
CREATED:20260303T141554Z
LAST-MODIFIED:20260305T034916Z
UID:29568-1782518400-1782691199@abkcdogs.net
SUMMARY:Casino Moscow Show
DESCRIPTION:2 Day Event\n4 Shows \nJudges: TBA\, TBA\, TBA\, TBA \nAmerican Bully
URL:https://abkcdogs.net/events/casino-moscow-show/
LOCATION:Moscow\, 32\, km MKAD TD\, China Tawn\, Russian Federation
ATTACH;FMTTYPE=image/png:https://abkcdogs.net/wp-content/uploads/2026/03/Russia.png
END:VEVENT
END:VCALENDAR